BEGIN:VCALENDAR
VERSION:2.0
PRODID:-//Dalmatian Cultural Society - ECPv6.0.8//NONSGML v1.0//EN
CALSCALE:GREGORIAN
METHOD:PUBLISH
X-ORIGINAL-URL:https://www.dalmatian.org.nz
X-WR-CALDESC:Events for Dalmatian Cultural Society
REFRESH-INTERVAL;VALUE=DURATION:PT1H
X-Robots-Tag:noindex
X-PUBLISHED-TTL:PT1H
BEGIN:VTIMEZONE
TZID:Pacific/Auckland
BEGIN:STANDARD
TZOFFSETFROM:+1300
TZOFFSETTO:+1200
TZNAME:NZST
DTSTART:20260404T140000
END:STANDARD
BEGIN:DAYLIGHT
TZOFFSETFROM:+1200
TZOFFSETTO:+1300
TZNAME:NZDT
DTSTART:20260926T140000
END:DAYLIGHT
END:VTIMEZONE
BEGIN:VEVENT
DTSTART;TZID=Pacific/Auckland:20260305T190000
DTEND;TZID=Pacific/Auckland:20260305T200000
DTSTAMP:20260423T052505
CREATED:20260222T012520Z
LAST-MODIFIED:20260222T012520Z
UID:3646-1772737200-1772740800@www.dalmatian.org.nz
SUMMARY:DA&M Guest Speaker Alan Sumich
DESCRIPTION:
URL:https://www.dalmatian.org.nz/event/dam-guest-speaker-alan-sumich/
LOCATION:Dalmatian Cultural Society\, 10 New North Rd. Eden Terrace\, Auckland\, New Zealand
END:VEVENT
BEGIN:VEVENT
DTSTART;TZID=Pacific/Auckland:20260315T120000
DTEND;TZID=Pacific/Auckland:20260315T170000
DTSTAMP:20260423T052505
CREATED:20260122T010752Z
LAST-MODIFIED:20260211T193420Z
UID:3624-1773576000-1773594000@www.dalmatian.org.nz
SUMMARY:Dallies In the Valley
DESCRIPTION:Dallies in the Valley – A Celebration of Culture\, Food & Community\nAfter a six-year break\, Dallies in the Valley is finally back — and we’re coming home to Oratia School\, a place where many Dalmatians once attended… and many still do.\nJoin us for a joyful day celebrating Dalmatian heritage\, community and tradition\, set in the heart of the valley. This much-loved event brings together generations for great food\, music\, dancing and stories — whether you have Dalmatian roots or just love a good day out.\n What’s on the day:• Folklore dancing• Live music• Traditional Dalmatian food including lamb on the spit\, calamari and ćevapi• History and book stalls• A relaxed\, family-friendly atmosphere\nThis is a chance to reconnect\, reminisce\, and create new memories together — a true celebration of culture and community.\nWe can’t wait to welcome old friends and new faces back to the valley
URL:https://www.dalmatian.org.nz/event/dallies-in-the-valley-2/
LOCATION:Oratia District School\, 1 shaw road\, Auckland\, New Zealand
ATTACH;FMTTYPE=image/jpeg:https://www.dalmatian.org.nz/wp-content/uploads/2026/01/Dallys-in-the-valley.jpg
ORGANIZER;CN="Dalmatian%20Cultural%20Society":MAILTO:events.dallyclub@gmail.com
END:VEVENT
BEGIN:VEVENT
DTSTART;TZID=Pacific/Auckland:20260321T180000
DTEND;TZID=Pacific/Auckland:20260322T010000
DTSTAMP:20260423T052505
CREATED:20260211T193706Z
LAST-MODIFIED:20260211T193706Z
UID:3639-1774116000-1774141200@www.dalmatian.org.nz
SUMMARY:Vrgorska Večer.
DESCRIPTION:Back by special request\, following a very successful trip to New Zealand in 2017 – singers Mile Ivicevic and Teo Vuckovic return this time with additional pocket rocket entertainer\, Jelena\, who form Nash Band.  Direct from Croatia.\n\nWe’ve wined and dined to their music before and this coming autumn – Saturday 21st March 2026 our Society ballroom will be transformed for our always popular Vrgorska Večer.\n\nNash band will entertain us late into the night with a repertoire of popular songs from home\, ranging from traditional to pop\, rock music to love ballads\, songs from Dalmatia\, Croatia and the Balkans.\n\nIt will be an unforgettable night of:\n• Live music\n• Traditional food & drinks\n• Dancing & community celebration\n\nTickets will sell fast for this always popular event\, be sure to secure your ticket and add it to your 2026 calendar.   Get in early to avoid disappointment. Vidimo se uskoro u Dalmatinksi Klub.\n\nBOOK TICKETS 
URL:https://www.dalmatian.org.nz/event/vrgorska-vecer/
LOCATION:Dalmatian Cultural Society\, 10 New North Rd. Eden Terrace\, Auckland\, New Zealand
CATEGORIES:Concert,Dinner
ATTACH;FMTTYPE=image/png:https://www.dalmatian.org.nz/wp-content/uploads/2026/02/Nash-Band-promotional.jpg.png
ORGANIZER;CN="Dalmatian%20Cultural%20Society":MAILTO:events.dallyclub@gmail.com
END:VEVENT
END:VCALENDAR