BEGIN:VCALENDAR
VERSION:2.0
PRODID:-//Dalmatian Cultural Society - ECPv6.0.8//NONSGML v1.0//EN
CALSCALE:GREGORIAN
METHOD:PUBLISH
X-ORIGINAL-URL:https://www.dalmatian.org.nz
X-WR-CALDESC:Events for Dalmatian Cultural Society
REFRESH-INTERVAL;VALUE=DURATION:PT1H
X-Robots-Tag:noindex
X-PUBLISHED-TTL:PT1H
BEGIN:VTIMEZONE
TZID:Pacific/Auckland
BEGIN:STANDARD
TZOFFSETFROM:+1300
TZOFFSETTO:+1200
TZNAME:NZST
DTSTART:20250405T140000
END:STANDARD
BEGIN:DAYLIGHT
TZOFFSETFROM:+1200
TZOFFSETTO:+1300
TZNAME:NZDT
DTSTART:20250927T140000
END:DAYLIGHT
END:VTIMEZONE
BEGIN:VEVENT
DTSTART;TZID=Pacific/Auckland:20250914T103000
DTEND;TZID=Pacific/Auckland:20250914T183000
DTSTAMP:20260423T150312
CREATED:20250826T044343Z
LAST-MODIFIED:20250826T044343Z
UID:3471-1757845800-1757874600@www.dalmatian.org.nz
SUMMARY:Open Day
DESCRIPTION:You’re Invited! Celebrate Our Culture at the Dalmatian Cultural SocietyWe’re delighted to welcome you to the Dalmatian Cultural Society\,10 New North Road\, Eden Terrace\, Auckland.\nAs one of New Zealand’s oldest and most vibrant social and cultural societies\, we’re proud to share our rich heritage and warm community spirit with you.\n\nOn the day\, you can:\nExplore our fascinating Dalmatian Archive and MuseumStroll through the colourful Kolo Groups CorridorSavour a range of culinary delights — morning tea\, lunch\, afternoon tea\, and dinner will be availableWatch a special cooking demonstration at 1:00 pmEnjoy the lively music\, song\, and dance of our Folklore Concert at 2:00 pmCome and experience a day filled with tradition\, flavour\, and celebration.We look forward to sharing our culture with you!
URL:https://www.dalmatian.org.nz/event/open-day-6/
LOCATION:Dalmatian Cultural Society\, 10 New North Rd. Eden Terrace\, Auckland\, New Zealand
ATTACH;FMTTYPE=image/png:https://www.dalmatian.org.nz/wp-content/uploads/2025/08/Open-Day-2025-FB-EVENT.png
ORGANIZER;CN="Dalmatian%20Cultural%20Society":MAILTO:events.dallyclub@gmail.com
END:VEVENT
BEGIN:VEVENT
DTSTART;TZID=Pacific/Auckland:20250927T190000
DTEND;TZID=Pacific/Auckland:20250927T233000
DTSTAMP:20260423T150312
CREATED:20250827T193347Z
LAST-MODIFIED:20250831T065103Z
UID:3481-1758999600-1759015800@www.dalmatian.org.nz
SUMMARY:YC Quiz Night
DESCRIPTION:The Quiz Night is Finally Back! \nJoin us on Saturday\, 27th September for an evening of fun and friendly competition\, proudly hosted by the Dalmatian Cultural Society Youth Committee. \n🕖 Doors open at 7PM\, quiz starts at 7:30PM 💲 Tickets: $30 per person (teams up to 8)\nCharcuterie Platters provided + hot chips available for purchase\n🍹 Bar open all night\nRaffle prizes and a special prize for the winning team! \nAll proceeds will go towards our upcoming Perth Trip and Our Youth Committee! Gather your family and friends\, book your table\, and get ready for a night to remember. We can’t wait to see you there! \n  \nBUY TICKETS HERE
URL:https://www.dalmatian.org.nz/event/yc-quiz-night/
LOCATION:Dalmatian Cultural Society\, 10 New North Rd. Eden Terrace\, Auckland\, New Zealand
ATTACH;FMTTYPE=image/png:https://www.dalmatian.org.nz/wp-content/uploads/2025/08/Landscape-Quiz-Night-Cover-Page.png
END:VEVENT
END:VCALENDAR