BEGIN:VCALENDAR
VERSION:2.0
PRODID:-//Dalmatian Cultural Society - ECPv6.0.8//NONSGML v1.0//EN
CALSCALE:GREGORIAN
METHOD:PUBLISH
X-ORIGINAL-URL:https://www.dalmatian.org.nz
X-WR-CALDESC:Events for Dalmatian Cultural Society
REFRESH-INTERVAL;VALUE=DURATION:PT1H
X-Robots-Tag:noindex
X-PUBLISHED-TTL:PT1H
BEGIN:VTIMEZONE
TZID:Pacific/Auckland
BEGIN:STANDARD
TZOFFSETFROM:+1300
TZOFFSETTO:+1200
TZNAME:NZST
DTSTART:20250405T140000
END:STANDARD
BEGIN:DAYLIGHT
TZOFFSETFROM:+1200
TZOFFSETTO:+1300
TZNAME:NZDT
DTSTART:20250927T140000
END:DAYLIGHT
END:VTIMEZONE
BEGIN:VEVENT
DTSTART;TZID=Pacific/Auckland:20250405T190000
DTEND;TZID=Pacific/Auckland:20250405T233000
DTSTAMP:20260423T225351
CREATED:20250211T074836Z
LAST-MODIFIED:20250217T014540Z
UID:3309-1743879600-1743895800@www.dalmatian.org.nz
SUMMARY:Ladies Night
DESCRIPTION:Back by popular demand! After last year’s incredible success\, Ladies Night is returning—bigger and better than ever!\n What’s in store? A delicious buffet dinner A complimentary cocktail or glass of bubbly on arrival Dance lessons to get you moving A fun-filled quiz An electrifying Chippendale-style revue performance\nGrab your girlfriends and join us for an unforgettable night of laughter\, fun\, and fabulous entertainment! book via try booking https://www.trybooking.com/nz/VTG\nContact events.dallyclub@gmail.com if you wish to have your name against a table to make it easier for your friends to book
URL:https://www.dalmatian.org.nz/event/ladies-night-2/
LOCATION:Dalmatian Cultural Society\, 10 New North Rd. Eden Terrace\, Auckland\, New Zealand
ATTACH;FMTTYPE=image/png:https://www.dalmatian.org.nz/wp-content/uploads/2025/02/ladies-Night-Facebook-Cover.png
ORGANIZER;CN="Dalmatian%20Cultural%20Society":MAILTO:events.dallyclub@gmail.com
END:VEVENT
BEGIN:VEVENT
DTSTART;TZID=Pacific/Auckland:20250406T140000
DTEND;TZID=Pacific/Auckland:20250406T160000
DTSTAMP:20260423T225351
CREATED:20250401T213020Z
LAST-MODIFIED:20250401T213122Z
UID:3357-1743948000-1743955200@www.dalmatian.org.nz
SUMMARY:Dalmatian Archive & Museum Talk - History Of Glen Eden
DESCRIPTION:
URL:https://www.dalmatian.org.nz/event/dalmatian-archive-museum-talk-history-of-glen-eden/
LOCATION:Dalmatian Cultural Society\, 10 New North Rd. Eden Terrace\, Auckland\, New Zealand
ATTACH;FMTTYPE=image/jpeg:https://www.dalmatian.org.nz/wp-content/uploads/2025/04/Image-3-1.jpeg
END:VEVENT
END:VCALENDAR