BEGIN:VCALENDAR
VERSION:2.0
PRODID:-//Dalmatian Cultural Society - ECPv6.0.8//NONSGML v1.0//EN
CALSCALE:GREGORIAN
METHOD:PUBLISH
X-WR-CALNAME:Dalmatian Cultural Society
X-ORIGINAL-URL:https://www.dalmatian.org.nz
X-WR-CALDESC:Events for Dalmatian Cultural Society
REFRESH-INTERVAL;VALUE=DURATION:PT1H
X-Robots-Tag:noindex
X-PUBLISHED-TTL:PT1H
BEGIN:VTIMEZONE
TZID:Pacific/Auckland
BEGIN:STANDARD
TZOFFSETFROM:+1300
TZOFFSETTO:+1200
TZNAME:NZST
DTSTART:20250405T140000
END:STANDARD
BEGIN:DAYLIGHT
TZOFFSETFROM:+1200
TZOFFSETTO:+1300
TZNAME:NZDT
DTSTART:20250927T140000
END:DAYLIGHT
END:VTIMEZONE
BEGIN:VEVENT
DTSTART;TZID=Pacific/Auckland:20250214T183000
DTEND;TZID=Pacific/Auckland:20250214T183000
DTSTAMP:20260424T015603
CREATED:20250128T032929Z
LAST-MODIFIED:20250128T032929Z
UID:3289-1739557800-1739557800@www.dalmatian.org.nz
SUMMARY:Folklore Enrollments
DESCRIPTION:
URL:https://www.dalmatian.org.nz/event/folklore-enrollments/
CATEGORIES:Class
ATTACH;FMTTYPE=image/jpeg:https://www.dalmatian.org.nz/wp-content/uploads/2024/07/BSP_1747-2-scaled.jpg
END:VEVENT
BEGIN:VEVENT
DTSTART;TZID=Pacific/Auckland:20250216T083000
DTEND;TZID=Pacific/Auckland:20250216T170000
DTSTAMP:20260424T015603
CREATED:20250128T033512Z
LAST-MODIFIED:20250128T033512Z
UID:3295-1739694600-1739725200@www.dalmatian.org.nz
SUMMARY:
DESCRIPTION:The NZ Dalmatian Bowling Fraternity\nInvites you to theAnnual Dalmatian Bowls TournamentROYAL OAK BOWLS (FORMERLY ONEHUNGA BOWLING CLUB)146 SELWYN RD. ONEHUNGA.SUNDAY 16 TH FEBRUARY 2025ENTRY FEE: $ 160.00 PER TEAM / $40 PER PLAYER\nLIMITED TO THE FIRST 30 TEAMS ENTEREDENTRIES TO BE IN NO LATER THAN 9 FEBRUARY 2025 – REMEMBER NO PAY – NO PLAY\nLUNCH PROVIDED: TRADITIONAL DALMATIAN STYLE LAMB ON THE SPIT\nWe look forward to your continued support of this much-loved annual get together. Let’s make it another great success as always. Bring along your family\, friends\, spouses\, and children to enter a team.WOMEN BOWLERS ARE INVITED TO ENTER AS PART OF A MIXED TEAM\, SINGLE ENTRY OR AS A WOMEN’S TEAM.\nTournament Contacts:Chris Franich +64 27 395 7841 – Michael Gugich +64 27 508 2726Brian Barbarich + 64 27 295 6509 – Joe Ujdur +64 21 740 569TO ASSIST YOUR COMMITTEE\, ENSURE THAT ALL PLAYERS ARE ASSEMBLED BY\n8.30am FOR A PROMPT 9:00am START\nSINGLE ENTRIES ACCEPTED AND WILL BE GRADED INTO A TEAM
URL:https://www.dalmatian.org.nz/event/3295/
LOCATION:ROYAL OAK BOWLS\, 146 SELWYN RD. ONEHUNGA\, AUCKLAND\, New Zealand
ATTACH;FMTTYPE=image/jpeg:https://www.dalmatian.org.nz/wp-content/uploads/2025/01/bowls.jpg
END:VEVENT
BEGIN:VEVENT
DTSTART;TZID=Pacific/Auckland:20250225T190000
DTEND;TZID=Pacific/Auckland:20250225T200000
DTSTAMP:20260424T015603
CREATED:20250221T035620Z
LAST-MODIFIED:20250221T035620Z
UID:3327-1740510000-1740513600@www.dalmatian.org.nz
SUMMARY:Members Meeting
DESCRIPTION:7pm Tuesday 25 February 2025\n\n\n\n\n\n\nPaid up members of the Society 2024-2025\n\n\nAgenda\n\n\nApologies\n\n\nMinutes of previous Member’s Meeting 29 September 2024\n\n\nCorrespondence\n\n\nTreasurer’s Report\n\n\nFinancial Overseer’s Report\n\n\nReports\n\n\nGeneral Business
URL:https://www.dalmatian.org.nz/event/members-meeting-5/
LOCATION:Dalmatian Cultural Society\, 10 New North Rd. Eden Terrace\, Auckland\, New Zealand
ATTACH;FMTTYPE=image/jpeg:https://www.dalmatian.org.nz/wp-content/uploads/2019/05/meetings.jpg
END:VEVENT
END:VCALENDAR