BEGIN:VCALENDAR
VERSION:2.0
PRODID:-//Dalmatian Cultural Society - ECPv6.0.8//NONSGML v1.0//EN
CALSCALE:GREGORIAN
METHOD:PUBLISH
X-WR-CALNAME:Dalmatian Cultural Society
X-ORIGINAL-URL:https://www.dalmatian.org.nz
X-WR-CALDESC:Events for Dalmatian Cultural Society
REFRESH-INTERVAL;VALUE=DURATION:PT1H
X-Robots-Tag:noindex
X-PUBLISHED-TTL:PT1H
BEGIN:VTIMEZONE
TZID:Pacific/Auckland
BEGIN:STANDARD
TZOFFSETFROM:+1300
TZOFFSETTO:+1200
TZNAME:NZST
DTSTART:20240406T140000
END:STANDARD
BEGIN:DAYLIGHT
TZOFFSETFROM:+1200
TZOFFSETTO:+1300
TZNAME:NZDT
DTSTART:20240928T140000
END:DAYLIGHT
BEGIN:STANDARD
TZOFFSETFROM:+1300
TZOFFSETTO:+1200
TZNAME:NZST
DTSTART:20250405T140000
END:STANDARD
BEGIN:DAYLIGHT
TZOFFSETFROM:+1200
TZOFFSETTO:+1300
TZNAME:NZDT
DTSTART:20250927T140000
END:DAYLIGHT
END:VTIMEZONE
BEGIN:VEVENT
DTSTART;TZID=Pacific/Auckland:20241231T190000
DTEND;TZID=Pacific/Auckland:20250101T020000
DTSTAMP:20260424T032343
CREATED:20241127T182048Z
LAST-MODIFIED:20241127T182048Z
UID:3279-1735671600-1735696800@www.dalmatian.org.nz
SUMMARY:New Years Eve
DESCRIPTION:Celebrate New Year’s Eve with the Dalmatian Cultural Society!\nJoin us for a night of live music\, great company\, and a delicious buffet dinner. We’re excited to welcome Bon-Ami\, who are flying in all the way from Australia to perform all your favourite hits.\nDate: Tuesday 31st DecemberTime: 7:00 PM – 2:00 AMTickets: $80 per personKids (ages 12-16): $30\nGet your tickets at https://www.trybooking.com/nz/UZT\nDon’t miss out on this unforgettable evening of music\, dancing\, and celebration!
URL:https://www.dalmatian.org.nz/event/new-years-eve-3/
LOCATION:Dalmatian Cultural Society\, 10 New North Rd. Eden Terrace\, Auckland\, New Zealand
ATTACH;FMTTYPE=image/png:https://www.dalmatian.org.nz/wp-content/uploads/2024/11/NY-Eve-2025.png
ORGANIZER;CN="Dalmatian%20Cultural%20Society":MAILTO:events.dallyclub@gmail.com
END:VEVENT
BEGIN:VEVENT
DTSTART;TZID=Pacific/Auckland:20250126T100000
DTEND;TZID=Pacific/Auckland:20250126T210000
DTSTAMP:20260424T032343
CREATED:20241104T192136Z
LAST-MODIFIED:20241104T192136Z
UID:3259-1737885600-1737925200@www.dalmatian.org.nz
SUMMARY:Annual picnic
DESCRIPTION:Site 3
URL:https://www.dalmatian.org.nz/event/annual-picnic-4/
LOCATION:Long Bay site 3\, Long Bay Regional Park\, Auckland\, New Zealand
ATTACH;FMTTYPE=image/jpeg:https://www.dalmatian.org.nz/wp-content/uploads/2019/12/Picnic-Photo-002-1.jpg
ORGANIZER;CN="Dalmatian%20Cultural%20Society":MAILTO:events.dallyclub@gmail.com
END:VEVENT
BEGIN:VEVENT
DTSTART;TZID=Pacific/Auckland:20250128T190000
DTEND;TZID=Pacific/Auckland:20250128T193000
DTSTAMP:20260424T032343
CREATED:20250128T033205Z
LAST-MODIFIED:20250128T033205Z
UID:3292-1738090800-1738092600@www.dalmatian.org.nz
SUMMARY:Join us for a vibrant evening of music\, dance\, and culture as we honor the rich history of Dalmatian settlers in Tāmaki Makaurau\, Auckland.
DESCRIPTION:TUES 28 JAN\, 7PM\nTE AO MĀRAMA SOUTH ATRIUM\nFREE WITH MUSEUM ENTRY \nSince the 1860s\, Dalmatian families from the Adriatic coast of Croatia have been coming to New Zealand in search of a better life. By 1940\, their thriving community in central Auckland\, with over 700 residents\, became a bustling cultural hub for not only the Dalmatians but also for those in South and West Auckland\, and even Northland. On Victoria\, Wellesley\, Nelson\, Hobson\, and Queen streets\, Dalmatian-run businesses like fish shops\, cafes\, and general stores created a vibrant local atmosphere\, while two cultural clubs on Hobson Street became gathering spots for music\, dance\, games\, and community bonding.
URL:https://www.dalmatian.org.nz/event/join-us-for-a-vibrant-evening-of-music-dance-and-culture-as-we-honor-the-rich-history-of-dalmatian-settlers-in-tamaki-makaurau-auckland/
ATTACH;FMTTYPE=image/jpeg:https://www.dalmatian.org.nz/wp-content/uploads/2025/01/www.aucklandmuseum.com-getattachment-visit-whats-on-art-and-culture-Dalmatian-Cultural-Performance-Croatia-Performance-800-x-500-1.png.jpeg
END:VEVENT
END:VCALENDAR