BEGIN:VCALENDAR
VERSION:2.0
PRODID:-//Dalmatian Cultural Society - ECPv6.0.8//NONSGML v1.0//EN
CALSCALE:GREGORIAN
METHOD:PUBLISH
X-WR-CALNAME:Dalmatian Cultural Society
X-ORIGINAL-URL:https://www.dalmatian.org.nz
X-WR-CALDESC:Events for Dalmatian Cultural Society
REFRESH-INTERVAL;VALUE=DURATION:PT1H
X-Robots-Tag:noindex
X-PUBLISHED-TTL:PT1H
BEGIN:VTIMEZONE
TZID:UTC
BEGIN:STANDARD
TZOFFSETFROM:+0000
TZOFFSETTO:+0000
TZNAME:UTC
DTSTART:20240101T000000
END:STANDARD
END:VTIMEZONE
BEGIN:VEVENT
DTSTART;TZID=UTC:20240804T140000
DTEND;TZID=UTC:20240804T160000
DTSTAMP:20260424T105754
CREATED:20240731T233241Z
LAST-MODIFIED:20240731T233241Z
UID:3204-1722780000-1722787200@www.dalmatian.org.nz
SUMMARY:Archives - Speaker David Tolich
DESCRIPTION:
URL:https://www.dalmatian.org.nz/event/archives-speaker-david-tolich/
LOCATION:Dalmatian Cultural Society\, 10 New North Rd. Eden Terrace\, Auckland\, New Zealand
ATTACH;FMTTYPE=image/png:https://www.dalmatian.org.nz/wp-content/uploads/2024/07/archives-and-meueum.png
END:VEVENT
BEGIN:VEVENT
DTSTART;TZID=UTC:20240817T180000
DTEND;TZID=UTC:20240818T000000
DTSTAMP:20260424T105754
CREATED:20240718T054411Z
LAST-MODIFIED:20240718T054411Z
UID:3197-1723917600-1723939200@www.dalmatian.org.nz
SUMMARY:Midwinter Dinner
DESCRIPTION:Join us for a delightful Midwinter Feast at the Dalmatian Cultural Society!Savor a taste of tradition with our specially curated menu*Brudet (Dalmatian Fish Stew)Lamb on the SpitPunje Paprika (Stuffed Peppers)Squid Ink RisottoGnocchiPlus a range of delicious salads\, sides and desserts\n\nEnjoy an evening of authentic flavours\, festive cheer and light entertainment. Your presence will make this celebration even more special!Doors open 6pm\nEarly bird tickets $50 on sale till 1st August$60 after August 1stChildren 5-14 $20BOOK online or come see Julena to purchase a ticket in the members lounge on a Friday night. https://www.trybooking.com/nz/TCX\n\n*subject to availability
URL:https://www.dalmatian.org.nz/event/midwinter-dinner/
LOCATION:Dalmatian Cultural Society\, 10 New North Rd. Eden Terrace\, Auckland\, New Zealand
CATEGORIES:Dinner
ATTACH;FMTTYPE=image/png:https://www.dalmatian.org.nz/wp-content/uploads/2024/07/Midwinter-1920-x-1080-px.png
ORGANIZER;CN="Dalmatian%20Cultural%20Society":MAILTO:events.dallyclub@gmail.com
END:VEVENT
BEGIN:VEVENT
DTSTART;TZID=UTC:20240831T190000
DTEND;TZID=UTC:20240901T010000
DTSTAMP:20260424T105754
CREATED:20240626T041547Z
LAST-MODIFIED:20240718T053557Z
UID:3173-1725130800-1725152400@www.dalmatian.org.nz
SUMMARY:Mešallica LIVE
DESCRIPTION:We’re thrilled about Mešallica playing all your favorite tunes at the Club! Join us for an unforgettable night of live music. Our kitchen will be serving a selection of delicious Dalmatian cuisine\, and the bar will be fully stocked for your enjoyment.\nPurchase tickets $30 https://www.trybooking.com/nz/events/landing/12767
URL:https://www.dalmatian.org.nz/event/miesallica-live/
LOCATION:Dalmatian Cultural Society\, 10 New North Rd. Eden Terrace\, Auckland\, New Zealand
ATTACH;FMTTYPE=image/jpeg:https://www.dalmatian.org.nz/wp-content/uploads/2024/06/mesallica.jpg
END:VEVENT
END:VCALENDAR