BEGIN:VCALENDAR
VERSION:2.0
PRODID:-//Dalmatian Cultural Society - ECPv6.0.8//NONSGML v1.0//EN
CALSCALE:GREGORIAN
METHOD:PUBLISH
X-WR-CALNAME:Dalmatian Cultural Society
X-ORIGINAL-URL:https://www.dalmatian.org.nz
X-WR-CALDESC:Events for Dalmatian Cultural Society
REFRESH-INTERVAL;VALUE=DURATION:PT1H
X-Robots-Tag:noindex
X-PUBLISHED-TTL:PT1H
BEGIN:VTIMEZONE
TZID:UTC
BEGIN:STANDARD
TZOFFSETFROM:+0000
TZOFFSETTO:+0000
TZNAME:UTC
DTSTART:20230101T000000
END:STANDARD
END:VTIMEZONE
BEGIN:VEVENT
DTSTART;TZID=UTC:20231001T140000
DTEND;TZID=UTC:20231001T160000
DTSTAMP:20260425T013852
CREATED:20230928T183530Z
LAST-MODIFIED:20230928T183530Z
UID:3039-1696168800-1696176000@www.dalmatian.org.nz
SUMMARY:Dalmatian Archive and Museum - Wrestling 1942-1982
DESCRIPTION:Speaker: Steve Ogilvie\nSteve will be discussing wrestlers of Dalmatian Heritage who were regulars on professional wrestling shows in NZ from 1942 to 1982. Men like Frank Lipanovich\, Tony Garea (Gareljich)\, and John Garea (AKA Johnny Garcia).\nSteve will have a slide show of photos\, programmes\, and newspaper clippings to illustrate his talk.\nThese shows were held in the Auckland Town Hall or YMCA and were very popular.\nIn 1956\, wrestling\, as a spectator sport\, was more popular than rugby.\nThe photo below a cover from the Listener about On The Mat\, a TV Series that enjoyed popularity 1975-1984
URL:https://www.dalmatian.org.nz/event/dalmatian-archive-and-museum-wrestling-1942-1982/
LOCATION:Dalmatian Cultural Society\, 10 New North Rd. Eden Terrace\, Auckland\, New Zealand
END:VEVENT
BEGIN:VEVENT
DTSTART;TZID=UTC:20231021T180000
DTEND;TZID=UTC:20231022T010000
DTSTAMP:20260425T013852
CREATED:20230723T235937Z
LAST-MODIFIED:20230824T011113Z
UID:2988-1697911200-1697936400@www.dalmatian.org.nz
SUMMARY:BALL
DESCRIPTION:You’re Invited to the 40th Anniversary Ball of Villa Dalmacija NZ!\n\nJoin us in celebrating four decades of tradition\, culture\, and community at the 40th Anniversary Ball of Villa Dalmacija NZ\, hosted by the New Zealand Dalmatian Society.\n\n\nIt’s been an incredible journey since we purchased the iconic Villa Dalmacija premises\, and now it’s time to commemorate this milestone with an evening of joy\, laughter\, and memories.\n\nEvent Highlights:\n\n\n\nMesmerising live performance by Duo Samoana\, guaranteed to get you on your feet!\n\n\nEnchanting Tarara Folklore Ensemble performing a kolo .\n\n\nA chance to win a fantastic door prize: A $2500 travel voucher to explore new horizons.\n\n\nEnjoy complimentary wine on your table\, toasting to the years gone by and the ones ahead.\n\n\nDelight your taste buds with delectable antipasto platters to start.\n\n\nIndulge in a sumptuous buffet spread\, a culinary journey reflecting our rich heritage.\n\n\n\nDress to impress and immerse yourself in an evening filled with elegance\, culture\, and camaraderie. Whether you’re a longtime member\, a cherished friend\, or a new face\, this event is a tribute to the incredible community that has flourished within the walls of Villa Dalmacija NZ.\n\nDon’t miss this opportunity to be part of history and celebrate the 40th Anniversary of Villa Dalmacija NZ. Limited tickets are available\, so secure your spot early.\n\nFor ticket bookings and more information\, please contact events.dallyclub@gmail.com or 0274281922. Members will have priority booking\n\nLet’s make this anniversary ball a night to remember as we dance\, dine\, and cherish the memories of Villa Dalmacija’s remarkable journey over the past four decades.\n\nWe look forward to celebrating with you!\n\n\nVilla Dalmacija NZ – New Zealand Dalmatian Society
URL:https://www.dalmatian.org.nz/event/ball-2/
LOCATION:Dalmatian Cultural Society\, 10 New North Rd. Eden Terrace\, Auckland\, New Zealand
CATEGORIES:Concert,Dinner
ATTACH;FMTTYPE=image/png:https://www.dalmatian.org.nz/wp-content/uploads/2023/07/40th-Ball-website-e1692587550445.png
ORGANIZER;CN="Dalmatian%20Cultural%20Society":MAILTO:events.dallyclub@gmail.com
END:VEVENT
BEGIN:VEVENT
DTSTART;TZID=UTC:20231027T180000
DTEND;TZID=UTC:20231027T220000
DTSTAMP:20260425T013852
CREATED:20230810T101913Z
LAST-MODIFIED:20230811T000447Z
UID:2998-1698429600-1698444000@www.dalmatian.org.nz
SUMMARY:Halloween Party
DESCRIPTION:🎃👻 Get Ready for a Spooktacular Night at Our Famous Kids and Teens Halloween Party! 👻🎃 \n\nCalling all ghosts\, ghouls\, witches\, wizards\, and creatures of the night! The wait is finally over – our legendary Halloween Party is back and better than ever! Get your costumes ready and join us for an unforgettable evening of thrills and chills. \n  \n🎈 Date: Friday 27th October ⏰ Time: Doors open at 6:00 PM 🏰 Venue: Dalmatian Cultural Society\, transformed into a spooky wonderland \n🎶 Dance the Night Away: Our incredible DJ will be on the decks\, spinning spine-tingling tunes that will keep you moving all night long! Get your best dance moves ready as we turn the ballroom into a pulsating dance floor. \n🍬 Deliciously Haunting Treats: Indulge in a feast of eerie and delightful Halloween treats that will tantalize your taste buds. From creepy cupcakes to wickedly scrumptious snacks\, we’ve got your cravings covered. \n🏆 Costume Contest: Show off your creative genius and dress to impress – it’s your chance to win the coveted prize for the best Halloween costume of the night! Will you be a spine-chilling specter or a mystical enchantress? \n👻 All Ages Welcome: This is a party for everyone – kids and adults alike! Dress up in your most bewitching outfits and let your imagination run wild. \n🍔 Hot Food to Fuel Your Night: Don’t worry about rumbling tummies – we’ve got hot and hearty food available to order\, so you can keep the energy flowing as you dance and celebrate. \n👫 Bring Your Friends: Invite your pals\, family members\, and neighbors to join in the spooky fun. The more\, the merrier! Let’s make this a Halloween bash to remember. \n🚪 Doors Open at 6:00 PM: Be sure to arrive early so you can experience every magical moment from the very beginning. \nGet ready for a hair-raising\, bone-chilling\, and heart-pounding night of Halloween festivities! Don’t miss out on the most anticipated event of the season. Mark your calendars\, prepare your costumes\, and come join us for an electrifying evening! \nSee you there\, if you dare! 🕷️🦇🕸️
URL:https://www.dalmatian.org.nz/event/halloween-party-2/
LOCATION:Dalmatian Cultural Society\, 10 New North Rd. Eden Terrace\, Auckland\, New Zealand
ATTACH;FMTTYPE=image/png:https://www.dalmatian.org.nz/wp-content/uploads/2023/08/Haunted-Halloween-A-2023-002.png
ORGANIZER;CN="Dalmatian%20Cultural%20Society":MAILTO:events.dallyclub@gmail.com
END:VEVENT
END:VCALENDAR