BEGIN:VCALENDAR
VERSION:2.0
PRODID:-//Dalmatian Cultural Society - ECPv6.0.8//NONSGML v1.0//EN
CALSCALE:GREGORIAN
METHOD:PUBLISH
X-WR-CALNAME:Dalmatian Cultural Society
X-ORIGINAL-URL:https://www.dalmatian.org.nz
X-WR-CALDESC:Events for Dalmatian Cultural Society
REFRESH-INTERVAL;VALUE=DURATION:PT1H
X-Robots-Tag:noindex
X-PUBLISHED-TTL:PT1H
BEGIN:VTIMEZONE
TZID:UTC
BEGIN:STANDARD
TZOFFSETFROM:+0000
TZOFFSETTO:+0000
TZNAME:UTC
DTSTART:20230101T000000
END:STANDARD
END:VTIMEZONE
BEGIN:VEVENT
DTSTART;TZID=UTC:20230910T140000
DTEND;TZID=UTC:20230910T160000
DTSTAMP:20260425T033828
CREATED:20230811T052653Z
LAST-MODIFIED:20230811T052829Z
UID:3004-1694354400-1694361600@www.dalmatian.org.nz
SUMMARY:Dalmatian Archive and Museum Talk - Featuring Debra Gavranich
DESCRIPTION:
URL:https://www.dalmatian.org.nz/event/dalmatian-archive-and-museum-talk-featuring-debra-gavranich/
LOCATION:Dalmatian Cultural Society\, 10 New North Rd. Eden Terrace\, Auckland\, New Zealand
ATTACH;FMTTYPE=image/jpeg:https://www.dalmatian.org.nz/wp-content/uploads/2023/08/the-girl-who-left.jpg
END:VEVENT
BEGIN:VEVENT
DTSTART;TZID=UTC:20230917T103000
DTEND;TZID=UTC:20230917T173000
DTSTAMP:20260425T033828
CREATED:20230724T000249Z
LAST-MODIFIED:20230827T225624Z
UID:2991-1694946600-1694971800@www.dalmatian.org.nz
SUMMARY:OPEN DAY
DESCRIPTION:🎉 Discover the Vibrant World of Dalmatian Culture at NZ Open Day! 🎉\n\n📜 Unveil the Past: Dalmatian Archive and Museum Displays 📜\nStep into the captivating history of the Dalmatian people through our rich archive and museum exhibits. Immerse yourself in the stories\, artifacts\, and memories that have shaped generations.\n\n👗 Elegance in Motion: Kolo Costumes Showcase 👗\nMarvel at the elegance and grace of our traditional Kolo costumes. These meticulously crafted garments tell a story of cultural pride and history. Admire the intricate details and vibrant colors that embody the spirit of Dalmatia.\n\n📚 Dive into Knowledge: Dalmatian Library 📚\nDelve into the literary treasures of the Dalmatian culture. Our library offers a curated collection of literature\, both ancient and contemporary\, that reflects the essence and wisdom of our heritage.\n\n🛍️ Indulge in Delicacies: Trading Shop 🛍️\nTake home a slice of Dalmatia with you! Explore our trading shop filled with delightful delicacies. From mouthwatering jams and biscuits to unique specialties\, treat your taste buds to an authentic culinary experience.\n\n🍽️ Savor Tradition: Meals for Every Palate 🍽️\nEmbark on a gastronomic journey with our delectable meals. From morning tea to dinner\, let your senses revel in the flavors of Dalmatian cuisine. Taste the traditions that have been passed down through generations.\n\n🍳 Culinary Magic: Cooking Demonstrations at 1.00 pm 🍳\nUncover the secrets behind Dalmatian culinary delights with our captivating cooking demonstrations. Join us at 1.00 pm to witness skilled chefs bring age-old recipes to life and learn how to recreate these dishes at home.\n\n🎶 Let the Folklore Enchant You: Folklore Concert at 2.00 pm 🎶\nExperience the heart and soul of Dalmatian culture through our mesmerizing folklore concert at 2.00 pm. From enchanting dances to soul-stirring music\, let the rhythms and melodies transport you to distant lands.\n\nJoin us on Sunday 17th for a day of cultural immersion\, tantalizing tastes\, and captivating performances at the Dalmatian Cultural Society NZ Open Day. Don’t miss the opportunity to witness our stunning Kolo costumes on display\, embodying the essence of Dalmatia’s rich heritage. Let’s celebrate together in grand style! 🎊
URL:https://www.dalmatian.org.nz/event/open-day-5/
LOCATION:Dalmatian Cultural Society\, 10 New North Rd. Eden Terrace\, Auckland\, New Zealand
ATTACH;FMTTYPE=image/png:https://www.dalmatian.org.nz/wp-content/uploads/2023/07/Open-Day-17-September-2023.png
ORGANIZER;CN="Dalmatian%20Cultural%20Society":MAILTO:events.dallyclub@gmail.com
END:VEVENT
END:VCALENDAR