BEGIN:VCALENDAR
VERSION:2.0
PRODID:-//Dalmatian Cultural Society - ECPv6.0.8//NONSGML v1.0//EN
CALSCALE:GREGORIAN
METHOD:PUBLISH
X-WR-CALNAME:Dalmatian Cultural Society
X-ORIGINAL-URL:https://www.dalmatian.org.nz
X-WR-CALDESC:Events for Dalmatian Cultural Society
REFRESH-INTERVAL;VALUE=DURATION:PT1H
X-Robots-Tag:noindex
X-PUBLISHED-TTL:PT1H
BEGIN:VTIMEZONE
TZID:UTC
BEGIN:STANDARD
TZOFFSETFROM:+0000
TZOFFSETTO:+0000
TZNAME:UTC
DTSTART:20230101T000000
END:STANDARD
END:VTIMEZONE
BEGIN:VEVENT
DTSTART;TZID=UTC:20230709T110000
DTEND;TZID=UTC:20230709T140000
DTSTAMP:20260425T064951
CREATED:20230628T092655Z
LAST-MODIFIED:20230628T093957Z
UID:2957-1688900400-1688911200@www.dalmatian.org.nz
SUMMARY:Pršule and Burek Cooking Class
DESCRIPTION:🌟 Craving a Taste of Croatia? Join our Cooking Class! 🌟\n\nCalling all food enthusiasts and adventurous taste buds! Get ready to dive into the rich flavors of Croatia with our exciting cooking class at the Dalmatian Cultural Society NZ.\n\nFritule or Pršule?\n\nEver wondered how to create those mouthwatering Croatian doughnuts known as Fritule or Pršule? Well\, wonder no more! Our expert instructors will unveil the secret recipes and techniques behind these irresistible treats. From their delightful texture to the perfect balance of flavors\, you’ll become a dally doughnut connoisseur in no time! 🍩😋\n\nBut that’s not all! We’re spicing things up with the iconic Burek. 🥐🎉\n\nSink your teeth into the flaky layers of this Croatian classic! In our class\, you’ll discover the art of crafting the perfect Burek\, filled with savory combinations that will leave your taste buds dancing.\n\n🌍 Culture\, Fun\, and Tasty Delights! 🌍\n\nAt the Dalmatian Cultural Society NZ\, we’re not just about food; we’re about fostering a warm and vibrant community. Our cooking class offers a unique opportunity to connect with Croatian culture and meet fellow food lovers. It’s a fun\, relaxed environment where you can learn\, laugh\, and create delicious memories together. 🤗❤️\n\n📅 Reserve Your Spot Today! 📅 events.dallyclub@gmail.com 0274281922\n\nDon’t miss out on this tantalising adventure! Grab your apron\, bring your enthusiasm\, and join us at the Dalmatian Cultural Society NZ for an unforgettable cooking experience. Our classes cater to all skill levels\, so everyone is welcome!\n\nNot one of the lucky ones who have left NZ for summer? Reserve your spot now and prepare for a taste sensation that will transport you straight to the sun-soaked shores of Dalmatia. Hurry\, spots are filling up fast! 🌊🍴
URL:https://www.dalmatian.org.nz/event/prsule-and-burek-cooking-class/
LOCATION:Dalmatian Cultural Society\, 10 New North Rd. Eden Terrace\, Auckland\, New Zealand
CATEGORIES:Class
ATTACH;FMTTYPE=image/jpeg:https://www.dalmatian.org.nz/wp-content/uploads/2023/06/fritule.jpg
ORGANIZER;CN="Dalmatian%20Cultural%20Society":MAILTO:events.dallyclub@gmail.com
END:VEVENT
BEGIN:VEVENT
DTSTART;TZID=UTC:20230709T143000
DTEND;TZID=UTC:20230709T170000
DTSTAMP:20260425T064951
CREATED:20230628T092756Z
LAST-MODIFIED:20230628T094045Z
UID:2961-1688913000-1688922000@www.dalmatian.org.nz
SUMMARY:Bingo and Afternoon Tea
DESCRIPTION:
URL:https://www.dalmatian.org.nz/event/bingo-and-afternoon-tea/
LOCATION:Dalmatian Cultural Society\, 10 New North Rd. Eden Terrace\, Auckland\, New Zealand
ATTACH;FMTTYPE=image/png:https://www.dalmatian.org.nz/wp-content/uploads/2023/06/Raibow-Illustrated-Bingo-Night-Instagram-Post-1.png
ORGANIZER;CN="Dalmatian%20Cultural%20Society":MAILTO:events.dallyclub@gmail.com
END:VEVENT
BEGIN:VEVENT
DTSTART;TZID=UTC:20230722T183000
DTEND;TZID=UTC:20230722T233000
DTSTAMP:20260425T064951
CREATED:20230504T030146Z
LAST-MODIFIED:20230625T231833Z
UID:2917-1690050600-1690068600@www.dalmatian.org.nz
SUMMARY:Ribarska Večer
DESCRIPTION:We are thrilled to extend a warm invitation to you for a delightful evening of fine dining and captivating music at Villa Dalmacija. The theme for the event is Ribarska Večer\, a celebration of the rich Croatian fishing tradition\, and we guarantee an unforgettable experience.\n\nAs we imagine the sun setting over the sparkling Adriatic Sea\, Villa Dalmacija will transform into a haven of coastal charm and elegance. You are cordially invited to immerse yourself in the ambiance of the Ribarska Večer\, where we will indulge in the best of Croatian cuisine\, live music\, and the joyous spirit of celebration.\nHighlighting the evening’s entertainment will be the captivating performance of the renowned live band\, Klapa Samoana. Their soulful harmonies and traditional Dalmatian melodies will take you on a musical journey through the Adriatic\, igniting your spirit and making it impossible to resist the dance floor.\nBut the excitement doesn’t stop there! We are delighted to announce that the Tarara Foklore Group\, a talented ensemble of traditional dancers\, will also grace us with their presence. Their intricate choreography and vibrant costumes will leave you spellbound\, showcasing the beauty and elegance of Croatian folklore.\nTo ensure your culinary satisfaction\, a delicious buffet will be prepared. Your taste buds will be tantalized by the flavors of the sea and more.\n\nDress code for the evening is smart-casual\, with a touch of coastal elegance.\nPlease note that limited seating is available\, and we encourage you to respond promptly to guarantee your attendance. This promises to be an unforgettable evening\, bringing together the finest aspects of Croatian culture\, music\, and cuisine in a picturesque setting.\n\nTickets will go on sale in June. $65\nPlease register your interest to events.dallyclub@gmail.com or 0274281922\nAllocated table numbers of 12\, 10\, 8 or 6\nWe look forward to hosting you at Villa Dalmacija for the Ribarska Večer. Prepare to indulge in an extraordinary evening of dining\, dancing\, and making cherished memories with friends and loved ones.\nDoors Open 6pm
URL:https://www.dalmatian.org.nz/event/ribarska-vecer/
LOCATION:Dalmatian Cultural Society\, 10 New North Rd. Eden Terrace\, Auckland\, New Zealand
CATEGORIES:Concert,Dinner
ATTACH;FMTTYPE=image/png:https://www.dalmatian.org.nz/wp-content/uploads/2023/05/Ribarska-Vecer-Dine-and-dance-Saturday-22-July-7pm-7.png
ORGANIZER;CN="Dalmatian%20Cultural%20Society":MAILTO:events.dallyclub@gmail.com
END:VEVENT
END:VCALENDAR