BEGIN:VCALENDAR
VERSION:2.0
PRODID:-//Dalmatian Cultural Society - ECPv6.0.8//NONSGML v1.0//EN
CALSCALE:GREGORIAN
METHOD:PUBLISH
X-WR-CALNAME:Dalmatian Cultural Society
X-ORIGINAL-URL:https://www.dalmatian.org.nz
X-WR-CALDESC:Events for Dalmatian Cultural Society
REFRESH-INTERVAL;VALUE=DURATION:PT1H
X-Robots-Tag:noindex
X-PUBLISHED-TTL:PT1H
BEGIN:VTIMEZONE
TZID:UTC
BEGIN:STANDARD
TZOFFSETFROM:+0000
TZOFFSETTO:+0000
TZNAME:UTC
DTSTART:20230101T000000
END:STANDARD
END:VTIMEZONE
BEGIN:VEVENT
DTSTART;TZID=UTC:20230611T140000
DTEND;TZID=UTC:20230611T160000
DTSTAMP:20260425T081921
CREATED:20230518T230459Z
LAST-MODIFIED:20230518T231520Z
UID:2927-1686492000-1686499200@www.dalmatian.org.nz
SUMMARY:BABA I DIDE CONCERT
DESCRIPTION:
URL:https://www.dalmatian.org.nz/event/baba-i-dide-concert-2/
LOCATION:Dalmatian Cultural Society\, 10 New North Rd. Eden Terrace\, Auckland\, New Zealand
ATTACH;FMTTYPE=image/png:https://www.dalmatian.org.nz/wp-content/uploads/2023/05/Copy-of-2023-Baba-Dida-Day.png
ORGANIZER;CN="Dalmatian%20Cultural%20Society":MAILTO:events.dallyclub@gmail.com
END:VEVENT
BEGIN:VEVENT
DTSTART;TZID=UTC:20230618T140000
DTEND;TZID=UTC:20230618T160000
DTSTAMP:20260425T081921
CREATED:20230607T033426Z
LAST-MODIFIED:20230607T033426Z
UID:2950-1687096800-1687104000@www.dalmatian.org.nz
SUMMARY:AGM
DESCRIPTION:2.00pm Sunday 18 June 2023\nSociety Ballroom\, Villa Dalmacija\, 10 New North Rd\, Eden Terrace\, Auckland\n\nYou must be a paid up member 2023-2024 to attend
URL:https://www.dalmatian.org.nz/event/agm-4/
LOCATION:Dalmatian Cultural Society\, 10 New North Rd. Eden Terrace\, Auckland\, New Zealand
ATTACH;FMTTYPE=image/jpeg:https://www.dalmatian.org.nz/wp-content/uploads/2019/05/meetings.jpg
ORGANIZER;CN="Dalmatian%20Cultural%20Society":MAILTO:events.dallyclub@gmail.com
END:VEVENT
END:VCALENDAR