BEGIN:VCALENDAR
VERSION:2.0
PRODID:-//Dalmatian Cultural Society - ECPv6.0.8//NONSGML v1.0//EN
CALSCALE:GREGORIAN
METHOD:PUBLISH
X-WR-CALNAME:Dalmatian Cultural Society
X-ORIGINAL-URL:https://www.dalmatian.org.nz
X-WR-CALDESC:Events for Dalmatian Cultural Society
REFRESH-INTERVAL;VALUE=DURATION:PT1H
X-Robots-Tag:noindex
X-PUBLISHED-TTL:PT1H
BEGIN:VTIMEZONE
TZID:UTC
BEGIN:STANDARD
TZOFFSETFROM:+0000
TZOFFSETTO:+0000
TZNAME:UTC
DTSTART:20170101T000000
END:STANDARD
END:VTIMEZONE
BEGIN:VEVENT
DTSTART;TZID=UTC:20180916T080000
DTEND;TZID=UTC:20180916T170000
DTSTAMP:20260425T003413
CREATED:20180308T071851Z
LAST-MODIFIED:20180826T215854Z
UID:1143-1537084800-1537117200@www.dalmatian.org.nz
SUMMARY:Open Day
DESCRIPTION:Our club rooms are open! Come check out the museum\, enjoy some kolo dancing\, listen to some music and enjoy some delicious traditional lunches and afternoon teas.
URL:https://www.dalmatian.org.nz/event/open-day/
LOCATION:Dalmatian Cultural Society\, 10 New North Rd. Eden Terrace\, Auckland\, New Zealand
ATTACH;FMTTYPE=image/jpeg:https://www.dalmatian.org.nz/wp-content/uploads/2018/03/Mate-Kivic.jpg
END:VEVENT
BEGIN:VEVENT
DTSTART;TZID=UTC:20180904T200000
DTEND;TZID=UTC:20180904T220000
DTSTAMP:20260425T003413
CREATED:20180830T043435Z
LAST-MODIFIED:20180830T043435Z
UID:1797-1536091200-1536098400@www.dalmatian.org.nz
SUMMARY:DALMATIAN GENEALOGICAL AND HISTORICAL SOCIETY
DESCRIPTION:Guest Speaker: Simon Mercep\nTuesday 4 September 2018\n8.00pm Members’ Lounge \n\nSimon traces his name back to a village on the Dalmatian\ncoast called Podgora. His grandfather came to New Zealand\nat the age of fifteen\, speaking no English. He dug for\nkauri gum in the North\, drained swamps and eventually\nran a small business in Taumarunui.\nSimon’s Slavic blood also runs through his mother’s side.\nShe’s of Polish heritage and was born in Europe.\nSimon considers himself a new-ish New Zealander.
URL:https://www.dalmatian.org.nz/event/dalmatian-genealogical-and-historical-society/
LOCATION:Dalmatian Cultural Society\, 10 New North Rd. Eden Terrace\, Auckland\, New Zealand
ATTACH;FMTTYPE=image/png:https://www.dalmatian.org.nz/wp-content/uploads/2018/08/GH.png
ORGANIZER;CN="Dalmatian%20Cultural%20Society":MAILTO:events.dallyclub@gmail.com
END:VEVENT
BEGIN:VEVENT
DTSTART;TZID=UTC:20180729T123000
DTEND;TZID=UTC:20180729T163000
DTSTAMP:20260425T003413
CREATED:20180308T071717Z
LAST-MODIFIED:20180622T203926Z
UID:1141-1532867400-1532881800@www.dalmatian.org.nz
SUMMARY:Ladies Lunch Outing
DESCRIPTION:Ladies Mid Winter lunch outing \nFortuna Restaurant \nSky City \n$27.00 a head \nBookings essential so please let Vonja know early \nphone 818 5497
URL:https://www.dalmatian.org.nz/event/ladies-lunch-outing/
LOCATION:Sky City
ATTACH;FMTTYPE=image/jpeg:https://www.dalmatian.org.nz/wp-content/uploads/2018/06/fortuna.jpg
END:VEVENT
BEGIN:VEVENT
DTSTART;TZID=UTC:20180708T140000
DTEND;TZID=UTC:20180708T160000
DTSTAMP:20260425T003413
CREATED:20180612T085706Z
LAST-MODIFIED:20180623T043735Z
UID:1287-1531058400-1531065600@www.dalmatian.org.nz
SUMMARY:Genealogy and Historical Meeting
DESCRIPTION:Speaker: Louis Segedin \nLouis will recount his trek in 2017 across the European Alps from Munich to Venice\, a distance of 570kms. \nHe will speak of his family in NZ and also his involvement of team Tarara who do tramps and walks\, notably the Tonagriro Crossing and the 2017 Oxfam walk. \n  \n 
URL:https://www.dalmatian.org.nz/event/genealogy-and-historical-meeting/
LOCATION:Dalmatian Cultural Society\, 10 New North Rd. Eden Terrace\, Auckland\, New Zealand
ATTACH;FMTTYPE=image/jpeg:https://www.dalmatian.org.nz/wp-content/uploads/2018/06/louis.jpg
ORGANIZER;CN="Dalmatian%20Cultural%20Society":MAILTO:events.dallyclub@gmail.com
END:VEVENT
BEGIN:VEVENT
DTSTART;TZID=UTC:20180701T130000
DTEND;TZID=UTC:20180701T170000
DTSTAMP:20260425T003413
CREATED:20180308T071345Z
LAST-MODIFIED:20180627T231859Z
UID:1138-1530450000-1530464400@www.dalmatian.org.nz
SUMMARY:Bingo Afternoon
DESCRIPTION:Come along for a laughter filled afternoon of bingo with some great prizes and afternoon tea \n 
URL:https://www.dalmatian.org.nz/event/ladies-bingo-afternoon/
LOCATION:Dalmatian Cultural Society\, 10 New North Rd. Eden Terrace\, Auckland\, New Zealand
ATTACH;FMTTYPE=image/jpeg:https://www.dalmatian.org.nz/wp-content/uploads/2018/03/bingo.jpg
END:VEVENT
BEGIN:VEVENT
DTSTART;TZID=UTC:20180624T140000
DTEND;TZID=UTC:20180624T170000
DTSTAMP:20260425T003413
CREATED:20180308T080204Z
LAST-MODIFIED:20180623T043909Z
UID:1157-1529848800-1529859600@www.dalmatian.org.nz
SUMMARY:Baba & Dida Concert
DESCRIPTION:A delightful kolo and singing performance followed by afternoon tea.
URL:https://www.dalmatian.org.nz/event/baba-dida-concert/
LOCATION:Dalmatian Cultural Society\, 10 New North Rd. Eden Terrace\, Auckland\, New Zealand
ATTACH;FMTTYPE=image/jpeg:https://www.dalmatian.org.nz/wp-content/uploads/2017/11/kolo.jpg
END:VEVENT
BEGIN:VEVENT
DTSTART;TZID=UTC:20180617T140000
DTEND;TZID=UTC:20180617T160000
DTSTAMP:20260425T003413
CREATED:20180308T071240Z
LAST-MODIFIED:20180612T090936Z
UID:1136-1529244000-1529251200@www.dalmatian.org.nz
SUMMARY:AGM
DESCRIPTION:
URL:https://www.dalmatian.org.nz/event/agm/
ATTACH;FMTTYPE=image/jpeg:https://www.dalmatian.org.nz/wp-content/uploads/2018/03/AGM-meeting.jpg
END:VEVENT
BEGIN:VEVENT
DTSTART;TZID=UTC:20180616T190000
DTEND;TZID=UTC:20180616T233000
DTSTAMP:20260425T003413
CREATED:20180308T071120Z
LAST-MODIFIED:20180308T071120Z
UID:1134-1529175600-1529191800@www.dalmatian.org.nz
SUMMARY:Hometown Concert
DESCRIPTION:
URL:https://www.dalmatian.org.nz/event/hometown-concert/
LOCATION:Dalmatian Cultural Society\, 10 New North Rd. Eden Terrace\, Auckland\, New Zealand
ATTACH;FMTTYPE=image/jpeg:https://www.dalmatian.org.nz/wp-content/uploads/2018/03/senior-kolo-group.jpg
END:VEVENT
BEGIN:VEVENT
DTSTART;TZID=UTC:20180527T140000
DTEND;TZID=UTC:20180527T170000
DTSTAMP:20260425T003413
CREATED:20180308T070945Z
LAST-MODIFIED:20180604T023231Z
UID:1132-1527429600-1527440400@www.dalmatian.org.nz
SUMMARY:NZ Dalmatian Kolo Festival
DESCRIPTION:
URL:https://www.dalmatian.org.nz/event/nz-dalmatian-kolo-performance/
ATTACH;FMTTYPE=image/jpeg:https://www.dalmatian.org.nz/wp-content/uploads/2017/11/Old-kolo-2.jpg
END:VEVENT
BEGIN:VEVENT
DTSTART;TZID=UTC:20180520T080000
DTEND;TZID=UTC:20180520T170000
DTSTAMP:20260425T003413
CREATED:20180308T065849Z
LAST-MODIFIED:20180327T013714Z
UID:1125-1526803200-1526835600@www.dalmatian.org.nz
SUMMARY:Briškula Tournament 2
DESCRIPTION:Briskule Tournament 2018
URL:https://www.dalmatian.org.nz/event/briskula-tournament-2/
ATTACH;FMTTYPE=image/jpeg:https://www.dalmatian.org.nz/wp-content/uploads/2018/03/Briškula-karte.jpg
END:VEVENT
BEGIN:VEVENT
DTSTART;TZID=UTC:20180513T100000
DTEND;TZID=UTC:20180513T120000
DTSTAMP:20260425T003413
CREATED:20180308T070151Z
LAST-MODIFIED:20180327T014857Z
UID:1129-1526205600-1526212800@www.dalmatian.org.nz
SUMMARY:Mothers Day Brunch
DESCRIPTION:Now’s your chance to show your wife\, mother or grandmother\, your appreciation by treating her to a delicious buffet brunch with family and friends on her Special Day. \n$25 per person \nBook with Vojna 818 5397 \n 
URL:https://www.dalmatian.org.nz/event/mothers-day-brunch/
LOCATION:Dalmatian Cultural Society\, 10 New North Rd. Eden Terrace\, Auckland\, New Zealand
ATTACH;FMTTYPE=image/jpeg:https://www.dalmatian.org.nz/wp-content/uploads/2018/03/brunch.jpg
END:VEVENT
BEGIN:VEVENT
DTSTART;TZID=UTC:20180506T080000
DTEND;TZID=UTC:20180506T170000
DTSTAMP:20260425T003413
CREATED:20180308T065804Z
LAST-MODIFIED:20180327T014955Z
UID:1123-1525593600-1525626000@www.dalmatian.org.nz
SUMMARY:Briškula Tournament
DESCRIPTION:
URL:https://www.dalmatian.org.nz/event/briskula-tournament/
ATTACH;FMTTYPE=image/jpeg:https://www.dalmatian.org.nz/wp-content/uploads/2018/03/Briškula-karte.jpg
END:VEVENT
BEGIN:VEVENT
DTSTART;TZID=UTC:20180428T180000
DTEND;TZID=UTC:20180428T220000
DTSTAMP:20260425T003413
CREATED:20180308T065642Z
LAST-MODIFIED:20180308T065642Z
UID:1120-1524938400-1524952800@www.dalmatian.org.nz
SUMMARY:Mens Dinner
DESCRIPTION:
URL:https://www.dalmatian.org.nz/event/mens-dinner/
LOCATION:Dalmatian Cultural Society\, 10 New North Rd. Eden Terrace\, Auckland\, New Zealand
END:VEVENT
BEGIN:VEVENT
DTSTART;TZID=UTC:20180426T200000
DTEND;TZID=UTC:20180426T210000
DTSTAMP:20260425T003413
CREATED:20180308T074236Z
LAST-MODIFIED:20180412T053602Z
UID:1153-1524772800-1524776400@www.dalmatian.org.nz
SUMMARY:Members Meeting
DESCRIPTION:
URL:https://www.dalmatian.org.nz/event/members-meeting/
ATTACH;FMTTYPE=image/jpeg:https://www.dalmatian.org.nz/wp-content/uploads/2017/11/A-Villa-Dalmacija-371.jpeg
END:VEVENT
BEGIN:VEVENT
DTSTART;TZID=UTC:20180422T130000
DTEND;TZID=UTC:20180422T170000
DTSTAMP:20260425T003413
CREATED:20180308T074915Z
LAST-MODIFIED:20180318T233549Z
UID:1155-1524402000-1524416400@www.dalmatian.org.nz
SUMMARY:Afternoon tea to support heart foundation
DESCRIPTION:
URL:https://www.dalmatian.org.nz/event/afternoon-tea-to-support-heart-foundation/
ATTACH;FMTTYPE=image/jpeg:https://www.dalmatian.org.nz/wp-content/uploads/2018/03/afternoon-tea.jpg
END:VEVENT
BEGIN:VEVENT
DTSTART;TZID=UTC:20180414T193000
DTEND;TZID=UTC:20180414T233000
DTSTAMP:20260425T003413
CREATED:20180308T065153Z
LAST-MODIFIED:20180322T071719Z
UID:1118-1523734200-1523748600@www.dalmatian.org.nz
SUMMARY:Viva Voce
DESCRIPTION:Viva Voce Chamber Choir Concert
URL:https://www.dalmatian.org.nz/event/viva-voce/
LOCATION:Dalmatian Cultural Society\, 10 New North Rd. Eden Terrace\, Auckland\, New Zealand
ATTACH;FMTTYPE=image/jpeg:https://www.dalmatian.org.nz/wp-content/uploads/2018/03/viva.jpg
END:VEVENT
BEGIN:VEVENT
DTSTART;TZID=UTC:20180331T080000
DTEND;TZID=UTC:20180331T170000
DTSTAMP:20260425T003413
CREATED:20180225T014929Z
LAST-MODIFIED:20180322T071834Z
UID:1085-1522483200-1522515600@www.dalmatian.org.nz
SUMMARY:Oratia Farmers Market
DESCRIPTION:The ladies of the Dalmatian Cultural Society will be at the\nOratia Farmer’s Market\, Saturday 31 March. It is the place to be for your fix of Prsule (fritule)\, Sirnice\, Kroštule and other special Dalmatian Treats for Easter.\nPrsule will be cooked fresh on the day.\n9am to 12 pm.\nhttps://www.facebook.com/OratiaFarmersMarket/
URL:https://www.dalmatian.org.nz/event/oratia-farmers-market/
ATTACH;FMTTYPE=image/jpeg:https://www.dalmatian.org.nz/wp-content/uploads/2018/02/oratia-farmer-market.jpg
END:VEVENT
BEGIN:VEVENT
DTSTART;TZID=UTC:20180310T190000
DTEND;TZID=UTC:20180310T233000
DTSTAMP:20260425T003413
CREATED:20171214T052514Z
LAST-MODIFIED:20171214T052930Z
UID:1027-1520708400-1520724600@www.dalmatian.org.nz
SUMMARY:Jadranska Večer
DESCRIPTION:
URL:https://www.dalmatian.org.nz/event/jadranska-vecer/
LOCATION:Dalmatian Cultural Society\, 10 New North Rd. Eden Terrace\, Auckland\, New Zealand
END:VEVENT
BEGIN:VEVENT
DTSTART;TZID=UTC:20180306T200000
DTEND;TZID=UTC:20180306T213000
DTSTAMP:20260425T003413
CREATED:20180225T014833Z
LAST-MODIFIED:20180225T015112Z
UID:1083-1520366400-1520371800@www.dalmatian.org.nz
SUMMARY:Genealogical and Historical Society Speaker Eamon Tolhurst - French Foreign Legion
DESCRIPTION:Genealogical and Historical Society Speaker Eamon Tolhurst – French Foreign Legion
URL:https://www.dalmatian.org.nz/event/genealogical-and-historical-society-speaker-eamon-tolhurst-french-foreign-legion/
LOCATION:Dalmatian Cultural Society\, 10 New North Rd. Eden Terrace\, Auckland\, New Zealand
ATTACH;FMTTYPE=image/jpeg:https://www.dalmatian.org.nz/wp-content/uploads/2018/02/French-Foreign.jpg
END:VEVENT
BEGIN:VEVENT
DTSTART;TZID=UTC:20180304T080000
DTEND;TZID=UTC:20180304T170000
DTSTAMP:20260425T003413
CREATED:20180225T014741Z
LAST-MODIFIED:20180226T033948Z
UID:1081-1520150400-1520182800@www.dalmatian.org.nz
SUMMARY:Ladies Bus Trip - Matakana/Orewa
DESCRIPTION:
URL:https://www.dalmatian.org.nz/event/ladies-bus-trip-matakanaorewa/
ATTACH;FMTTYPE=image/jpeg:https://www.dalmatian.org.nz/wp-content/uploads/2018/02/morris-and-james-1-small-file.jpg
END:VEVENT
BEGIN:VEVENT
DTSTART;TZID=UTC:20171231T190000
DTEND;TZID=UTC:20180101T010000
DTSTAMP:20260425T003413
CREATED:20171214T051714Z
LAST-MODIFIED:20171214T053018Z
UID:1021-1514746800-1514768400@www.dalmatian.org.nz
SUMMARY:New Years Eve
DESCRIPTION:
URL:https://www.dalmatian.org.nz/event/new-years-eve/
LOCATION:Dalmatian Cultural Society\, 10 New North Rd. Eden Terrace\, Auckland\, New Zealand
ATTACH;FMTTYPE=image/jpeg:https://www.dalmatian.org.nz/wp-content/uploads/2017/12/New-Years.jpg
END:VEVENT
BEGIN:VEVENT
DTSTART;TZID=UTC:20171217T110000
DTEND;TZID=UTC:20171217T150000
DTSTAMP:20260425T003413
CREATED:20171113T065148Z
LAST-MODIFIED:20171115T074508Z
UID:898-1513508400-1513522800@www.dalmatian.org.nz
SUMMARY:Children's Christmas Party
DESCRIPTION:Time for the kids to relax and enjoy themselves after a year of dancing and singing and music. Lunch provided and entertainment. Bring a $5 presents with your child’s name on it for Santa to give out.
URL:https://www.dalmatian.org.nz/event/childrens-christmas-party/
LOCATION:Dalmatian Cultural Society\, 10 New North Rd. Eden Terrace\, Auckland\, New Zealand
ATTACH;FMTTYPE=image/jpeg:https://www.dalmatian.org.nz/wp-content/uploads/2017/11/children-christmas-party-make-merry-46528914.jpg
END:VEVENT
BEGIN:VEVENT
DTSTART;TZID=UTC:20171203T150000
DTEND;TZID=UTC:20171203T170000
DTSTAMP:20260425T003413
CREATED:20171113T064701Z
LAST-MODIFIED:20171115T074204Z
UID:890-1512313200-1512320400@www.dalmatian.org.nz
SUMMARY:Folklore end of year concert
DESCRIPTION:Delightful afternoon of dance\, songs and music. Our children and members have been practicing all year and are ready to show off their talents to you.
URL:https://www.dalmatian.org.nz/event/folklore-end-of-year-concert/
LOCATION:Green Bay High School\, 161 Godley Rd\, Green Bay\, Auckland\, 0604\, New Zealand
ATTACH;FMTTYPE=image/jpeg:https://www.dalmatian.org.nz/wp-content/uploads/2017/08/kolo.jpg
ORGANIZER;CN="Dalmatian%20Cultural%20Society":MAILTO:events.dallyclub@gmail.com
END:VEVENT
BEGIN:VEVENT
DTSTART;TZID=UTC:20171119T090000
DTEND;TZID=UTC:20171119T170000
DTSTAMP:20260425T003413
CREATED:20171113T195254Z
LAST-MODIFIED:20171113T195254Z
UID:921-1511082000-1511110800@www.dalmatian.org.nz
SUMMARY:Oratia Dalmatian Bowling Tournament
DESCRIPTION:Get your team of 4 together for a fun day at Oratia Bowling Club.\n$10 per Bowler.\nCall Mate 8185497 or Robert 021 130 0883\nUsual Brunch $10 and Lamb on a Spit Dinner $20. Cash Bar.\nBeginners and keen players welcome.\nGive it a go!
URL:https://www.dalmatian.org.nz/event/oratia-dalmatian-bowling-tournament/
LOCATION:Oratia Bowling Club\, 515 west Coast Road\, Auckland
ATTACH;FMTTYPE=image/jpeg:https://www.dalmatian.org.nz/wp-content/uploads/2017/11/bowling-club.jpg
END:VEVENT
BEGIN:VEVENT
DTSTART;TZID=UTC:20171028T190000
DTEND;TZID=UTC:20171028T233000
DTSTAMP:20260425T003413
CREATED:20171025T082557Z
LAST-MODIFIED:20171025T082557Z
UID:806-1509217200-1509233400@www.dalmatian.org.nz
SUMMARY:Vrgorac Vecer
DESCRIPTION:The Tarara Folkore Ensemble in assocation with the Dalmatian Cultural Society invite you to an evening of music\, dinner and dancing at Vrgorac Vecer! \nVrgorac lies approximately 35km inland from Makarska\, at the foothills of the picturesque mountain of Matokit. Famous for some of Croatia’s finest strawberries\, Vrgorac and its surrounds is also home to some of the regions talented home grown musicans. \nMile Ivičević and Teo Vučković are young\, handsome\, vibrant and are very popular on the music scene. \nThey have the ability to capture their audience effortlessly with their traditional musical style and sound. Together\, and in their own respective bands\, Mile and Teo have entertained thousands of people all over the Balkans\, at festivals\, weddings\, on party boats and at private functions. \nWe are very pleased to announce them as our special guests and your entertainment for Vrgorac Većer. \nPlease join us for what promises to be a fantastic evening! Tickets are selling fast… be in quick….
URL:https://www.dalmatian.org.nz/event/vrgorac-vecer/
LOCATION:Dalmatian Cultural Society\, 10 New North Rd. Eden Terrace\, Auckland\, New Zealand
END:VEVENT
END:VCALENDAR