BEGIN:VCALENDAR
VERSION:2.0
PRODID:-//Dalmatian Cultural Society - ECPv6.0.8//NONSGML v1.0//EN
CALSCALE:GREGORIAN
METHOD:PUBLISH
X-WR-CALNAME:Dalmatian Cultural Society
X-ORIGINAL-URL:https://www.dalmatian.org.nz
X-WR-CALDESC:Events for Dalmatian Cultural Society
REFRESH-INTERVAL;VALUE=DURATION:PT1H
X-Robots-Tag:noindex
X-PUBLISHED-TTL:PT1H
BEGIN:VTIMEZONE
TZID:UTC
BEGIN:STANDARD
TZOFFSETFROM:+0000
TZOFFSETTO:+0000
TZNAME:UTC
DTSTART:20190101T000000
END:STANDARD
END:VTIMEZONE
BEGIN:VEVENT
DTSTART;TZID=UTC:20200927T140000
DTEND;TZID=UTC:20200927T190000
DTSTAMP:20260424T113446
CREATED:20200908T094931Z
LAST-MODIFIED:20200908T094931Z
UID:2297-1601215200-1601233200@www.dalmatian.org.nz
SUMMARY:Annual Briškula Tournament
DESCRIPTION:
URL:https://www.dalmatian.org.nz/event/annual-briskula-tournament-2/
ATTACH;FMTTYPE=image/jpeg:https://www.dalmatian.org.nz/wp-content/uploads/2020/09/Briskule-2020-2.jpg
END:VEVENT
BEGIN:VEVENT
DTSTART;TZID=UTC:20200920T140000
DTEND;TZID=UTC:20200920T190000
DTSTAMP:20260424T113446
CREATED:20200908T094845Z
LAST-MODIFIED:20200908T094855Z
UID:2294-1600610400-1600628400@www.dalmatian.org.nz
SUMMARY:Annual Briškula Tournament
DESCRIPTION:
URL:https://www.dalmatian.org.nz/event/annual-briskula-tournament/
ATTACH;FMTTYPE=image/jpeg:https://www.dalmatian.org.nz/wp-content/uploads/2020/09/Briskule-2020-2.jpg
END:VEVENT
BEGIN:VEVENT
DTSTART;TZID=UTC:20200815T190000
DTEND;TZID=UTC:20200815T230000
DTSTAMP:20260424T113446
CREATED:20200407T112042Z
LAST-MODIFIED:20201004T203926Z
UID:2221-1597518000-1597532400@www.dalmatian.org.nz
SUMMARY:Mens Dinner - POSTPONED TILL 2021
DESCRIPTION:Watch this space \n$50 buffet dinner \n3 drinks vouchers \n 
URL:https://www.dalmatian.org.nz/event/mens-dinner-3/
LOCATION:Dalmatian Cultural Society\, 10 New North Rd. Eden Terrace\, Auckland\, New Zealand
ATTACH;FMTTYPE=image/jpeg:https://www.dalmatian.org.nz/wp-content/uploads/2020/07/mens-dinner-bond.jpg
ORGANIZER;CN="Dalmatian%20Cultural%20Society":MAILTO:events.dallyclub@gmail.com
END:VEVENT
BEGIN:VEVENT
DTSTART;TZID=UTC:20200809T120000
DTEND;TZID=UTC:20200809T150000
DTSTAMP:20260424T113446
CREATED:20200702T072423Z
LAST-MODIFIED:20200702T072423Z
UID:2263-1596974400-1596985200@www.dalmatian.org.nz
SUMMARY:Mid Winter Lunch
DESCRIPTION:63 Davis Crescent\, Newmarket\nAll Welcome\nBookings and Menu Choices Essential \n\nPick up a Menu Form at the club and\nfill in your meal preference \n\nHand in to Vojna 818 8497\nor Mara 021 362 872\nor email dalmatiancultural@gmail.com\nBy Monday 3 August 2020.
URL:https://www.dalmatian.org.nz/event/mid-winter-lunch/
ATTACH;FMTTYPE=image/jpeg:https://www.dalmatian.org.nz/wp-content/uploads/2020/07/archies.jpg
END:VEVENT
BEGIN:VEVENT
DTSTART;TZID=UTC:20200802T140000
DTEND;TZID=UTC:20200802T170000
DTSTAMP:20260424T113446
CREATED:20200702T073619Z
LAST-MODIFIED:20200702T073619Z
UID:2270-1596376800-1596387600@www.dalmatian.org.nz
SUMMARY:Genealogical and Historical Society
DESCRIPTION:Anthony Segedin\nAnthony Segedin has had many trips to far off places around the world\, but none of these compared to the visit to the Holy Land last year in 2019.\nAnthony traveled to Jordan and Israel\nand found that like many travelers before him the experience was a deeply\npersonal journey which was spiritual\, emotional\, and historically interesting.\nHe felt the experience was more than just being a tourist.\nAnthony believes that one cannot visit\nthe Holy Land and not in some way be moved
URL:https://www.dalmatian.org.nz/event/genealogical-and-historical-society-2/
LOCATION:Dalmatian Cultural Society\, 10 New North Rd. Eden Terrace\, Auckland\, New Zealand
ATTACH;FMTTYPE=image/png:https://www.dalmatian.org.nz/wp-content/uploads/2020/07/Anthony-Segedin.png
END:VEVENT
BEGIN:VEVENT
DTSTART;TZID=UTC:20200726T140000
DTEND;TZID=UTC:20200726T170000
DTSTAMP:20260424T113446
CREATED:20200702T071916Z
LAST-MODIFIED:20200702T071916Z
UID:2258-1595772000-1595782800@www.dalmatian.org.nz
SUMMARY:BINGO
DESCRIPTION:A fun light-hearted afternoon with the thrill of the\nanticipated big win!\n$$$$$$\nSpecial Guest caller!\nSee the Ladies on the Committee for more details\nBring a plate for Afternoon Tea
URL:https://www.dalmatian.org.nz/event/bingo-3/
LOCATION:Dalmatian Cultural Society\, 10 New North Rd. Eden Terrace\, Auckland\, New Zealand
ATTACH;FMTTYPE=image/png:https://www.dalmatian.org.nz/wp-content/uploads/2020/07/Bingo-2.png
END:VEVENT
BEGIN:VEVENT
DTSTART;TZID=UTC:20200719T140000
DTEND;TZID=UTC:20200719T170000
DTSTAMP:20260424T113446
CREATED:20200702T072109Z
LAST-MODIFIED:20200702T072109Z
UID:2261-1595167200-1595178000@www.dalmatian.org.nz
SUMMARY:AGM
DESCRIPTION:Agenda will include:\nMinutes of AGM 2019\, President’s Report\, Secretary’s Report\, Treasurer’s Report\, Correspondence\,\nIntroduction of Scrutineers\, Election\, Financial Overseers’ Report\, Nelson Buildings Report\, Genealogical and Historical Society Report\, Folklore and Language Report\, Events Report\, Planning and Development Report\, Facilities Report\, Setting of Annual Dues;\nGeneral Business.\nIt is important that members attend and take part in the meeting.
URL:https://www.dalmatian.org.nz/event/agm-2/
LOCATION:Dalmatian Cultural Society\, 10 New North Rd. Eden Terrace\, Auckland\, New Zealand
ATTACH;FMTTYPE=image/jpeg:https://www.dalmatian.org.nz/wp-content/uploads/2018/03/AGM-meeting.jpg
END:VEVENT
BEGIN:VEVENT
DTSTART;TZID=UTC:20200712T110000
DTEND;TZID=UTC:20200712T140000
DTSTAMP:20260424T113446
CREATED:20200610T082009Z
LAST-MODIFIED:20200702T071304Z
UID:2244-1594551600-1594562400@www.dalmatian.org.nz
SUMMARY:Baking the Dally Way 2
DESCRIPTION:Breskvice and Strudel!\nI have always wanted to learn how to make breskvice and we have one of the best bakers to show us how! Careful though\, she has a sharp tongue  I can promise lots of laughs.\nAlso another family favourite\, apple strudel.\nNumbers are limited so please contact me on julenaworld@me.com to book a place. $25. We will sit down and enjoy our baking with a cup of tea or coffee after.
URL:https://www.dalmatian.org.nz/event/baking-the-dally-way-2/
LOCATION:Dalmatian Cultural Society\, 10 New North Rd. Eden Terrace\, Auckland\, New Zealand
ATTACH;FMTTYPE=image/jpeg:https://www.dalmatian.org.nz/wp-content/uploads/2019/03/breskvice.jpg
ORGANIZER;CN="Dalmatian%20Cultural%20Society":MAILTO:events.dallyclub@gmail.com
END:VEVENT
BEGIN:VEVENT
DTSTART;TZID=UTC:20200628T140000
DTEND;TZID=UTC:20200628T170000
DTSTAMP:20260424T113446
CREATED:20200615T080845Z
LAST-MODIFIED:20200615T081003Z
UID:2251-1593352800-1593363600@www.dalmatian.org.nz
SUMMARY:Lets celebrate the Clubs reopening with cake and music!
DESCRIPTION:Its been so good to be back at the club on a Friday night and see everyone again. So we decided to also celebrate on a Sunday afternoon with a scrumptious afternoon tea.\nOur baking class is in the morning so you can come and try the finished products and judge the best \n\nWe will have some light entertainment. The whole family welcome.\n\nDonations at the door please and if you have a cake you love baking\, please bring along a plate.
URL:https://www.dalmatian.org.nz/event/lets-celebrate-the-clubs-reopening-with-cake-and-music/
LOCATION:Dalmatian Cultural Society\, 10 New North Rd. Eden Terrace\, Auckland\, New Zealand
ATTACH;FMTTYPE=image/jpeg:https://www.dalmatian.org.nz/wp-content/uploads/2020/06/baking-table.jpg
ORGANIZER;CN="Dalmatian%20Cultural%20Society":MAILTO:events.dallyclub@gmail.com
END:VEVENT
BEGIN:VEVENT
DTSTART;TZID=UTC:20200628T110000
DTEND;TZID=UTC:20200628T140000
DTSTAMP:20260424T113446
CREATED:20200605T022429Z
LAST-MODIFIED:20200605T022429Z
UID:2237-1593342000-1593352800@www.dalmatian.org.nz
SUMMARY:Baking the Dally Way
DESCRIPTION:Ever wanted to learn how to make some of those delicious Croatian treats and cakes? Now you can come in and learn from the experts! \nTo kick off our series\, we will start with prsule and krustule. Our two most popular. Be prepared for getting your hands messy\, a lot of rolling\, and some arguing about the correct name and recipe. \nWe will start at 11am and then open up the clubrooms for afternoon tea for all at 2pm \nPrice $25 which gives you all the ingredients and tuition. \nPlease book your spot by emailing julenaworld@me.com or calling Julena 0274281922 \nNext sessions will be little peach cakes (Breskvice).  Followed by a savoury class.  Book for all 3 for $65 and save yourself $10
URL:https://www.dalmatian.org.nz/event/baking-the-dally-way/
LOCATION:Dalmatian Cultural Society\, 10 New North Rd. Eden Terrace\, Auckland\, New Zealand
ATTACH;FMTTYPE=image/jpeg:https://www.dalmatian.org.nz/wp-content/uploads/2018/02/prsule.jpg
ORGANIZER;CN="Dalmatian%20Cultural%20Society":MAILTO:events.dallyclub@gmail.com
END:VEVENT
BEGIN:VEVENT
DTSTART;TZID=UTC:20200610T110000
DTEND;TZID=UTC:20200610T140000
DTSTAMP:20260424T113446
CREATED:20200610T082119Z
LAST-MODIFIED:20200610T082119Z
UID:2246-1591786800-1591797600@www.dalmatian.org.nz
SUMMARY:Baking the Dally Way 3
DESCRIPTION:
URL:https://www.dalmatian.org.nz/event/baking-the-dally-way-3/
LOCATION:Dalmatian Cultural Society\, 10 New North Rd. Eden Terrace\, Auckland\, New Zealand
ORGANIZER;CN="Dalmatian%20Cultural%20Society":MAILTO:events.dallyclub@gmail.com
END:VEVENT
BEGIN:VEVENT
DTSTART;TZID=UTC:20200510T100000
DTEND;TZID=UTC:20200510T120000
DTSTAMP:20260424T113446
CREATED:20200312T074651Z
LAST-MODIFIED:20200407T111501Z
UID:2208-1589104800-1589112000@www.dalmatian.org.nz
SUMMARY:Mothers Day Brunch
DESCRIPTION:We will be waiting to see if this can go ahead. Watch this space for update \nBe safe\, Keep smiling.
URL:https://www.dalmatian.org.nz/event/mothers-day-brunch-3/
LOCATION:Dalmatian Cultural Society\, 10 New North Rd. Eden Terrace\, Auckland\, New Zealand
ATTACH;FMTTYPE=image/png:https://www.dalmatian.org.nz/wp-content/uploads/2020/03/mothers-day-brunch-2020.png
ORGANIZER;CN="Dalmatian%20Cultural%20Society":MAILTO:events.dallyclub@gmail.com
END:VEVENT
BEGIN:VEVENT
DTSTART;TZID=UTC:20200411T090000
DTEND;TZID=UTC:20200411T120000
DTSTAMP:20260424T113446
CREATED:20200312T072420Z
LAST-MODIFIED:20200407T111325Z
UID:2204-1586595600-1586606400@www.dalmatian.org.nz
SUMMARY:Oratia Markets Easter Stand
DESCRIPTION:POSTPONED TILL 2021 \nThe ladies will be at the Oratia Markets April 11th selling delicious Easter treats and savoury dishes. \nSee you there
URL:https://www.dalmatian.org.nz/event/oratia-markets-easter-stand/
LOCATION:oratia markets\, 441 West Coast Road\, Auckland\, New Zealand
ATTACH;FMTTYPE=image/jpeg:https://www.dalmatian.org.nz/wp-content/uploads/2020/03/easter-bread.jpg
ORGANIZER;CN="Dalmatian%20Cultural%20Society":MAILTO:events.dallyclub@gmail.com
END:VEVENT
BEGIN:VEVENT
DTSTART;TZID=UTC:20200328T180000
DTEND;TZID=UTC:20200328T233000
DTSTAMP:20260424T113446
CREATED:20191206T000213Z
LAST-MODIFIED:20200318T014759Z
UID:2099-1585418400-1585438200@www.dalmatian.org.nz
SUMMARY:Dalmatinska Večer
DESCRIPTION:POSTPONED\nWatch this space or FB for updates. \n  \nThe Dalmatian Cultural Society welcome you all to our “Dalmatinska Večer” at  Villa Dalmacija\, 10-14 New North Road\, Auckland\, New Zealand… Saturday 28th March 2020 \n\n\nOne of the first of many celebratory evenings which marks the 90th Anniversary celebrations of our society in Auckland\, New Zealand. \nOur special guest performers Mile Ivičević and Teo Vučković are back by popular demand after a sell-out fundraising event “Vrgorac Večer” in 2017. Young\, vibrant\, handsome and direct from Hrvatska\, our special guest performers are currently preparing a musical repertoire that promises to entertain you from dusk till dawn. We look forward to an unforgettable evening of songs and sounds from Hrvatska and Dalmacija. Come and join us for a fantastic evening full of music\, dinner\, dancing\, folklore and more ! \nTickets on Sale Now – Bookings Essential \nAdults $60\nChildren 11-16 $20.00 \nFor ticket and table bookings contact :\nTamara 021 740 568\ntamara@westpacmussels.co.nz \nor \nVojna 09 818 5497 \nBe in quick! Tickets already selling fast \n\n\n  \n \n 
URL:https://www.dalmatian.org.nz/event/dalmatinska-vecer/
LOCATION:Dalmatian Cultural Society\, 10 New North Rd. Eden Terrace\, Auckland\, New Zealand
ATTACH;FMTTYPE=image/png:https://www.dalmatian.org.nz/wp-content/uploads/2019/12/dalmatinska-event-picture-1.png
ORGANIZER;CN="Dalmatian%20Cultural%20Society":MAILTO:events.dallyclub@gmail.com
END:VEVENT
BEGIN:VEVENT
DTSTART;TZID=UTC:20200308T120000
DTEND;TZID=UTC:20200308T170000
DTSTAMP:20260424T113446
CREATED:20191205T235919Z
LAST-MODIFIED:20200205T065757Z
UID:2096-1583668800-1583686800@www.dalmatian.org.nz
SUMMARY:Dallies In The Valley
DESCRIPTION:  \nCome along to the New Improved Dallies in the Valley. Back at Waitemata but with all the improvements we have learnt about from last years event. \nA FESTIVAL OF WINE\, FOOD AND CULTURE\nFree Entry\nCome and Enjoy: \nFolklore Performances: Singing\, Dancing\, Music\, \nExhibits\, Bowls (Buće)\, Croatian vs Waitemata Rugby Game. Children’s activities \nDelicious Food On Offer All Day\nLamb on the Spit\, Cevapi\, Kebabs\, Chips \nPršule\, Strudel\, Torte\, Kroštule and other mouth watering Dally treats \nEnquiries: dalmatiancultural@gmail.com \nMara 021 362 872  Julena  027 428 1922 \nVenue: Waitemata Ruby 96 Swanson Road Henderson \n 
URL:https://www.dalmatian.org.nz/event/dallies-in-the-valley/
LOCATION:Waitemata Rugby Club\, 96 Swanson Road\, Auckland\, New Zealand
ATTACH;FMTTYPE=image/png:https://www.dalmatian.org.nz/wp-content/uploads/2019/12/Dallies-in-The-Valley-2020-1.png
ORGANIZER;CN="Dalmatian%20Cultural%20Society":MAILTO:events.dallyclub@gmail.com
END:VEVENT
BEGIN:VEVENT
DTSTART;TZID=UTC:20200305T193000
DTEND;TZID=UTC:20200305T203000
DTSTAMP:20260424T113446
CREATED:20200214T231351Z
LAST-MODIFIED:20200214T232429Z
UID:2195-1583436600-1583440200@www.dalmatian.org.nz
SUMMARY:Members Meeting
DESCRIPTION:All members welcome. Please remember your membership cards \nBring cake if you want to stay for a cup of tea after \n 
URL:https://www.dalmatian.org.nz/event/members-meeting-2/
LOCATION:Dalmatian Cultural Society\, 10 New North Rd. Eden Terrace\, Auckland\, New Zealand
ATTACH;FMTTYPE=image/jpeg:https://www.dalmatian.org.nz/wp-content/uploads/2020/02/calvin-meeting.jpg
ORGANIZER;CN="Dalmatian%20Cultural%20Society":MAILTO:events.dallyclub@gmail.com
END:VEVENT
BEGIN:VEVENT
DTSTART;TZID=UTC:20200303T200000
DTEND;TZID=UTC:20200303T210000
DTSTAMP:20260424T113446
CREATED:20200214T225733Z
LAST-MODIFIED:20200214T225733Z
UID:2192-1583265600-1583269200@www.dalmatian.org.nz
SUMMARY:Genealogical and Historical Society Meeting
DESCRIPTION:Meeting\n8.00pm Tuesday 3 March 2020\n\nSpeaker\nSebastian Willems\n\nWe have an exotic speaker for Tuesday 3rd March\,Sebastian Willems\, who is visiting NZ from Germany.\nHis mother is from Belgrade but with family in Lika and other parts of the Former Yugoslavia. His father is from Hamburg and although both he and his mother live and work in Germany Sebastian has spent time with his grandparents in Belgrade and also studied at Belgrade and Zagreb University. Sebastian also speaks English.\nHe is very interested in migrant history and has been compiling a personal video of his discoveries in Australia and New Zealand.\nHe works for the European TV channel ARTE which broadcasts in several languages to many countries. He will tell us about his family migrations and travels and something about life in Germany.\nHe is here with his mother Sanja. On visiting the Museum and archives she was most interested in hearing about our Kolo dancing programme at the club\, as she had been a kolo performer in her youth. She loved our photos and costume displays.
URL:https://www.dalmatian.org.nz/event/genealogical-and-historical-society-meeting/
LOCATION:Dalmatian Cultural Society\, 10 New North Rd. Eden Terrace\, Auckland\, New Zealand
END:VEVENT
BEGIN:VEVENT
DTSTART;TZID=UTC:20200209T090000
DTEND;TZID=UTC:20200209T170000
DTSTAMP:20260424T113446
CREATED:20191209T072424Z
LAST-MODIFIED:20191209T072726Z
UID:2109-1581238800-1581267600@www.dalmatian.org.nz
SUMMARY:NZ Dalmatian Bowling Fraternity Tournament
DESCRIPTION:  \n32 team Limit \nContact Alan Babich 09 833 6169 \nEntry Fee $140 per team
URL:https://www.dalmatian.org.nz/event/nz-dalmatian-bowling-fraternity-tournament/
LOCATION:Royal Oak Bowling Club\, 146 Sewlyn Road\, Auckland\, New Zealand
ATTACH;FMTTYPE=image/png:https://www.dalmatian.org.nz/wp-content/uploads/2019/12/Bowls-002.png
END:VEVENT
BEGIN:VEVENT
DTSTART;TZID=UTC:20200207T190000
DTEND;TZID=UTC:20200207T210000
DTSTAMP:20260424T113446
CREATED:20200128T090811Z
LAST-MODIFIED:20200130T232145Z
UID:2180-1581102000-1581109200@www.dalmatian.org.nz
SUMMARY:Folklore Enrollment Night
DESCRIPTION:Folklore Enrollments begin at 7pm on Friday 7 February 2020. \nClub Social Nights start on the same night. \nYou must be a Member of our society to take part in our Folklore and Language Programme so you can bring yourself and your young ones to learn to dance\, sing\, learn the Croatian language and learn the Tamburica. \n\nMembership forms will be available along with the Enrollment Forms. EFTPOS available.\nOne member in the family $30\nTwo members in the family $40\nThree or more members in family $50\nThe above fees entitles folklore students to take part in Kolo\, tamburica\, and/or Croatian Language classes. \nWatch out for an exciting new kolo group which will be starting in March. More details coming from Mara Blucher in the Newsletter and on Facebook.
URL:https://www.dalmatian.org.nz/event/folklore-enrollment-night/
LOCATION:Dalmatian Cultural Society\, 10 New North Rd. Eden Terrace\, Auckland\, New Zealand
ATTACH;FMTTYPE=image/jpeg:https://www.dalmatian.org.nz/wp-content/uploads/2019/07/junior-little-dally.jpg
ORGANIZER;CN="Dalmatian%20Cultural%20Society":MAILTO:events.dallyclub@gmail.com
END:VEVENT
BEGIN:VEVENT
DTSTART;TZID=UTC:20200202T093000
DTEND;TZID=UTC:20200202T170000
DTSTAMP:20260424T113446
CREATED:20191205T234852Z
LAST-MODIFIED:20200127T202839Z
UID:2092-1580635800-1580662800@www.dalmatian.org.nz
SUMMARY:Summer Picnic Long Bay
DESCRIPTION:Dalmatian Cultural Society\nInvites you to our \nSummer Picnic\nSunday 2 February 2020 All Day \nPlease note change of date and venue\nSite 3\nLong Bay Regional Park\nBeach Road\nLong Bay\, North Shore\nAuckland \nCome and Join us for our first event of the year\n2.30pm Races Tons of fun activities for Kids and the Whole Family\nBring a picnic\, drinks\, hats and lots of sunblock
URL:https://www.dalmatian.org.nz/event/summer-picnic-long-bay/
LOCATION:Long Bay site 3\, Long Bay Regional Park\, Auckland\, New Zealand
ATTACH;FMTTYPE=image/jpeg:https://www.dalmatian.org.nz/wp-content/uploads/2019/12/Picnic-image-NEW-002.jpg
END:VEVENT
BEGIN:VEVENT
DTSTART;TZID=UTC:20191231T190000
DTEND;TZID=UTC:20200101T003000
DTSTAMP:20260424T113446
CREATED:20191205T234525Z
LAST-MODIFIED:20191209T071655Z
UID:2089-1577818800-1577838600@www.dalmatian.org.nz
SUMMARY:New Years Eve
DESCRIPTION:RING VOJNA FOR TICKETS 8185497
URL:https://www.dalmatian.org.nz/event/new-years-eve-2/
LOCATION:Dalmatian Cultural Society\, 10 New North Rd. Eden Terrace\, Auckland\, New Zealand
ATTACH;FMTTYPE=image/jpeg:https://www.dalmatian.org.nz/wp-content/uploads/2019/12/2020.jpg
END:VEVENT
BEGIN:VEVENT
DTSTART;TZID=UTC:20191220T190000
DTEND;TZID=UTC:20191220T233000
DTSTAMP:20260424T113446
CREATED:20191206T000400Z
LAST-MODIFIED:20191211T065230Z
UID:2102-1576868400-1576884600@www.dalmatian.org.nz
SUMMARY:LAST SOCIAL NIGHT OF 2019
DESCRIPTION:
URL:https://www.dalmatian.org.nz/event/last-social-night-of-2019/
LOCATION:Dalmatian Cultural Society\, 10 New North Rd. Eden Terrace\, Auckland\, New Zealand
ATTACH;FMTTYPE=image/jpeg:https://www.dalmatian.org.nz/wp-content/uploads/2019/12/FRIDAY-DINNERS.jpg
END:VEVENT
BEGIN:VEVENT
DTSTART;TZID=UTC:20191215T110000
DTEND;TZID=UTC:20191215T150000
DTSTAMP:20260424T113446
CREATED:20190710T100014Z
LAST-MODIFIED:20190926T052546Z
UID:1959-1576407600-1576422000@www.dalmatian.org.nz
SUMMARY:Children's Christmas Party
DESCRIPTION:Time for the kids to relax and let loose after a year of dancing and performing. \nLunch served and entertainment provided. \n 
URL:https://www.dalmatian.org.nz/event/childrens-christmas-party-3/
LOCATION:Dalmatian Cultural Society\, 10 New North Rd. Eden Terrace\, Auckland\, New Zealand
ATTACH;FMTTYPE=image/jpeg:https://www.dalmatian.org.nz/wp-content/uploads/2019/07/christmas-card-2945633__340.jpg
ORGANIZER;CN="Dalmatian%20Cultural%20Society":MAILTO:events.dallyclub@gmail.com
END:VEVENT
BEGIN:VEVENT
DTSTART;TZID=UTC:20191203T200000
DTEND;TZID=UTC:20191203T220000
DTSTAMP:20260424T113446
CREATED:20190926T094945Z
LAST-MODIFIED:20191020T234808Z
UID:2040-1575403200-1575410400@www.dalmatian.org.nz
SUMMARY:Dalmatian Genealogical & Historical Christmas Party
DESCRIPTION:End of Year Get together\nTuesday 3 December\, 8.00 pm.\nSpecial Guest Performer\nTBA\nAdmission $5.00 or a plate of food\nExcellent Raffles\nAll Welcome \nArchive & Museum Open Fridays 7.30-9.00pm\nOne hour before Monthly Meetings 7.00-8.00pm\nWith exception to public & school holidays \n 
URL:https://www.dalmatian.org.nz/event/dalmatian-genealogical-historical-christmas-party/
LOCATION:Dalmatian Cultural Society\, 10 New North Rd. Eden Terrace\, Auckland\, New Zealand
ATTACH;FMTTYPE=image/jpeg:https://www.dalmatian.org.nz/wp-content/uploads/2019/09/free-adorable-old-santa-claus-picture-wallpaper_1440x900_88114.jpg
END:VEVENT
BEGIN:VEVENT
DTSTART;TZID=UTC:20191201T140000
DTEND;TZID=UTC:20191201T163000
DTSTAMP:20260424T113446
CREATED:20190710T095343Z
LAST-MODIFIED:20191128T043322Z
UID:1957-1575208800-1575217800@www.dalmatian.org.nz
SUMMARY:End Of Year Concert
DESCRIPTION:Green Bay Auditorium \n2.00pm Sunday 1st December \n 
URL:https://www.dalmatian.org.nz/event/end-of-year-concert-2/
LOCATION:Green Bay High School\, 161 Godley Rd\, Green Bay\, Auckland\, 0604\, New Zealand
CATEGORIES:afternoon tea,Concert
ATTACH;FMTTYPE=image/jpeg:https://www.dalmatian.org.nz/wp-content/uploads/2018/07/7A90E968-1CF5-4A11-8C79-AFEC02EE8C82.jpeg
ORGANIZER;CN="Dalmatian%20Cultural%20Society":MAILTO:events.dallyclub@gmail.com
END:VEVENT
BEGIN:VEVENT
DTSTART;TZID=UTC:20191117T090000
DTEND;TZID=UTC:20191117T170000
DTSTAMP:20260424T113446
CREATED:20190810T211201Z
LAST-MODIFIED:20190926T031312Z
UID:1990-1573981200-1574010000@www.dalmatian.org.nz
SUMMARY:Oratia Bowls
DESCRIPTION:Organise your teams for some still competition on the green \nContact Mate Pavlovich 818 5497 \n \n 
URL:https://www.dalmatian.org.nz/event/oratia-bowls/
LOCATION:Oratia Bowling Club\, 515 west Coast Road\, Auckland
ATTACH;FMTTYPE=image/png:https://www.dalmatian.org.nz/wp-content/uploads/2019/08/bowls.png
ORGANIZER;CN="Dalmatian%20Cultural%20Society":MAILTO:events.dallyclub@gmail.com
END:VEVENT
BEGIN:VEVENT
DTSTART;TZID=UTC:20191105T200000
DTEND;TZID=UTC:20191105T213000
DTSTAMP:20260424T113446
CREATED:20190926T094328Z
LAST-MODIFIED:20191017T004013Z
UID:2038-1572984000-1572989400@www.dalmatian.org.nz
SUMMARY:Dalmatian Genealogical and Historical Society
DESCRIPTION:Tuesday 5 November\, 8.00pm \nSpeaker George Yelavich
URL:https://www.dalmatian.org.nz/event/dalmatian-genealogical-and-historical-society-4/
LOCATION:Dalmatian Cultural Society\, 10 New North Rd. Eden Terrace\, Auckland\, New Zealand
ATTACH;FMTTYPE=image/jpeg:https://www.dalmatian.org.nz/wp-content/uploads/2019/09/george.jpg
END:VEVENT
BEGIN:VEVENT
DTSTART;TZID=UTC:20191103T120000
DTEND;TZID=UTC:20191103T160000
DTSTAMP:20260424T113446
CREATED:20190710T094702Z
LAST-MODIFIED:20190926T031910Z
UID:1954-1572782400-1572796800@www.dalmatian.org.nz
SUMMARY:Ladies Luncheon
DESCRIPTION:Get your girlfriends together for our yearly Ladies Lunch. Come and enjoy a scrumptious lunch and dessert\,  a stunning range of raffle items\, entertainment and great laughs.  \nCall Vojna on 818 5497 or Julena 0274281922 to book your tickets now
URL:https://www.dalmatian.org.nz/event/ladies-luncheon-2/
LOCATION:Dalmatian Cultural Society\, 10 New North Rd. Eden Terrace\, Auckland\, New Zealand
ATTACH;FMTTYPE=image/jpeg:https://www.dalmatian.org.nz/wp-content/uploads/2019/07/Bistro-Moncur-Ladies-Lunch-lores.jpg
ORGANIZER;CN="Dalmatian%20Cultural%20Society":MAILTO:events.dallyclub@gmail.com
END:VEVENT
BEGIN:VEVENT
DTSTART;TZID=UTC:20191025T190000
DTEND;TZID=UTC:20191025T220000
DTSTAMP:20260424T113446
CREATED:20190710T104103Z
LAST-MODIFIED:20190926T083950Z
UID:1963-1572030000-1572040800@www.dalmatian.org.nz
SUMMARY:Haunted Halloween
DESCRIPTION:Join us for a spooky night of fun\, food\, dancing and music \nPrizes for Best Dress Family\, Best Dressed Boy & Girl
URL:https://www.dalmatian.org.nz/event/family-halloween-dine-and-dance/
LOCATION:Dalmatian Cultural Society\, 10 New North Rd. Eden Terrace\, Auckland\, New Zealand
ATTACH;FMTTYPE=image/jpeg:https://www.dalmatian.org.nz/wp-content/uploads/2019/07/addams-family-01-e1562751818160.jpg
ORGANIZER;CN="Dalmatian%20Cultural%20Society":MAILTO:events.dallyclub@gmail.com
END:VEVENT
BEGIN:VEVENT
DTSTART;TZID=UTC:20191011T180000
DTEND;TZID=UTC:20191011T220000
DTSTAMP:20260424T113446
CREATED:20190926T033253Z
LAST-MODIFIED:20190926T053015Z
UID:2021-1570816800-1570831200@www.dalmatian.org.nz
SUMMARY:Fish & Chips Family Movie Nights
DESCRIPTION:Holiday Big Screen Viewing. \nMovie Menu \nFish & Chips $15 \nPot chips $5 \nIce cream cone $2 \nYoung Children Movie starts at 6.30 and older kids starts at 7.45
URL:https://www.dalmatian.org.nz/event/fish-chips-family-movie-nights-2/
LOCATION:Dalmatian Cultural Society\, 10 New North Rd. Eden Terrace\, Auckland\, New Zealand
ATTACH;FMTTYPE=image/jpeg:https://www.dalmatian.org.nz/wp-content/uploads/2019/09/Family-Movie-Night-cover1.jpg
ORGANIZER;CN="Dalmatian%20Cultural%20Society":MAILTO:events.dallyclub@gmail.com
END:VEVENT
END:VCALENDAR