BEGIN:VCALENDAR
VERSION:2.0
PRODID:-//Dalmatian Cultural Society - ECPv6.0.8//NONSGML v1.0//EN
CALSCALE:GREGORIAN
METHOD:PUBLISH
X-WR-CALNAME:Dalmatian Cultural Society
X-ORIGINAL-URL:https://www.dalmatian.org.nz
X-WR-CALDESC:Events for Dalmatian Cultural Society
REFRESH-INTERVAL;VALUE=DURATION:PT1H
X-Robots-Tag:noindex
X-PUBLISHED-TTL:PT1H
BEGIN:VTIMEZONE
TZID:UTC
BEGIN:STANDARD
TZOFFSETFROM:+0000
TZOFFSETTO:+0000
TZNAME:UTC
DTSTART:20200101T000000
END:STANDARD
END:VTIMEZONE
BEGIN:VEVENT
DTSTART;TZID=UTC:20210620T140000
DTEND;TZID=UTC:20210620T170000
DTSTAMP:20260424T072409
CREATED:20210528T062105Z
LAST-MODIFIED:20210528T062105Z
UID:2412-1624197600-1624208400@www.dalmatian.org.nz
SUMMARY:ANNUAL GENERAL MEETING
DESCRIPTION:Dalmatinsko Kulturno Društvo Inc. \nANNUAL GENERAL MEETING \nSUNDAY 20 JUNE 2021 \nStarting at 2.00 pm  \nTo be held in the Society Ballroom at 10 New North Rd\, Eden Terrace\, Auckland \nAgenda will include: \nMinutes of AGM 2020\, President’s Report\, Secretary’s Report\, Treasurer’s Report\, Correspondence\, \nIntroduction of Scrutineers\, ELECTION\, Financial Overseers’ Report\, Nelson Buildings Report\, Genealogical and Historical Society Report\, Folklore and Language Report\, Events Report\, Planning and Development Report\, IT and Technical Support\, Setting of Annual Dues; General Business. \nIt is important that members attend and take part in the meeting.
URL:https://www.dalmatian.org.nz/event/annual-general-meeting-2/
LOCATION:Dalmatian Cultural Society\, 10 New North Rd. Eden Terrace\, Auckland\, New Zealand
ATTACH;FMTTYPE=image/jpeg:https://www.dalmatian.org.nz/wp-content/uploads/2019/05/meetings.jpg
ORGANIZER;CN="Dalmatian%20Cultural%20Society":MAILTO:events.dallyclub@gmail.com
END:VEVENT
BEGIN:VEVENT
DTSTART;TZID=UTC:20210606T140000
DTEND;TZID=UTC:20210606T170000
DTSTAMP:20260424T072409
CREATED:20210528T061755Z
LAST-MODIFIED:20210528T061838Z
UID:2409-1622988000-1622998800@www.dalmatian.org.nz
SUMMARY:Dalmatian Genealogical and Historical Society - June Meeting
DESCRIPTION:Dalmatian Genealogical and Historical Society \nJune Meeting—Sunday 6 June 2021 at 2pm \nMid –Year Get Together \nInformal Meeting in the Archive and then go upstairs to the Members’ Lounge for Afternoon Tea. After last year’s covid lockdowns and then being too shorthanded to open the Archive before the few meetings that we had\, it will be good to spend time with our friends discussing the displays and reminiscing. \nThis will be a social occasion with opportunities for nostalgia.  We invite members to bring items along for a ‘Bring and Tell’ session while we are downstairs.
URL:https://www.dalmatian.org.nz/event/dalmatian-genealogical-and-historical-society-june-meeting/
LOCATION:Dalmatian Cultural Society\, 10 New North Rd. Eden Terrace\, Auckland\, New Zealand
ATTACH;FMTTYPE=image/jpeg:https://www.dalmatian.org.nz/wp-content/uploads/2021/05/download.jpg
END:VEVENT
BEGIN:VEVENT
DTSTART;TZID=UTC:20210523T140000
DTEND;TZID=UTC:20210523T170000
DTSTAMP:20260424T072409
CREATED:20210507T180114Z
LAST-MODIFIED:20210507T180247Z
UID:2395-1621778400-1621789200@www.dalmatian.org.nz
SUMMARY:Earthquake Entertainment Fundraising  Afternoon Tea
DESCRIPTION:FUNDRAISING FOR PETRINJA\, CROATIA\, and the recent devastating earthquake.\nA time to remember how lucky we are and our opportunity to support others less fortunate than us due to the disaster which befell them in this area in Croatia. Come along and show solidarity by contributing to this worthwhile cause.\n\nEntertainment includes the Tarara Folklore Ensemble\, the Tamburica Orchestra\, Choirs.\n\nIt gives us great pleasure to announce a special guest performance from Katija Vlatkovich.\n\n2.00pm Sunday 23 May. Villa Dalmacija\, 10 New North Road\, Eden Terrace\nWe respectfully ask for a donation of $20\n 
URL:https://www.dalmatian.org.nz/event/earthquake-entertainment-fundraising-afternoon-tea/
LOCATION:Dalmatian Cultural Society\, 10 New North Rd. Eden Terrace\, Auckland\, New Zealand
ATTACH;FMTTYPE=image/jpeg:https://www.dalmatian.org.nz/wp-content/uploads/2020/06/baking-table.jpg
ORGANIZER;CN="Dalmatian%20Cultural%20Society":MAILTO:events.dallyclub@gmail.com
END:VEVENT
BEGIN:VEVENT
DTSTART;TZID=UTC:20210509T100000
DTEND;TZID=UTC:20210509T130000
DTSTAMP:20260424T072409
CREATED:20210414T114617Z
LAST-MODIFIED:20210414T114729Z
UID:2390-1620554400-1620565200@www.dalmatian.org.nz
SUMMARY:Mothers Day Brunch
DESCRIPTION:Spoil Your Special Lady (or ladies) at the Cub for Mothers Day\n  \nBring the whole family and enjoy a wonderful brunch and some light entertainment. \nUnder 10 years free.  Our clubrooms are a wonderful safe place for your young kiddies.
URL:https://www.dalmatian.org.nz/event/mothers-day-brunch-4/
LOCATION:Dalmatian Cultural Society\, 10 New North Rd. Eden Terrace\, Auckland\, New Zealand
ATTACH;FMTTYPE=image/jpeg:https://www.dalmatian.org.nz/wp-content/uploads/2021/04/mothers-day-brunch-foods-menu-MOTHERSBRUNCH0319.jpg
ORGANIZER;CN="Dalmatian%20Cultural%20Society":MAILTO:events.dallyclub@gmail.com
END:VEVENT
BEGIN:VEVENT
DTSTART;VALUE=DATE:20210418
DTEND;VALUE=DATE:20210419
DTSTAMP:20260424T072409
CREATED:20210331T005156Z
LAST-MODIFIED:20210331T005156Z
UID:2368-1618704000-1618790399@www.dalmatian.org.nz
SUMMARY:Whangarei Folklore Concert Bus Trip
DESCRIPTION:We are off to Whangarei Club for the day! A very special occasion to thank the Whangarei Dalmatian Club for the donation  of the NZ Dalmatinsko Kolo Costumes \nLunch and dancing. \nPerformances by the Tarara Folklore Ensemble and the Tamburica Orchestra and Choir \nBuses leave at 8am. Lunch at the Northern Club \nBookings essential for Buses and Lunch. Call Mara on 021 362 872 or 836 2073 or Vojna 818 5497
URL:https://www.dalmatian.org.nz/event/whangarei-folklore-concert-bus-trip/
ATTACH;FMTTYPE=image/jpeg:https://www.dalmatian.org.nz/wp-content/uploads/2019/12/OLD-KOLO-2019.jpg
ORGANIZER;CN="Dalmatian%20Cultural%20Society":MAILTO:events.dallyclub@gmail.com
END:VEVENT
BEGIN:VEVENT
DTSTART;TZID=UTC:20210410T190000
DTEND;TZID=UTC:20210410T233000
DTSTAMP:20260424T072409
CREATED:20210331T005755Z
LAST-MODIFIED:20210331T005755Z
UID:2383-1618081200-1618097400@www.dalmatian.org.nz
SUMMARY:Men's Dinner
DESCRIPTION:Time again for our annual Men’s Dinner where the men get to relax\, partake in a delicious meal provided by the ladies\, and enjoy some entertainment.\nSo no different from most nights really….\n  \nWe have a speaker who is both an actor and a fireman. A new quiz\, some spot prizes\, and a raffle\, followed by the final act to delight the senses. \nTickets $50 which covers a buffet meal and 2 drinks vouchers. \nCall Vojna on 09 818 5497 or Julena 0274281922 or email julenaworld@me.com to book your seat \n  \n 
URL:https://www.dalmatian.org.nz/event/mens-dinner-4/
LOCATION:Dalmatian Cultural Society\, 10 New North Rd. Eden Terrace\, Auckland\, New Zealand
ATTACH;FMTTYPE=image/jpeg:https://www.dalmatian.org.nz/wp-content/uploads/2020/07/mens-dinner-bond.jpg
ORGANIZER;CN="Dalmatian%20Cultural%20Society":MAILTO:events.dallyclub@gmail.com
END:VEVENT
BEGIN:VEVENT
DTSTART;TZID=UTC:20210406T200000
DTEND;TZID=UTC:20210406T220000
DTSTAMP:20260424T072409
CREATED:20210405T212105Z
LAST-MODIFIED:20210405T212105Z
UID:2386-1617739200-1617746400@www.dalmatian.org.nz
SUMMARY:Dalmatian Genealogical and Historical Society Speaker
DESCRIPTION:First Meeting in 2021 will be on\n8.00 pm Tuesday 6 April 2021\nMike Maran\nMembers’ Lounge\, Villa Dalmacija\,\n10 New North Road\, Eden Terrace.\nThis meeting will be unique and fascinating.\nMike is an expert in handwriting and signature examination. He specialises in handwriting analysis and signature authentication. His services are called on by the Police as well as private individuals. He is also an expert in graphology which is the study of personality in handwriting.\nMike’s talk will cover both graphology and forensic handwriting and document examination. Those attending the talk are requested to bring along a pen (paper will be supplied).\n\nWe will be entertained as well as educated.\nThis will be an intriguing start to the year.\nEmail: dalmatianmuseum@gmail.com
URL:https://www.dalmatian.org.nz/event/dalmatian-genealogical-and-historical-society-speaker/
LOCATION:Dalmatian Cultural Society\, 10 New North Rd. Eden Terrace\, Auckland\, New Zealand
ATTACH;FMTTYPE=image/jpeg:https://www.dalmatian.org.nz/wp-content/uploads/2021/04/mike-maran.jpg
END:VEVENT
BEGIN:VEVENT
DTSTART;TZID=UTC:20210328T160000
DTEND;TZID=UTC:20210328T170000
DTSTAMP:20260424T072409
CREATED:20210325T045313Z
LAST-MODIFIED:20210325T045313Z
UID:2375-1616947200-1616950800@www.dalmatian.org.nz
SUMMARY:Members Meeting and Dinner after
DESCRIPTION:Members Meeting will be held this Sunday 28th in the ballroom at 4pm\nPlease stay for a delicious dinner afterward in the member’s lounge.\nIt would be great if you are staying to dine if you could let Vojna 09 818 5497 or Julena 0274281922 that you are coming
URL:https://www.dalmatian.org.nz/event/members-meeting-and-dinner-after/
LOCATION:Dalmatian Cultural Society\, 10 New North Rd. Eden Terrace\, Auckland\, New Zealand
ATTACH;FMTTYPE=image/jpeg:https://www.dalmatian.org.nz/wp-content/uploads/2018/03/AGM-meeting.jpg
END:VEVENT
BEGIN:VEVENT
DTSTART;TZID=UTC:20210325T000000
DTEND;TZID=UTC:20210325T000000
DTSTAMP:20260424T072409
CREATED:20210325T045955Z
LAST-MODIFIED:20210325T050023Z
UID:2377-1616630400-1616630400@www.dalmatian.org.nz
SUMMARY:Berba Easter Festival
DESCRIPTION:Our senior Kolo group\, the Tarara Kolo\, will be performing at Soljans.\n\n“For as long as we can remember we have celebrated harvest through our Berba Festival. Inviting anyone and everyone to come and join us in our excitement for the new vintage and having harvest underway. Last year\, we can all agree\, was a bit different\, and for the first time we had to cancel Berba\, but this year\, we are back and better than ever!\n\n“Berba”\, defined as “Harvest” was a festival that started in Croatia back in the 18th century to celebrate the picking and gathering of grapes. Five generations later\, still 100% family-owned and currently managed by the 3rd generation Tony Soljan\, our family believes in continuing the tradition and celebrating our heritage!\nOver Easter weekend\, 3rd\, 4th and 5th of April\, we will be celebrating harvest in true Soljans style! With grape stomping\, winery tours\, good food\, award-winning wine\, face painting\, Croatian dancing\, live music\, wine deals and this year to top all off\, happy hour!\nBook your lunch in our award-winning café ahead of time and soak up the festive atmosphere – www.soljans.co.nz/cafe/bookings – or just come along for a glass of wine and some nibbles outside!\nCome join in the celebrations!”
URL:https://www.dalmatian.org.nz/event/berba-easter-festival/
ATTACH;FMTTYPE=image/jpeg:https://www.dalmatian.org.nz/wp-content/uploads/2021/03/berba.jpg
END:VEVENT
BEGIN:VEVENT
DTSTART;TZID=UTC:20210207T083000
DTEND;TZID=UTC:20210207T170000
DTSTAMP:20260424T072409
CREATED:20210113T223527Z
LAST-MODIFIED:20210113T223527Z
UID:2358-1612686600-1612717200@www.dalmatian.org.nz
SUMMARY:Dalmatian Bowls
DESCRIPTION:AS WE HAVE DONE FOR THE PAST 50 YEARS\, WE ARE ONCE AGAIN HOLDING OUR ANNUAL TOURNAMENT.\n\nENTRY FEE: $ 140.00 PER TEAM\nLIMITED TO THE FIRST 32 TEAMS ENTERED\nENTRIES TO BE IN NO LATER THAN 2ND FEBRUARY 2021. REMEMBER NO PAY – NO PLAY \nROYAL OAK BOWLS (FORMERLY ONEHUNGA BOWLING CLUB)\n146 SELWYN RD. ONEHUNGA. \n\nSUNDAY 7TH FEBRUARY 2021\n32 TEAMS LIMIT \nLUNCH PROVIDED: TRADITIONAL DALMATION STYLE LAMB.\nSUPPORT THIS EVENT AS YOU HAVE IN THE PAST AND HELP MAKE THIS ANNUAL GET TOGETHER THE GREAT SUCCESS IT ALWAYS IS.\nTO ASSIST YOUR COMMITTEE\, ENSURE THAT ALL PLAYERS ARE ASSEMBLED BY 8.30AM FOR A PROMPT START. SINGLE ENTRIES\nACCEPTED AND WILL BE GRADED INTO A TEAM. \n\nGET YOUR DALMATION FRIENDS AND / OR THEIR SPOUSES OR CHILDREN TO ENTER A TEAM.\nWOMEN BOWLERS ARE INVITED TO ENTER AS PART OF A MIXED TEAM.\nSINGLE ENTRY OR AS A WOMEN’S TEAM. \n\nTOURNAMENT MANAGER: IVAN BOTICA PH (09) 6265134 \nCLICK HERE FOR TEAM ENTRY FORM Dalmatian Bowls 2021
URL:https://www.dalmatian.org.nz/event/dalmatian-bowls/
LOCATION:ROYAL OAK BOWLS\, 146 SELWYN RD. ONEHUNGA\, AUCKLAND\, New Zealand
ATTACH;FMTTYPE=image/png:https://www.dalmatian.org.nz/wp-content/uploads/2021/01/Bowls2021.png
END:VEVENT
BEGIN:VEVENT
DTSTART;TZID=UTC:20210131T090000
DTEND;TZID=UTC:20210131T170000
DTSTAMP:20260424T072409
CREATED:20210112T073944Z
LAST-MODIFIED:20210112T073944Z
UID:2353-1612083600-1612112400@www.dalmatian.org.nz
SUMMARY:Annual Picnic
DESCRIPTION:
URL:https://www.dalmatian.org.nz/event/annual-picnic/
LOCATION:Long Bay site 3\, Long Bay Regional Park\, Auckland\, New Zealand
ATTACH;FMTTYPE=image/png:https://www.dalmatian.org.nz/wp-content/uploads/2021/01/Picnic-2021-002.jpg.png
ORGANIZER;CN="Dalmatian%20Cultural%20Society":MAILTO:events.dallyclub@gmail.com
END:VEVENT
BEGIN:VEVENT
DTSTART;TZID=UTC:20201231T190000
DTEND;TZID=UTC:20210101T000000
DTSTAMP:20260424T072409
CREATED:20201209T091050Z
LAST-MODIFIED:20201209T091155Z
UID:2349-1609441200-1609459200@www.dalmatian.org.nz
SUMMARY:New Years Eve Dine and Dance
DESCRIPTION:Contact Vojna for tickets 09 818 5497
URL:https://www.dalmatian.org.nz/event/new-years-eve-dine-and-dance/
LOCATION:Dalmatian Cultural Society\, 10 New North Rd. Eden Terrace\, Auckland\, New Zealand
ORGANIZER;CN="Dalmatian%20Cultural%20Society":MAILTO:events.dallyclub@gmail.com
END:VEVENT
BEGIN:VEVENT
DTSTART;TZID=UTC:20201220T110000
DTEND;TZID=UTC:20201220T140000
DTSTAMP:20260424T072409
CREATED:20201110T075125Z
LAST-MODIFIED:20201129T175457Z
UID:2311-1608462000-1608472800@www.dalmatian.org.nz
SUMMARY:Children Christmas Party
DESCRIPTION:Fun and Games \nentertainment starts at 11am \nSanta and Presents\nplease bring a small present for your child with their name on it for Santas sack \nGreat Food!\nlunch at 12.30 \nAll welcome!!\n 
URL:https://www.dalmatian.org.nz/event/children-christmas-party/
LOCATION:Dalmatian Cultural Society\, 10 New North Rd. Eden Terrace\, Auckland\, New Zealand
ATTACH;FMTTYPE=image/jpeg:https://www.dalmatian.org.nz/wp-content/uploads/2019/07/christmas-card-2945633__340.jpg
ORGANIZER;CN="Dalmatian%20Cultural%20Society":MAILTO:events.dallyclub@gmail.com
END:VEVENT
BEGIN:VEVENT
DTSTART;TZID=UTC:20201206T140000
DTEND;TZID=UTC:20201206T160000
DTSTAMP:20260424T072409
CREATED:20201111T093200Z
LAST-MODIFIED:20201129T175604Z
UID:2316-1607263200-1607270400@www.dalmatian.org.nz
SUMMARY:End Of Year Concert
DESCRIPTION:Come celebrate the end of an interesting year with our annual folklore concert\n  \nThis year we will be holding it at our clubrooms. A delightful concert followed by afternoon tea and cash bar. \n  \nChristmas market also back from popular demand \n  \n$10 tickets \nkids free under 12
URL:https://www.dalmatian.org.nz/event/end-of-year-concert-3/
LOCATION:Dalmatian Cultural Society\, 10 New North Rd. Eden Terrace\, Auckland\, New Zealand
CATEGORIES:afternoon tea,Concert
ATTACH;FMTTYPE=image/jpeg:https://www.dalmatian.org.nz/wp-content/uploads/2019/12/OLD-KOLO-2019.jpg
ORGANIZER;CN="Dalmatian%20Cultural%20Society":MAILTO:events.dallyclub@gmail.com
END:VEVENT
BEGIN:VEVENT
DTSTART;TZID=UTC:20201201T200000
DTEND;TZID=UTC:20201201T220000
DTSTAMP:20260424T072409
CREATED:20201110T080139Z
LAST-MODIFIED:20201110T080139Z
UID:2313-1606852800-1606860000@www.dalmatian.org.nz
SUMMARY:Genealogical & Historical Society Christmas Get Together
DESCRIPTION:Please join us for this special Christmas get together where we are delighted to be able to have Mary and Nick perform for us for this evening. \nMary is from a musical family and began singing at age 7 eventually studying classical and opera. With 13 years of voice\, cello\, piano\, and guitar study\, along with many varied lead roles in the church\, school\, TV\, and university productions performing both onstage and in the orchestra. \nShe has performed at corporate fundraisers\, private functions\, theatre concerts\, festivals\, weddings\, funerals\, charity concerts\, outdoor productions\, and vineyards\, interspersed with magazine articles\, appearances on TV2’s ‘Shortland St’\,  ‘Outrageous Fortune’\, and interviews on Radio Live.\nShe also performed with established musicians\,  Brendan Dugan\, Mike Walker and Barbie Davidson.\nIn 2007\, 2008\, Mary sang for audiences in Australia and Rarotonga and in 2011 performed the Argentinian National Anthem during the Rugby World Cup in NZ. \nNick was born into a musical family\, a child prodigy at both violin and piano studying Suzuki and classical training from aged 4. Achieving Grade 8 violin at 11 and Grade 8 piano at 13\, he went on to be awarded ATCL Performance Diploma in solo piano at 15. \nNick has a broad range of musical styles from classical\, folk and jazz to pop\, rock and electronic.\nCreating instrumental interpretations of popular\, classical and opera works he provides a fresh sound for corporate entertainment\, weddings\, festivals\, concerts\, private functions and funerals. \n  \nADMISSION $5 OR A PLATE PLEASE \n 
URL:https://www.dalmatian.org.nz/event/genealogical-historical-society-christmas-get-together/
LOCATION:Dalmatian Cultural Society\, 10 New North Rd. Eden Terrace\, Auckland\, New Zealand
ATTACH;FMTTYPE=image/jpeg:https://www.dalmatian.org.nz/wp-content/uploads/2020/11/Mary.jpg
END:VEVENT
BEGIN:VEVENT
DTSTART;TZID=UTC:20201115T100000
DTEND;TZID=UTC:20201115T180000
DTSTAMP:20260424T072409
CREATED:20200605T030615Z
LAST-MODIFIED:20201110T074925Z
UID:2240-1605434400-1605463200@www.dalmatian.org.nz
SUMMARY:Open Day
DESCRIPTION:OUR ANNUAL OPEN DAY\nCome join us to celebrate 90 years of our society here in NZ\n\n\n\nArchive and Museum\nHandcraft and Art Exhibits\nVintage Fashion\nLibrary\nMorning Tea\nLunch\nAfternoon Tea and Dinner for sale\nFood stall\nCONCERT AT 2 PM\n\n\nTell your family\, friends\, and neighbours to come along\nAll welcome.
URL:https://www.dalmatian.org.nz/event/open-day-3/
LOCATION:Dalmatian Cultural Society\, 10 New North Rd. Eden Terrace\, Auckland\, New Zealand
ATTACH;FMTTYPE=image/jpeg:https://www.dalmatian.org.nz/wp-content/uploads/2020/06/Open-Day-2020-Paul-Marinovich-Banner.jpg
ORGANIZER;CN="Dalmatian%20Cultural%20Society":MAILTO:events.dallyclub@gmail.com
END:VEVENT
BEGIN:VEVENT
DTSTART;TZID=UTC:20201108T120000
DTEND;TZID=UTC:20201108T160000
DTSTAMP:20260424T072409
CREATED:20200605T030712Z
LAST-MODIFIED:20200908T094602Z
UID:2242-1604836800-1604851200@www.dalmatian.org.nz
SUMMARY:Ladies Lunch
DESCRIPTION:
URL:https://www.dalmatian.org.nz/event/ladies-lunch/
LOCATION:Dalmatian Cultural Society\, 10 New North Rd. Eden Terrace\, Auckland\, New Zealand
ATTACH;FMTTYPE=image/jpeg:https://www.dalmatian.org.nz/wp-content/uploads/2019/07/Bistro-Moncur-Ladies-Lunch-lores.jpg
ORGANIZER;CN="Dalmatian%20Cultural%20Society":MAILTO:events.dallyclub@gmail.com
END:VEVENT
BEGIN:VEVENT
DTSTART;TZID=UTC:20200927T140000
DTEND;TZID=UTC:20200927T190000
DTSTAMP:20260424T072409
CREATED:20200908T094931Z
LAST-MODIFIED:20200908T094931Z
UID:2297-1601215200-1601233200@www.dalmatian.org.nz
SUMMARY:Annual Briškula Tournament
DESCRIPTION:
URL:https://www.dalmatian.org.nz/event/annual-briskula-tournament-2/
ATTACH;FMTTYPE=image/jpeg:https://www.dalmatian.org.nz/wp-content/uploads/2020/09/Briskule-2020-2.jpg
END:VEVENT
BEGIN:VEVENT
DTSTART;TZID=UTC:20200920T140000
DTEND;TZID=UTC:20200920T190000
DTSTAMP:20260424T072409
CREATED:20200908T094845Z
LAST-MODIFIED:20200908T094855Z
UID:2294-1600610400-1600628400@www.dalmatian.org.nz
SUMMARY:Annual Briškula Tournament
DESCRIPTION:
URL:https://www.dalmatian.org.nz/event/annual-briskula-tournament/
ATTACH;FMTTYPE=image/jpeg:https://www.dalmatian.org.nz/wp-content/uploads/2020/09/Briskule-2020-2.jpg
END:VEVENT
BEGIN:VEVENT
DTSTART;TZID=UTC:20200815T190000
DTEND;TZID=UTC:20200815T230000
DTSTAMP:20260424T072409
CREATED:20200407T112042Z
LAST-MODIFIED:20201004T203926Z
UID:2221-1597518000-1597532400@www.dalmatian.org.nz
SUMMARY:Mens Dinner - POSTPONED TILL 2021
DESCRIPTION:Watch this space \n$50 buffet dinner \n3 drinks vouchers \n 
URL:https://www.dalmatian.org.nz/event/mens-dinner-3/
LOCATION:Dalmatian Cultural Society\, 10 New North Rd. Eden Terrace\, Auckland\, New Zealand
ATTACH;FMTTYPE=image/jpeg:https://www.dalmatian.org.nz/wp-content/uploads/2020/07/mens-dinner-bond.jpg
ORGANIZER;CN="Dalmatian%20Cultural%20Society":MAILTO:events.dallyclub@gmail.com
END:VEVENT
BEGIN:VEVENT
DTSTART;TZID=UTC:20200809T120000
DTEND;TZID=UTC:20200809T150000
DTSTAMP:20260424T072409
CREATED:20200702T072423Z
LAST-MODIFIED:20200702T072423Z
UID:2263-1596974400-1596985200@www.dalmatian.org.nz
SUMMARY:Mid Winter Lunch
DESCRIPTION:63 Davis Crescent\, Newmarket\nAll Welcome\nBookings and Menu Choices Essential \n\nPick up a Menu Form at the club and\nfill in your meal preference \n\nHand in to Vojna 818 8497\nor Mara 021 362 872\nor email dalmatiancultural@gmail.com\nBy Monday 3 August 2020.
URL:https://www.dalmatian.org.nz/event/mid-winter-lunch/
ATTACH;FMTTYPE=image/jpeg:https://www.dalmatian.org.nz/wp-content/uploads/2020/07/archies.jpg
END:VEVENT
BEGIN:VEVENT
DTSTART;TZID=UTC:20200802T140000
DTEND;TZID=UTC:20200802T170000
DTSTAMP:20260424T072409
CREATED:20200702T073619Z
LAST-MODIFIED:20200702T073619Z
UID:2270-1596376800-1596387600@www.dalmatian.org.nz
SUMMARY:Genealogical and Historical Society
DESCRIPTION:Anthony Segedin\nAnthony Segedin has had many trips to far off places around the world\, but none of these compared to the visit to the Holy Land last year in 2019.\nAnthony traveled to Jordan and Israel\nand found that like many travelers before him the experience was a deeply\npersonal journey which was spiritual\, emotional\, and historically interesting.\nHe felt the experience was more than just being a tourist.\nAnthony believes that one cannot visit\nthe Holy Land and not in some way be moved
URL:https://www.dalmatian.org.nz/event/genealogical-and-historical-society-2/
LOCATION:Dalmatian Cultural Society\, 10 New North Rd. Eden Terrace\, Auckland\, New Zealand
ATTACH;FMTTYPE=image/png:https://www.dalmatian.org.nz/wp-content/uploads/2020/07/Anthony-Segedin.png
END:VEVENT
BEGIN:VEVENT
DTSTART;TZID=UTC:20200726T140000
DTEND;TZID=UTC:20200726T170000
DTSTAMP:20260424T072409
CREATED:20200702T071916Z
LAST-MODIFIED:20200702T071916Z
UID:2258-1595772000-1595782800@www.dalmatian.org.nz
SUMMARY:BINGO
DESCRIPTION:A fun light-hearted afternoon with the thrill of the\nanticipated big win!\n$$$$$$\nSpecial Guest caller!\nSee the Ladies on the Committee for more details\nBring a plate for Afternoon Tea
URL:https://www.dalmatian.org.nz/event/bingo-3/
LOCATION:Dalmatian Cultural Society\, 10 New North Rd. Eden Terrace\, Auckland\, New Zealand
ATTACH;FMTTYPE=image/png:https://www.dalmatian.org.nz/wp-content/uploads/2020/07/Bingo-2.png
END:VEVENT
BEGIN:VEVENT
DTSTART;TZID=UTC:20200719T140000
DTEND;TZID=UTC:20200719T170000
DTSTAMP:20260424T072409
CREATED:20200702T072109Z
LAST-MODIFIED:20200702T072109Z
UID:2261-1595167200-1595178000@www.dalmatian.org.nz
SUMMARY:AGM
DESCRIPTION:Agenda will include:\nMinutes of AGM 2019\, President’s Report\, Secretary’s Report\, Treasurer’s Report\, Correspondence\,\nIntroduction of Scrutineers\, Election\, Financial Overseers’ Report\, Nelson Buildings Report\, Genealogical and Historical Society Report\, Folklore and Language Report\, Events Report\, Planning and Development Report\, Facilities Report\, Setting of Annual Dues;\nGeneral Business.\nIt is important that members attend and take part in the meeting.
URL:https://www.dalmatian.org.nz/event/agm-2/
LOCATION:Dalmatian Cultural Society\, 10 New North Rd. Eden Terrace\, Auckland\, New Zealand
ATTACH;FMTTYPE=image/jpeg:https://www.dalmatian.org.nz/wp-content/uploads/2018/03/AGM-meeting.jpg
END:VEVENT
BEGIN:VEVENT
DTSTART;TZID=UTC:20200712T110000
DTEND;TZID=UTC:20200712T140000
DTSTAMP:20260424T072409
CREATED:20200610T082009Z
LAST-MODIFIED:20200702T071304Z
UID:2244-1594551600-1594562400@www.dalmatian.org.nz
SUMMARY:Baking the Dally Way 2
DESCRIPTION:Breskvice and Strudel!\nI have always wanted to learn how to make breskvice and we have one of the best bakers to show us how! Careful though\, she has a sharp tongue  I can promise lots of laughs.\nAlso another family favourite\, apple strudel.\nNumbers are limited so please contact me on julenaworld@me.com to book a place. $25. We will sit down and enjoy our baking with a cup of tea or coffee after.
URL:https://www.dalmatian.org.nz/event/baking-the-dally-way-2/
LOCATION:Dalmatian Cultural Society\, 10 New North Rd. Eden Terrace\, Auckland\, New Zealand
ATTACH;FMTTYPE=image/jpeg:https://www.dalmatian.org.nz/wp-content/uploads/2019/03/breskvice.jpg
ORGANIZER;CN="Dalmatian%20Cultural%20Society":MAILTO:events.dallyclub@gmail.com
END:VEVENT
BEGIN:VEVENT
DTSTART;TZID=UTC:20200628T140000
DTEND;TZID=UTC:20200628T170000
DTSTAMP:20260424T072409
CREATED:20200615T080845Z
LAST-MODIFIED:20200615T081003Z
UID:2251-1593352800-1593363600@www.dalmatian.org.nz
SUMMARY:Lets celebrate the Clubs reopening with cake and music!
DESCRIPTION:Its been so good to be back at the club on a Friday night and see everyone again. So we decided to also celebrate on a Sunday afternoon with a scrumptious afternoon tea.\nOur baking class is in the morning so you can come and try the finished products and judge the best \n\nWe will have some light entertainment. The whole family welcome.\n\nDonations at the door please and if you have a cake you love baking\, please bring along a plate.
URL:https://www.dalmatian.org.nz/event/lets-celebrate-the-clubs-reopening-with-cake-and-music/
LOCATION:Dalmatian Cultural Society\, 10 New North Rd. Eden Terrace\, Auckland\, New Zealand
ATTACH;FMTTYPE=image/jpeg:https://www.dalmatian.org.nz/wp-content/uploads/2020/06/baking-table.jpg
ORGANIZER;CN="Dalmatian%20Cultural%20Society":MAILTO:events.dallyclub@gmail.com
END:VEVENT
BEGIN:VEVENT
DTSTART;TZID=UTC:20200628T110000
DTEND;TZID=UTC:20200628T140000
DTSTAMP:20260424T072409
CREATED:20200605T022429Z
LAST-MODIFIED:20200605T022429Z
UID:2237-1593342000-1593352800@www.dalmatian.org.nz
SUMMARY:Baking the Dally Way
DESCRIPTION:Ever wanted to learn how to make some of those delicious Croatian treats and cakes? Now you can come in and learn from the experts! \nTo kick off our series\, we will start with prsule and krustule. Our two most popular. Be prepared for getting your hands messy\, a lot of rolling\, and some arguing about the correct name and recipe. \nWe will start at 11am and then open up the clubrooms for afternoon tea for all at 2pm \nPrice $25 which gives you all the ingredients and tuition. \nPlease book your spot by emailing julenaworld@me.com or calling Julena 0274281922 \nNext sessions will be little peach cakes (Breskvice).  Followed by a savoury class.  Book for all 3 for $65 and save yourself $10
URL:https://www.dalmatian.org.nz/event/baking-the-dally-way/
LOCATION:Dalmatian Cultural Society\, 10 New North Rd. Eden Terrace\, Auckland\, New Zealand
ATTACH;FMTTYPE=image/jpeg:https://www.dalmatian.org.nz/wp-content/uploads/2018/02/prsule.jpg
ORGANIZER;CN="Dalmatian%20Cultural%20Society":MAILTO:events.dallyclub@gmail.com
END:VEVENT
BEGIN:VEVENT
DTSTART;TZID=UTC:20200610T110000
DTEND;TZID=UTC:20200610T140000
DTSTAMP:20260424T072409
CREATED:20200610T082119Z
LAST-MODIFIED:20200610T082119Z
UID:2246-1591786800-1591797600@www.dalmatian.org.nz
SUMMARY:Baking the Dally Way 3
DESCRIPTION:
URL:https://www.dalmatian.org.nz/event/baking-the-dally-way-3/
LOCATION:Dalmatian Cultural Society\, 10 New North Rd. Eden Terrace\, Auckland\, New Zealand
ORGANIZER;CN="Dalmatian%20Cultural%20Society":MAILTO:events.dallyclub@gmail.com
END:VEVENT
BEGIN:VEVENT
DTSTART;TZID=UTC:20200510T100000
DTEND;TZID=UTC:20200510T120000
DTSTAMP:20260424T072409
CREATED:20200312T074651Z
LAST-MODIFIED:20200407T111501Z
UID:2208-1589104800-1589112000@www.dalmatian.org.nz
SUMMARY:Mothers Day Brunch
DESCRIPTION:We will be waiting to see if this can go ahead. Watch this space for update \nBe safe\, Keep smiling.
URL:https://www.dalmatian.org.nz/event/mothers-day-brunch-3/
LOCATION:Dalmatian Cultural Society\, 10 New North Rd. Eden Terrace\, Auckland\, New Zealand
ATTACH;FMTTYPE=image/png:https://www.dalmatian.org.nz/wp-content/uploads/2020/03/mothers-day-brunch-2020.png
ORGANIZER;CN="Dalmatian%20Cultural%20Society":MAILTO:events.dallyclub@gmail.com
END:VEVENT
BEGIN:VEVENT
DTSTART;TZID=UTC:20200411T090000
DTEND;TZID=UTC:20200411T120000
DTSTAMP:20260424T072409
CREATED:20200312T072420Z
LAST-MODIFIED:20200407T111325Z
UID:2204-1586595600-1586606400@www.dalmatian.org.nz
SUMMARY:Oratia Markets Easter Stand
DESCRIPTION:POSTPONED TILL 2021 \nThe ladies will be at the Oratia Markets April 11th selling delicious Easter treats and savoury dishes. \nSee you there
URL:https://www.dalmatian.org.nz/event/oratia-markets-easter-stand/
LOCATION:oratia markets\, 441 West Coast Road\, Auckland\, New Zealand
ATTACH;FMTTYPE=image/jpeg:https://www.dalmatian.org.nz/wp-content/uploads/2020/03/easter-bread.jpg
ORGANIZER;CN="Dalmatian%20Cultural%20Society":MAILTO:events.dallyclub@gmail.com
END:VEVENT
END:VCALENDAR