BEGIN:VCALENDAR
VERSION:2.0
PRODID:-//Dalmatian Cultural Society - ECPv6.0.8//NONSGML v1.0//EN
CALSCALE:GREGORIAN
METHOD:PUBLISH
X-WR-CALNAME:Dalmatian Cultural Society
X-ORIGINAL-URL:https://www.dalmatian.org.nz
X-WR-CALDESC:Events for Dalmatian Cultural Society
REFRESH-INTERVAL;VALUE=DURATION:PT1H
X-Robots-Tag:noindex
X-PUBLISHED-TTL:PT1H
BEGIN:VTIMEZONE
TZID:Pacific/Auckland
BEGIN:STANDARD
TZOFFSETFROM:+1300
TZOFFSETTO:+1200
TZNAME:NZST
DTSTART:20240406T140000
END:STANDARD
BEGIN:DAYLIGHT
TZOFFSETFROM:+1200
TZOFFSETTO:+1300
TZNAME:NZDT
DTSTART:20240928T140000
END:DAYLIGHT
BEGIN:STANDARD
TZOFFSETFROM:+1300
TZOFFSETTO:+1200
TZNAME:NZST
DTSTART:20250405T140000
END:STANDARD
BEGIN:DAYLIGHT
TZOFFSETFROM:+1200
TZOFFSETTO:+1300
TZNAME:NZDT
DTSTART:20250927T140000
END:DAYLIGHT
TZID:UTC
BEGIN:STANDARD
TZOFFSETFROM:+0000
TZOFFSETTO:+0000
TZNAME:UTC
DTSTART:20220101T000000
END:STANDARD
END:VTIMEZONE
BEGIN:VEVENT
DTSTART;TZID=Pacific/Auckland:20251109T120000
DTEND;TZID=Pacific/Auckland:20251109T170000
DTSTAMP:20260424T015631
CREATED:20251019T223755Z
LAST-MODIFIED:20251023T190400Z
UID:3506-1762689600-1762707600@www.dalmatian.org.nz
SUMMARY:Ladies Lunch
DESCRIPTION:45th Annual Ladies Lunch – Dalmatian Cultural Society  \nJoin us for a beautiful afternoon celebrating friendship\, style\, and inspiration at our 45th Annual Ladies Lunch\, proudly hosted by the Dalmatian Cultural Society. \n Guest Speaker: NADIA PAVLOVICH – “From Illness to Wellness”\nWe are thrilled to welcome Nadia Pavlovich from Nadia’s Whole Garden\, who will share her inspiring journey from medical mystery to health and healing through natural living. \n Fashion Feature: Alison Hensley Millinery\nEnjoy a stunning fashion show of hats by Alison Hensley Millinery. Alison will also bring along a gorgeous selection for you to try on and purchase – the perfect chance to find your new favourite piece! \nWhat’s Included:\n• A delicious buffet lunch\n• Raffles and prizes\n• A fun surprise activity you won’t want to miss \nGather your friends\, wear your favourite outfit (and maybe a fabulous hat!)\, and join us for a day of laughter\, inspiration\, and community.\nPlus BOOK LAUNCH of Dr Nina Nola’s new book ‘The Way To Spell Love’.\nYou can buy a copy on the day. \nYou can purchase tickets at the club own a Friday night or Book Online here
URL:https://www.dalmatian.org.nz/event/ladies-lunch-5/
LOCATION:Dalmatian Cultural Society\, 10 New North Rd. Eden Terrace\, Auckland\, New Zealand
CATEGORIES:Lunch
ATTACH;FMTTYPE=image/png:https://www.dalmatian.org.nz/wp-content/uploads/2025/10/ladies-lunch-2025-Facebook-Post.png
END:VEVENT
BEGIN:VEVENT
DTSTART;TZID=Pacific/Auckland:20250810T120000
DTEND;TZID=Pacific/Auckland:20250810T150000
DTSTAMP:20260424T015631
CREATED:20250630T215357Z
LAST-MODIFIED:20250630T215357Z
UID:3449-1754827200-1754838000@www.dalmatian.org.nz
SUMMARY:Midwinter Lunch
DESCRIPTION:
URL:https://www.dalmatian.org.nz/event/midwinter-lunch/
CATEGORIES:Lunch
ORGANIZER;CN="Dalmatian%20Cultural%20Society":MAILTO:events.dallyclub@gmail.com
END:VEVENT
BEGIN:VEVENT
DTSTART;TZID=Pacific/Auckland:20241201T120000
DTEND;TZID=Pacific/Auckland:20241201T170000
DTSTAMP:20260424T015631
CREATED:20241015T184742Z
LAST-MODIFIED:20241015T184742Z
UID:3245-1733054400-1733072400@www.dalmatian.org.nz
SUMMARY:Kids Christmas Party
DESCRIPTION:
URL:https://www.dalmatian.org.nz/event/kids-christmas-party-2/
LOCATION:Dalmatian Cultural Society\, 10 New North Rd. Eden Terrace\, Auckland\, New Zealand
CATEGORIES:Lunch
ATTACH;FMTTYPE=image/jpeg:https://www.dalmatian.org.nz/wp-content/uploads/2019/07/christmas-card-2945633__340.jpg
ORGANIZER;CN="Dalmatian%20Cultural%20Society":MAILTO:events.dallyclub@gmail.com
END:VEVENT
BEGIN:VEVENT
DTSTART;TZID=UTC:20231105T120000
DTEND;TZID=UTC:20231105T170000
DTSTAMP:20260424T015631
CREATED:20230914T232706Z
LAST-MODIFIED:20231017T213011Z
UID:3031-1699185600-1699203600@www.dalmatian.org.nz
SUMMARY:Ladies Lunch
DESCRIPTION:Guest Speakers Fashion Icon\nAdrienne Winkelmann & The Chief Justice Dame Helen Winkelmann\n  \n\nTickets $50 Buffet lunch\, entertainment\, raffles\, spot prizes and more
URL:https://www.dalmatian.org.nz/event/ladies-lunch-3/
LOCATION:Dalmatian Cultural Society\, 10 New North Rd. Eden Terrace\, Auckland\, New Zealand
CATEGORIES:Lunch
ATTACH;FMTTYPE=image/png:https://www.dalmatian.org.nz/wp-content/uploads/2023/09/Copy-of-Ladies-Lunch-12pm-1920-x-1080-px.png
ORGANIZER;CN="Dalmatian%20Cultural%20Society":MAILTO:events.dallyclub@gmail.com
END:VEVENT
BEGIN:VEVENT
DTSTART;TZID=UTC:20221113T120000
DTEND;TZID=UTC:20221113T160000
DTSTAMP:20260424T015631
CREATED:20220909T065935Z
LAST-MODIFIED:20220909T065935Z
UID:2713-1668340800-1668355200@www.dalmatian.org.nz
SUMMARY:Ladies Lunch
DESCRIPTION:
URL:https://www.dalmatian.org.nz/event/ladies-lunch-2/
CATEGORIES:Lunch
ATTACH;FMTTYPE=image/jpeg:https://www.dalmatian.org.nz/wp-content/uploads/2018/08/ladies-luncheon-2.jpg
END:VEVENT
BEGIN:VEVENT
DTSTART;TZID=UTC:20220918T103000
DTEND;TZID=UTC:20220918T173000
DTSTAMP:20260424T015631
CREATED:20220831T011445Z
LAST-MODIFIED:20220831T014139Z
UID:2699-1663497000-1663522200@www.dalmatian.org.nz
SUMMARY:Open Day 2022
DESCRIPTION:The Club Doors are Open!\nThe Dalmatian Cultural Society is one of the oldest and largest cultural societies in NZ and we invite you to come and enjoy a day with us!\n  \nWander around our renowned and extensive museum\, check out some arts and crafts\, join in a cooking demonstration\, try some wine\, and learn to play bowls or our favourite card game Briškula. Enjoy some traditional Croatian meals for lunch or dinner. You can even buy some delectable Croatian treats to take home with you. But save some room for some delicious Croatian baking for afternoon tea whilst enjoying our folklore concert of dancing\, music\, and singing. \n  \nFun for the whole family\, entry of gold coin donation. See you there! \n 
URL:https://www.dalmatian.org.nz/event/open-day-2022/
LOCATION:Dalmatian Cultural Society\, 10 New North Rd. Eden Terrace\, Auckland\, New Zealand
CATEGORIES:afternoon tea,Concert,Dinner,Lunch
ATTACH;FMTTYPE=image/jpeg:https://www.dalmatian.org.nz/wp-content/uploads/2022/08/kolo-dancers.jpg
ORGANIZER;CN="Dalmatian%20Cultural%20Society":MAILTO:events.dallyclub@gmail.com
END:VEVENT
END:VCALENDAR