BEGIN:VCALENDAR
VERSION:2.0
PRODID:-//Dalmatian Cultural Society - ECPv6.0.8//NONSGML v1.0//EN
CALSCALE:GREGORIAN
METHOD:PUBLISH
X-ORIGINAL-URL:https://www.dalmatian.org.nz
X-WR-CALDESC:Events for Dalmatian Cultural Society
REFRESH-INTERVAL;VALUE=DURATION:PT1H
X-Robots-Tag:noindex
X-PUBLISHED-TTL:PT1H
BEGIN:VTIMEZONE
TZID:UTC
BEGIN:STANDARD
TZOFFSETFROM:+0000
TZOFFSETTO:+0000
TZNAME:UTC
DTSTART:20240101T000000
END:STANDARD
TZID:Pacific/Auckland
BEGIN:STANDARD
TZOFFSETFROM:+1300
TZOFFSETTO:+1200
TZNAME:NZST
DTSTART:20240406T140000
END:STANDARD
BEGIN:DAYLIGHT
TZOFFSETFROM:+1200
TZOFFSETTO:+1300
TZNAME:NZDT
DTSTART:20240928T140000
END:DAYLIGHT
BEGIN:STANDARD
TZOFFSETFROM:+1300
TZOFFSETTO:+1200
TZNAME:NZST
DTSTART:20250405T140000
END:STANDARD
BEGIN:DAYLIGHT
TZOFFSETFROM:+1200
TZOFFSETTO:+1300
TZNAME:NZDT
DTSTART:20250927T140000
END:DAYLIGHT
BEGIN:STANDARD
TZOFFSETFROM:+1300
TZOFFSETTO:+1200
TZNAME:NZST
DTSTART:20260404T140000
END:STANDARD
BEGIN:DAYLIGHT
TZOFFSETFROM:+1200
TZOFFSETTO:+1300
TZNAME:NZDT
DTSTART:20260926T140000
END:DAYLIGHT
END:VTIMEZONE
BEGIN:VEVENT
DTSTART;TZID=UTC:20240609T140000
DTEND;TZID=UTC:20240609T170000
DTSTAMP:20260425T235449
CREATED:20240529T033635Z
LAST-MODIFIED:20240529T033635Z
UID:3149-1717941600-1717952400@www.dalmatian.org.nz
SUMMARY:Baba and Dida Concert
DESCRIPTION:
URL:https://www.dalmatian.org.nz/event/baba-and-dida-concert/
LOCATION:Dalmatian Cultural Society\, 10 New North Rd. Eden Terrace\, Auckland\, New Zealand
CATEGORIES:Concert
ATTACH;FMTTYPE=image/jpeg:https://www.dalmatian.org.nz/wp-content/uploads/2024/05/BSP_0809.jpg
ORGANIZER;CN="Dalmatian%20Cultural%20Society":MAILTO:events.dallyclub@gmail.com
END:VEVENT
BEGIN:VEVENT
DTSTART;TZID=Pacific/Auckland:20241208T130000
DTEND;TZID=Pacific/Auckland:20241208T170000
DTSTAMP:20260425T235449
CREATED:20241104T191707Z
LAST-MODIFIED:20241104T191757Z
UID:3255-1733662800-1733677200@www.dalmatian.org.nz
SUMMARY:End of Year Folklore Showcase
DESCRIPTION:Tickets are now available for our end of year Folklore Showcase featuring the Dalmatian Cultural Society’s talented orchestra\, choir\, Kolo dancers and more. Be wowed by the amazing talent within our Club.\nSunday 8 December at 1pm in the beautiful Concert Chamber in Auckland Town Hall.\nParking available for only $2 per hour at the adjacent Civic Carpark.\nRefreshments available for purchase in the interval.\nTickets are available through Ticketmaster : https://www.ticketmaster.co.nz/event/24006132E04923C7\nOr at the Town Hall Box Office on the day.\n$20 adults\, $15 children 4-14\, under 3’s are free if sitting on a parent’s lap\n\n\nNot to be missed\n\n  \n 
URL:https://www.dalmatian.org.nz/event/end-of-year-folklore-showcase/
LOCATION:Town Hall\, 301 Queen Street\, Auckland\, 1011
CATEGORIES:Concert
ATTACH;FMTTYPE=image/jpeg:https://www.dalmatian.org.nz/wp-content/uploads/2024/07/BSP_1747-2-scaled.jpg
ORGANIZER;CN="Dalmatian%20Cultural%20Society":MAILTO:events.dallyclub@gmail.com
END:VEVENT
BEGIN:VEVENT
DTSTART;TZID=Pacific/Auckland:20260321T180000
DTEND;TZID=Pacific/Auckland:20260322T010000
DTSTAMP:20260425T235449
CREATED:20260211T193706Z
LAST-MODIFIED:20260211T193706Z
UID:3639-1774116000-1774141200@www.dalmatian.org.nz
SUMMARY:Vrgorska Večer.
DESCRIPTION:Back by special request\, following a very successful trip to New Zealand in 2017 – singers Mile Ivicevic and Teo Vuckovic return this time with additional pocket rocket entertainer\, Jelena\, who form Nash Band.  Direct from Croatia.\n\nWe’ve wined and dined to their music before and this coming autumn – Saturday 21st March 2026 our Society ballroom will be transformed for our always popular Vrgorska Večer.\n\nNash band will entertain us late into the night with a repertoire of popular songs from home\, ranging from traditional to pop\, rock music to love ballads\, songs from Dalmatia\, Croatia and the Balkans.\n\nIt will be an unforgettable night of:\n• Live music\n• Traditional food & drinks\n• Dancing & community celebration\n\nTickets will sell fast for this always popular event\, be sure to secure your ticket and add it to your 2026 calendar.   Get in early to avoid disappointment. Vidimo se uskoro u Dalmatinksi Klub.\n\nBOOK TICKETS 
URL:https://www.dalmatian.org.nz/event/vrgorska-vecer/
LOCATION:Dalmatian Cultural Society\, 10 New North Rd. Eden Terrace\, Auckland\, New Zealand
CATEGORIES:Concert,Dinner
ATTACH;FMTTYPE=image/png:https://www.dalmatian.org.nz/wp-content/uploads/2026/02/Nash-Band-promotional.jpg.png
ORGANIZER;CN="Dalmatian%20Cultural%20Society":MAILTO:events.dallyclub@gmail.com
END:VEVENT
END:VCALENDAR