BEGIN:VCALENDAR
VERSION:2.0
PRODID:-//Dalmatian Cultural Society - ECPv6.0.8//NONSGML v1.0//EN
CALSCALE:GREGORIAN
METHOD:PUBLISH
X-ORIGINAL-URL:https://www.dalmatian.org.nz
X-WR-CALDESC:Events for Dalmatian Cultural Society
REFRESH-INTERVAL;VALUE=DURATION:PT1H
X-Robots-Tag:noindex
X-PUBLISHED-TTL:PT1H
BEGIN:VTIMEZONE
TZID:UTC
BEGIN:STANDARD
TZOFFSETFROM:+0000
TZOFFSETTO:+0000
TZNAME:UTC
DTSTART:20190101T000000
END:STANDARD
END:VTIMEZONE
BEGIN:VEVENT
DTSTART;TZID=UTC:20191201T140000
DTEND;TZID=UTC:20191201T163000
DTSTAMP:20260421T222132
CREATED:20190710T095343Z
LAST-MODIFIED:20191128T043322Z
UID:1957-1575208800-1575217800@www.dalmatian.org.nz
SUMMARY:End Of Year Concert
DESCRIPTION:Green Bay Auditorium \n2.00pm Sunday 1st December \n 
URL:https://www.dalmatian.org.nz/event/end-of-year-concert-2/
LOCATION:Green Bay High School\, 161 Godley Rd\, Green Bay\, Auckland\, 0604\, New Zealand
CATEGORIES:afternoon tea,Concert
ATTACH;FMTTYPE=image/jpeg:https://www.dalmatian.org.nz/wp-content/uploads/2018/07/7A90E968-1CF5-4A11-8C79-AFEC02EE8C82.jpeg
ORGANIZER;CN="Dalmatian%20Cultural%20Society":MAILTO:events.dallyclub@gmail.com
END:VEVENT
BEGIN:VEVENT
DTSTART;TZID=UTC:20190922T100000
DTEND;TZID=UTC:20190922T180000
DTSTAMP:20260421T222132
CREATED:20190710T092612Z
LAST-MODIFIED:20190710T092612Z
UID:1950-1569146400-1569175200@www.dalmatian.org.nz
SUMMARY:Open Day
DESCRIPTION:The club rooms and museum are open all day to the public. \nTraditional dances\, meals and desserts and art are all on offer for you to enjoy. \nOur extensive museum has an amazing display of Croatians in New Zealand going back over 100 years. \nHeading to the stage for the New Zealand Dalmatian Kolo\n\n \nCroatian cakes
URL:https://www.dalmatian.org.nz/event/open-day-2/
LOCATION:Dalmatian Cultural Society\, 10 New North Rd. Eden Terrace\, Auckland\, New Zealand
CATEGORIES:afternoon tea,Concert
ATTACH;FMTTYPE=image/jpeg:https://www.dalmatian.org.nz/wp-content/uploads/2019/03/breskvice.jpg
ORGANIZER;CN="Dalmatian%20Cultural%20Society":MAILTO:events.dallyclub@gmail.com
END:VEVENT
BEGIN:VEVENT
DTSTART;TZID=UTC:20190609T140000
DTEND;TZID=UTC:20190609T170000
DTSTAMP:20260421T222132
CREATED:20190520T104357Z
LAST-MODIFIED:20190520T104434Z
UID:1904-1560088800-1560099600@www.dalmatian.org.nz
SUMMARY:Baba & Dida Concert
DESCRIPTION:To all the Baba & Didas & Honorary Grandparents \nCome along and enjoy  a cultural concert programme of song\, music and dance \nand a wonderful afternoon tea. \nHonouring you\, our senior citizens. \nSunday 2pm 9th June \nentry $10
URL:https://www.dalmatian.org.nz/event/baba-dida-concert-2/
LOCATION:Dalmatian Cultural Society\, 10 New North Rd. Eden Terrace\, Auckland\, New Zealand
CATEGORIES:afternoon tea,Concert
ATTACH;FMTTYPE=image/jpeg:https://www.dalmatian.org.nz/wp-content/uploads/2019/05/babaanddida.jpg
ORGANIZER;CN="Dalmatian%20Cultural%20Society":MAILTO:events.dallyclub@gmail.com
END:VEVENT
END:VCALENDAR