BEGIN:VCALENDAR
VERSION:2.0
PRODID:-//Dalmatian Cultural Society - ECPv6.0.8//NONSGML v1.0//EN
CALSCALE:GREGORIAN
METHOD:PUBLISH
X-WR-CALNAME:Dalmatian Cultural Society
X-ORIGINAL-URL:https://www.dalmatian.org.nz
X-WR-CALDESC:Events for Dalmatian Cultural Society
REFRESH-INTERVAL;VALUE=DURATION:PT1H
X-Robots-Tag:noindex
X-PUBLISHED-TTL:PT1H
BEGIN:VTIMEZONE
TZID:UTC
BEGIN:STANDARD
TZOFFSETFROM:+0000
TZOFFSETTO:+0000
TZNAME:UTC
DTSTART:20230101T000000
END:STANDARD
END:VTIMEZONE
BEGIN:VEVENT
DTSTART;TZID=UTC:20230520T200000
DTEND;TZID=UTC:20230521T010000
DTSTAMP:20260422T033440
CREATED:20230424T042249Z
LAST-MODIFIED:20230424T042249Z
UID:2910-1684612800-1684630800@www.dalmatian.org.nz
SUMMARY:Balkan vs English Classics Party
DESCRIPTION:Join us for a fun night of dancing to classic Balkan and English tunes! \nYou’ll be on the dance floor going from ABBA to Željko Bebek\, Bon Jovi to Crvena Jabuka!\nR16+ event\nPre-sale/online tickets $20\nDoor sale tickets $25\nThere will be food and drinks available so grab your friends\, get your tickets\, and we’ll see you on the dance floor! \nGET TICKETS HERE 
URL:https://www.dalmatian.org.nz/event/balkan-vs-english-classics-party/
LOCATION:Dalmatian Cultural Society\, 10 New North Rd. Eden Terrace\, Auckland\, New Zealand
CATEGORIES:Concert
ATTACH;FMTTYPE=image/jpeg:https://www.dalmatian.org.nz/wp-content/uploads/2023/04/balkan-vs-english-small.jpg
END:VEVENT
END:VCALENDAR