BEGIN:VCALENDAR
VERSION:2.0
PRODID:-//Dalmatian Cultural Society - ECPv6.0.8//NONSGML v1.0//EN
CALSCALE:GREGORIAN
METHOD:PUBLISH
X-WR-CALNAME:Dalmatian Cultural Society
X-ORIGINAL-URL:https://www.dalmatian.org.nz
X-WR-CALDESC:Events for Dalmatian Cultural Society
REFRESH-INTERVAL;VALUE=DURATION:PT1H
X-Robots-Tag:noindex
X-PUBLISHED-TTL:PT1H
BEGIN:VTIMEZONE
TZID:UTC
BEGIN:STANDARD
TZOFFSETFROM:+0000
TZOFFSETTO:+0000
TZNAME:UTC
DTSTART:20210101T000000
END:STANDARD
END:VTIMEZONE
BEGIN:VEVENT
DTSTART;TZID=UTC:20210919T100000
DTEND;TZID=UTC:20210919T170000
DTSTAMP:20260423T101854
CREATED:20210809T092555Z
LAST-MODIFIED:20210809T094702Z
UID:2546-1632045600-1632070800@www.dalmatian.org.nz
SUMMARY:OPEN DAY
DESCRIPTION:OUR ANNUAL OPEN DAY\nCome join us to celebrate 90 years of our society here in NZ\n\n\n\nArchive and Museum\nHandcraft and Art Exhibits\nVintage Fashion\nLibrary\nMorning Tea\nLunch\nAfternoon Tea and Dinner for sale\nFood stall\nCONCERT AT 2 PM\n\n\nTell your family\, friends\, and neighbours to come along\nAll welcome
URL:https://www.dalmatian.org.nz/event/open-day-4/
LOCATION:Dalmatian Cultural Society\, 10 New North Rd. Eden Terrace\, Auckland\, New Zealand
CATEGORIES:afternoon tea,Concert
ATTACH;FMTTYPE=image/jpeg:https://www.dalmatian.org.nz/wp-content/uploads/2021/08/Untitled-design-1.jpg
ORGANIZER;CN="Dalmatian%20Cultural%20Society":MAILTO:events.dallyclub@gmail.com
END:VEVENT
END:VCALENDAR