BEGIN:VCALENDAR
VERSION:2.0
PRODID:-//Dalmatian Cultural Society - ECPv6.0.8//NONSGML v1.0//EN
CALSCALE:GREGORIAN
METHOD:PUBLISH
X-ORIGINAL-URL:https://www.dalmatian.org.nz
X-WR-CALDESC:Events for Dalmatian Cultural Society
REFRESH-INTERVAL;VALUE=DURATION:PT1H
X-Robots-Tag:noindex
X-PUBLISHED-TTL:PT1H
BEGIN:VTIMEZONE
TZID:UTC
BEGIN:STANDARD
TZOFFSETFROM:+0000
TZOFFSETTO:+0000
TZNAME:UTC
DTSTART:20200101T000000
END:STANDARD
END:VTIMEZONE
BEGIN:VEVENT
DTSTART;TZID=UTC:20201206T140000
DTEND;TZID=UTC:20201206T160000
DTSTAMP:20260424T032633
CREATED:20201111T093200Z
LAST-MODIFIED:20201129T175604Z
UID:2316-1607263200-1607270400@www.dalmatian.org.nz
SUMMARY:End Of Year Concert
DESCRIPTION:Come celebrate the end of an interesting year with our annual folklore concert\n  \nThis year we will be holding it at our clubrooms. A delightful concert followed by afternoon tea and cash bar. \n  \nChristmas market also back from popular demand \n  \n$10 tickets \nkids free under 12
URL:https://www.dalmatian.org.nz/event/end-of-year-concert-3/
LOCATION:Dalmatian Cultural Society\, 10 New North Rd. Eden Terrace\, Auckland\, New Zealand
CATEGORIES:afternoon tea,Concert
ATTACH;FMTTYPE=image/jpeg:https://www.dalmatian.org.nz/wp-content/uploads/2019/12/OLD-KOLO-2019.jpg
ORGANIZER;CN="Dalmatian%20Cultural%20Society":MAILTO:events.dallyclub@gmail.com
END:VEVENT
END:VCALENDAR