BEGIN:VCALENDAR
VERSION:2.0
PRODID:-//Dalmatian Cultural Society - ECPv6.0.8//NONSGML v1.0//EN
CALSCALE:GREGORIAN
METHOD:PUBLISH
X-WR-CALNAME:Dalmatian Cultural Society
X-ORIGINAL-URL:https://www.dalmatian.org.nz
X-WR-CALDESC:Events for Dalmatian Cultural Society
REFRESH-INTERVAL;VALUE=DURATION:PT1H
X-Robots-Tag:noindex
X-PUBLISHED-TTL:PT1H
BEGIN:VTIMEZONE
TZID:UTC
BEGIN:STANDARD
TZOFFSETFROM:+0000
TZOFFSETTO:+0000
TZNAME:UTC
DTSTART:20190101T000000
END:STANDARD
END:VTIMEZONE
BEGIN:VEVENT
DTSTART;TZID=UTC:20191201T140000
DTEND;TZID=UTC:20191201T163000
DTSTAMP:20260424T195338
CREATED:20190710T095343Z
LAST-MODIFIED:20191128T043322Z
UID:1957-1575208800-1575217800@www.dalmatian.org.nz
SUMMARY:End Of Year Concert
DESCRIPTION:Green Bay Auditorium \n2.00pm Sunday 1st December \n 
URL:https://www.dalmatian.org.nz/event/end-of-year-concert-2/
LOCATION:Green Bay High School\, 161 Godley Rd\, Green Bay\, Auckland\, 0604\, New Zealand
CATEGORIES:afternoon tea,Concert
ATTACH;FMTTYPE=image/jpeg:https://www.dalmatian.org.nz/wp-content/uploads/2018/07/7A90E968-1CF5-4A11-8C79-AFEC02EE8C82.jpeg
ORGANIZER;CN="Dalmatian%20Cultural%20Society":MAILTO:events.dallyclub@gmail.com
END:VEVENT
END:VCALENDAR