BEGIN:VCALENDAR
VERSION:2.0
PRODID:-//Dalmatian Cultural Society - ECPv6.0.8//NONSGML v1.0//EN
CALSCALE:GREGORIAN
METHOD:PUBLISH
X-ORIGINAL-URL:https://www.dalmatian.org.nz
X-WR-CALDESC:Events for Dalmatian Cultural Society
REFRESH-INTERVAL;VALUE=DURATION:PT1H
X-Robots-Tag:noindex
X-PUBLISHED-TTL:PT1H
BEGIN:VTIMEZONE
TZID:Pacific/Auckland
BEGIN:STANDARD
TZOFFSETFROM:+1300
TZOFFSETTO:+1200
TZNAME:NZST
DTSTART:20260404T140000
END:STANDARD
BEGIN:DAYLIGHT
TZOFFSETFROM:+1200
TZOFFSETTO:+1300
TZNAME:NZDT
DTSTART:20260926T140000
END:DAYLIGHT
END:VTIMEZONE
BEGIN:VEVENT
DTSTART;TZID=Pacific/Auckland:20260510T100000
DTEND;TZID=Pacific/Auckland:20260510T123000
DTSTAMP:20260423T052453
CREATED:20260325T025830Z
LAST-MODIFIED:20260331T022150Z
UID:3662-1778407200-1778416200@www.dalmatian.org.nz
SUMMARY:Mothers Day Brunch
DESCRIPTION:Celebrate Mama with a relaxed and delicious morning at the Dalmatian Cultural Society.\nJoin us for a beautiful buffet brunch featuring all your classic breakfast favourites\, along with a selection of Croatian-inspired dishes for something a little special.\nEnjoy a leisurely morning with family and friends\, great food\, and a welcoming atmosphere — the perfect way to show Mum how much she means to you.\n🕙 10:00am – 12:00pm (approx.)\nKids’ craft table and balloons\nDrinks available for purchase from the bar\nBring the whole family and make it a morning to remember.\nBOOKINGS OPENING SOON\nContact us via email on events.dallyclub@gmail.com to book a large table.
URL:https://www.dalmatian.org.nz/event/mothers-day-brunch-9/
LOCATION:Dalmatian Cultural Society\, 10 New North Rd. Eden Terrace\, Auckland\, New Zealand
ATTACH;FMTTYPE=image/png:https://www.dalmatian.org.nz/wp-content/uploads/2020/03/mothers-day-brunch-2020.png
END:VEVENT
END:VCALENDAR