BEGIN:VCALENDAR
VERSION:2.0
PRODID:-//Dalmatian Cultural Society - ECPv6.0.8//NONSGML v1.0//EN
CALSCALE:GREGORIAN
METHOD:PUBLISH
X-ORIGINAL-URL:https://www.dalmatian.org.nz
X-WR-CALDESC:Events for Dalmatian Cultural Society
REFRESH-INTERVAL;VALUE=DURATION:PT1H
X-Robots-Tag:noindex
X-PUBLISHED-TTL:PT1H
BEGIN:VTIMEZONE
TZID:Pacific/Auckland
BEGIN:STANDARD
TZOFFSETFROM:+1300
TZOFFSETTO:+1200
TZNAME:NZST
DTSTART:20260404T140000
END:STANDARD
BEGIN:DAYLIGHT
TZOFFSETFROM:+1200
TZOFFSETTO:+1300
TZNAME:NZDT
DTSTART:20260926T140000
END:DAYLIGHT
END:VTIMEZONE
BEGIN:VEVENT
DTSTART;TZID=Pacific/Auckland:20260213T183000
DTEND;TZID=Pacific/Auckland:20260213T230000
DTSTAMP:20260423T083213
CREATED:20260122T010946Z
LAST-MODIFIED:20260203T071928Z
UID:3628-1771007400-1771023600@www.dalmatian.org.nz
SUMMARY:Friday Members Nights Open
DESCRIPTION:We reopen our clubrooms for dinners and classes and folklore enrolments.\nDoors open 6.30pm\nDinner and drinks served.
URL:https://www.dalmatian.org.nz/event/friday-members-nights-open/
LOCATION:Dalmatian Cultural Society\, 10 New North Rd. Eden Terrace\, Auckland\, New Zealand
ATTACH;FMTTYPE=image/jpeg:https://www.dalmatian.org.nz/wp-content/uploads/2021/06/199548181_10222838607366292_6526763934627982020_n.jpg
END:VEVENT
END:VCALENDAR