BEGIN:VCALENDAR
VERSION:2.0
PRODID:-//Dalmatian Cultural Society - ECPv6.0.8//NONSGML v1.0//EN
CALSCALE:GREGORIAN
METHOD:PUBLISH
X-ORIGINAL-URL:https://www.dalmatian.org.nz
X-WR-CALDESC:Events for Dalmatian Cultural Society
REFRESH-INTERVAL;VALUE=DURATION:PT1H
X-Robots-Tag:noindex
X-PUBLISHED-TTL:PT1H
BEGIN:VTIMEZONE
TZID:Pacific/Auckland
BEGIN:STANDARD
TZOFFSETFROM:+1300
TZOFFSETTO:+1200
TZNAME:NZST
DTSTART:20250405T140000
END:STANDARD
BEGIN:DAYLIGHT
TZOFFSETFROM:+1200
TZOFFSETTO:+1300
TZNAME:NZDT
DTSTART:20250927T140000
END:DAYLIGHT
END:VTIMEZONE
BEGIN:VEVENT
DTSTART;TZID=Pacific/Auckland:20251130T130000
DTEND;TZID=Pacific/Auckland:20251130T160000
DTSTAMP:20260423T132057
CREATED:20251028T040426Z
LAST-MODIFIED:20251104T024026Z
UID:3529-1764507600-1764518400@www.dalmatian.org.nz
SUMMARY:Folklore Showcase and Christmas Market
DESCRIPTION:Celebrate the rich music\, dance\, and traditions of our homelands at the Dalmatian Cultural Society’s annual Folklore Showcase 2025! \nThis much-loved concert is a vibrant display of the dances\, music and song that our folklore groups have been learning throughout the year – a joyful mix of tradition\, talent\, and community spirit. \nCome and experience the colour\, rhythm\, and passion of our cultural heritage as performed by dancers\, singers and musicians of all ages. \nTickets $20. Includes afternoon tea.\n\nBOOK HERE
URL:https://www.dalmatian.org.nz/event/folklore-showcase-and-christmas-market/
LOCATION:Green Bay High School\, 161 Godley Rd\, Green Bay\, Auckland\, 0604\, New Zealand
ATTACH;FMTTYPE=image/png:https://www.dalmatian.org.nz/wp-content/uploads/2025/10/DCS-EOY-2025.png
ORGANIZER;CN="Dalmatian%20Cultural%20Society":MAILTO:events.dallyclub@gmail.com
END:VEVENT
END:VCALENDAR