BEGIN:VCALENDAR
VERSION:2.0
PRODID:-//Dalmatian Cultural Society - ECPv6.0.8//NONSGML v1.0//EN
CALSCALE:GREGORIAN
METHOD:PUBLISH
X-ORIGINAL-URL:https://www.dalmatian.org.nz
X-WR-CALDESC:Events for Dalmatian Cultural Society
REFRESH-INTERVAL;VALUE=DURATION:PT1H
X-Robots-Tag:noindex
X-PUBLISHED-TTL:PT1H
BEGIN:VTIMEZONE
TZID:Pacific/Auckland
BEGIN:STANDARD
TZOFFSETFROM:+1300
TZOFFSETTO:+1200
TZNAME:NZST
DTSTART:20250405T140000
END:STANDARD
BEGIN:DAYLIGHT
TZOFFSETFROM:+1200
TZOFFSETTO:+1300
TZNAME:NZDT
DTSTART:20250927T140000
END:DAYLIGHT
END:VTIMEZONE
BEGIN:VEVENT
DTSTART;TZID=Pacific/Auckland:20250823T180000
DTEND;TZID=Pacific/Auckland:20250824T010000
DTSTAMP:20260423T175757
CREATED:20250626T014243Z
LAST-MODIFIED:20250626T014243Z
UID:3434-1755972000-1755997200@www.dalmatian.org.nz
SUMMARY:Ribarska Večer
DESCRIPTION:Ribarska Večer – A Night to Remember!\nJoin us for a fantastic evening of Dalmatian culture\, music\, and food at Ribarska Večer!\n  \n🎶 Enjoy live music all night\, featuring all your favourite Croatian hits\n💃 Be treated to a special performance by the Tarara Folklore Ensemble\n🍽️ Indulge in a delicious buffet dinner with traditional flavours \n  \nGather your friends and family for a night of dancing\, laughter\, and celebration.\nDon’t miss out—this is one of the highlights of our calendar! \n  \n\n\n\nEarly Bird Tickets $60 \n\n\nfrom 1st August $65 \n\n\nChildren 5-14 $20 \n\n\nDoors open 6pm \n  \n\n\n\n\nBOOK ONLINE OR SEE JULENA AT THE CLUB ON A FRIDAY NIGHT \nhttps://www.trybooking.com/nz/YCJ \n \n  \nKids area with karaoke in the members lounge 
URL:https://www.dalmatian.org.nz/event/ribarska-vecer-2/
LOCATION:Dalmatian Cultural Society\, 10 New North Rd. Eden Terrace\, Auckland\, New Zealand
ATTACH;FMTTYPE=image/jpeg:https://www.dalmatian.org.nz/wp-content/uploads/2025/06/BSP_9080-1-scaled.jpg
ORGANIZER;CN="Dalmatian%20Cultural%20Society":MAILTO:events.dallyclub@gmail.com
END:VEVENT
END:VCALENDAR