BEGIN:VCALENDAR
VERSION:2.0
PRODID:-//Dalmatian Cultural Society - ECPv6.0.8//NONSGML v1.0//EN
CALSCALE:GREGORIAN
METHOD:PUBLISH
X-WR-CALNAME:Dalmatian Cultural Society
X-ORIGINAL-URL:https://www.dalmatian.org.nz
X-WR-CALDESC:Events for Dalmatian Cultural Society
REFRESH-INTERVAL;VALUE=DURATION:PT1H
X-Robots-Tag:noindex
X-PUBLISHED-TTL:PT1H
BEGIN:VTIMEZONE
TZID:Pacific/Auckland
BEGIN:STANDARD
TZOFFSETFROM:+1300
TZOFFSETTO:+1200
TZNAME:NZST
DTSTART:20250405T140000
END:STANDARD
BEGIN:DAYLIGHT
TZOFFSETFROM:+1200
TZOFFSETTO:+1300
TZNAME:NZDT
DTSTART:20250927T140000
END:DAYLIGHT
END:VTIMEZONE
BEGIN:VEVENT
DTSTART;TZID=Pacific/Auckland:20250725T190000
DTEND;TZID=Pacific/Auckland:20250725T210000
DTSTAMP:20260423T193154
CREATED:20250630T214957Z
LAST-MODIFIED:20250630T214957Z
UID:3444-1753470000-1753477200@www.dalmatian.org.nz
SUMMARY:Open Evening Friday - Dalmatian Archive and Museum.
DESCRIPTION:Dalmatian Archive and Museum.\n\n\nOpen Evening Friday 25 July 20257pm to 9pm\n\n\nSomething there to delight and surprise you.\n\n\nCome along and see the splendid\, large (2m x 1m)\, black and white photo murals recently donated to the Archive and Museum.\n\n\nOne of the murals is an enlargement of an iconic Northwood brothers photo depicting a group of Dalmatian gum diggers posed at the edge of a gum hole in a swamp.
URL:https://www.dalmatian.org.nz/event/open-evening-friday-dalmatian-archive-and-museum/
LOCATION:Dalmatian Cultural Society\, 10 New North Rd. Eden Terrace\, Auckland\, New Zealand
ATTACH;FMTTYPE=image/png:https://www.dalmatian.org.nz/wp-content/uploads/2024/07/archives-and-meueum.png
END:VEVENT
END:VCALENDAR