BEGIN:VCALENDAR
VERSION:2.0
PRODID:-//Dalmatian Cultural Society - ECPv6.0.8//NONSGML v1.0//EN
CALSCALE:GREGORIAN
METHOD:PUBLISH
X-WR-CALNAME:Dalmatian Cultural Society
X-ORIGINAL-URL:https://www.dalmatian.org.nz
X-WR-CALDESC:Events for Dalmatian Cultural Society
REFRESH-INTERVAL;VALUE=DURATION:PT1H
X-Robots-Tag:noindex
X-PUBLISHED-TTL:PT1H
BEGIN:VTIMEZONE
TZID:Pacific/Auckland
BEGIN:STANDARD
TZOFFSETFROM:+1300
TZOFFSETTO:+1200
TZNAME:NZST
DTSTART:20250405T140000
END:STANDARD
BEGIN:DAYLIGHT
TZOFFSETFROM:+1200
TZOFFSETTO:+1300
TZNAME:NZDT
DTSTART:20250927T140000
END:DAYLIGHT
END:VTIMEZONE
BEGIN:VEVENT
DTSTART;TZID=Pacific/Auckland:20250706T140000
DTEND;TZID=Pacific/Auckland:20250706T163000
DTSTAMP:20260423T193155
CREATED:20250630T214834Z
LAST-MODIFIED:20250630T214834Z
UID:3441-1751810400-1751819400@www.dalmatian.org.nz
SUMMARY:Mystery Movies Afternoon - Dalmatian Archive and Museum
DESCRIPTION:Dalmatian Archive and Museum\nMystery Movies Afternoon\n2.00pm Sunday 6 July 2025\n\nWe have found some interesting recordings in our collection which deserve an airing. We are yet to make a final selection so it’s\n\n‘Mystery Movies’ in July at 2.00pm\n\nIf you have some historical family recordings to share please contact a committee member so that we can have them copied onto digital format.\n\nReminder: There will not be an August 2025 meeting
URL:https://www.dalmatian.org.nz/event/mystery-movies-afternoon-dalmatian-archive-and-museum/
LOCATION:Dalmatian Cultural Society\, 10 New North Rd. Eden Terrace\, Auckland\, New Zealand
ATTACH;FMTTYPE=image/jpeg:https://www.dalmatian.org.nz/wp-content/uploads/2025/07/DAM.jpg
END:VEVENT
END:VCALENDAR