BEGIN:VCALENDAR
VERSION:2.0
PRODID:-//Dalmatian Cultural Society - ECPv6.0.8//NONSGML v1.0//EN
CALSCALE:GREGORIAN
METHOD:PUBLISH
X-ORIGINAL-URL:https://www.dalmatian.org.nz
X-WR-CALDESC:Events for Dalmatian Cultural Society
REFRESH-INTERVAL;VALUE=DURATION:PT1H
X-Robots-Tag:noindex
X-PUBLISHED-TTL:PT1H
BEGIN:VTIMEZONE
TZID:Pacific/Auckland
BEGIN:STANDARD
TZOFFSETFROM:+1300
TZOFFSETTO:+1200
TZNAME:NZST
DTSTART:20250405T140000
END:STANDARD
BEGIN:DAYLIGHT
TZOFFSETFROM:+1200
TZOFFSETTO:+1300
TZNAME:NZDT
DTSTART:20250927T140000
END:DAYLIGHT
END:VTIMEZONE
BEGIN:VEVENT
DTSTART;TZID=Pacific/Auckland:20250607T193000
DTEND;TZID=Pacific/Auckland:20250607T233000
DTSTAMP:20260423T221428
CREATED:20250422T091711Z
LAST-MODIFIED:20250504T052224Z
UID:3380-1749324600-1749339000@www.dalmatian.org.nz
SUMMARY:Euro Summer Party
DESCRIPTION:For one night only\, we’re bringing the EURO SUMMER experience to you\, think coastal nightclubs\, island vibes\, and nonstop dance energy. Inspired by the viral TikTok trend\, we’re recreating the magic of an Adriatic summer party right here in Auckland.\nAll attendees MUST have their PHOTO ID with them. \nPlease email dcs.youthcommittee@gmail.com for any queries. \npurchase tickets here! https://www.trybooking.com/nz/WNW
URL:https://www.dalmatian.org.nz/event/euro-summer-party/
LOCATION:Dalmatian Cultural Society\, 10 New North Rd. Eden Terrace\, Auckland\, New Zealand
ATTACH;FMTTYPE=image/jpeg:https://www.dalmatian.org.nz/wp-content/uploads/2025/04/IMG_2268.jpeg
END:VEVENT
END:VCALENDAR