BEGIN:VCALENDAR
VERSION:2.0
PRODID:-//Dalmatian Cultural Society - ECPv6.0.8//NONSGML v1.0//EN
CALSCALE:GREGORIAN
METHOD:PUBLISH
X-ORIGINAL-URL:https://www.dalmatian.org.nz
X-WR-CALDESC:Events for Dalmatian Cultural Society
REFRESH-INTERVAL;VALUE=DURATION:PT1H
X-Robots-Tag:noindex
X-PUBLISHED-TTL:PT1H
BEGIN:VTIMEZONE
TZID:Pacific/Auckland
BEGIN:STANDARD
TZOFFSETFROM:+1300
TZOFFSETTO:+1200
TZNAME:NZST
DTSTART:20250405T140000
END:STANDARD
BEGIN:DAYLIGHT
TZOFFSETFROM:+1200
TZOFFSETTO:+1300
TZNAME:NZDT
DTSTART:20250927T140000
END:DAYLIGHT
END:VTIMEZONE
BEGIN:VEVENT
DTSTART;TZID=Pacific/Auckland:20250511T100000
DTEND;TZID=Pacific/Auckland:20250511T120000
DTSTAMP:20260423T225351
CREATED:20250409T234839Z
LAST-MODIFIED:20250409T234839Z
UID:3369-1746957600-1746964800@www.dalmatian.org.nz
SUMMARY:Mothers Day Brunch
DESCRIPTION:Bring the whole family along to our famous Mother’s Day Brunch\, to enjoy great food\, entertainment and brilliant company.What’s in store?A delicious hot buffet brunchEntertainmentKids’ craft table and balloonsFun and laughter\nBring the whole family and spoil mum on her special day. Contact us via email on events.dallyclub@gmail.com to book a large table.Book via try booking https://www.trybooking.com/nz/WEX
URL:https://www.dalmatian.org.nz/event/mothers-day-brunch-8/
LOCATION:Dalmatian Cultural Society\, 10 New North Rd. Eden Terrace\, Auckland\, New Zealand
ATTACH;FMTTYPE=image/png:https://www.dalmatian.org.nz/wp-content/uploads/2025/04/MOTHERS-DAY-2025.png
ORGANIZER;CN="Dalmatian%20Cultural%20Society":MAILTO:events.dallyclub@gmail.com
END:VEVENT
END:VCALENDAR