BEGIN:VCALENDAR
VERSION:2.0
PRODID:-//Dalmatian Cultural Society - ECPv6.0.8//NONSGML v1.0//EN
CALSCALE:GREGORIAN
METHOD:PUBLISH
X-ORIGINAL-URL:https://www.dalmatian.org.nz
X-WR-CALDESC:Events for Dalmatian Cultural Society
REFRESH-INTERVAL;VALUE=DURATION:PT1H
X-Robots-Tag:noindex
X-PUBLISHED-TTL:PT1H
BEGIN:VTIMEZONE
TZID:Pacific/Auckland
BEGIN:STANDARD
TZOFFSETFROM:+1300
TZOFFSETTO:+1200
TZNAME:NZST
DTSTART:20240406T140000
END:STANDARD
BEGIN:DAYLIGHT
TZOFFSETFROM:+1200
TZOFFSETTO:+1300
TZNAME:NZDT
DTSTART:20240928T140000
END:DAYLIGHT
END:VTIMEZONE
BEGIN:VEVENT
DTSTART;TZID=Pacific/Auckland:20241103T120000
DTEND;TZID=Pacific/Auckland:20241103T170000
DTSTAMP:20260424T075100
CREATED:20240924T014652Z
LAST-MODIFIED:20241027T204413Z
UID:3230-1730635200-1730653200@www.dalmatian.org.nz
SUMMARY:Ladies Lunch
DESCRIPTION:Come and join us for our legendary Ladies Lunch.\nWe are thrilled to have Rose Delegat from Delegat Wines as our Guest Speaker – hear her fascinating story starting with her parents emigrating from Croatia in 1947 and establishing a small vineyard in West Auckland. Delegat Wines is now a billion dollar business with famous brands such as Delegat and Oyster Bay.\nEnjoy a delicious buffet lunch\, entertainment\, the chance to win fantastic raffle prizes and more.\nTickets are limited and this event always sells out so be in quick. Bookings Essential! No door sales.\nBook online or see Julena on a Friday Night at the Club.\nhttps://www.trybooking.com/nz/TNJ\n  \n  \nBOOK NOW
URL:https://www.dalmatian.org.nz/event/ladies-lunch-4/
LOCATION:Dalmatian Cultural Society\, 10 New North Rd. Eden Terrace\, Auckland\, New Zealand
ATTACH;FMTTYPE=image/jpeg:https://www.dalmatian.org.nz/wp-content/uploads/2024/09/winebarrel-scaled.jpg
ORGANIZER;CN="Dalmatian%20Cultural%20Society":MAILTO:events.dallyclub@gmail.com
END:VEVENT
END:VCALENDAR