BEGIN:VCALENDAR
VERSION:2.0
PRODID:-//Dalmatian Cultural Society - ECPv6.0.8//NONSGML v1.0//EN
CALSCALE:GREGORIAN
METHOD:PUBLISH
X-WR-CALNAME:Dalmatian Cultural Society
X-ORIGINAL-URL:https://www.dalmatian.org.nz
X-WR-CALDESC:Events for Dalmatian Cultural Society
REFRESH-INTERVAL;VALUE=DURATION:PT1H
X-Robots-Tag:noindex
X-PUBLISHED-TTL:PT1H
BEGIN:VTIMEZONE
TZID:UTC
BEGIN:STANDARD
TZOFFSETFROM:+0000
TZOFFSETTO:+0000
TZNAME:UTC
DTSTART:20240101T000000
END:STANDARD
END:VTIMEZONE
BEGIN:VEVENT
DTSTART;TZID=UTC:20240908T140000
DTEND;TZID=UTC:20240908T160000
DTSTAMP:20260424T105323
CREATED:20240829T021638Z
LAST-MODIFIED:20240829T021638Z
UID:3222-1725804000-1725811200@www.dalmatian.org.nz
SUMMARY:DA&M meeting Michael Brajkovich
DESCRIPTION:Michael Brajkovich of Kumeu River Wines.\nMembers’ Lounge\, Villa Dalmacija\, 10 New North Road\, Eden Terrace\, Auckland.\n\nMichael’s father’s family came from Živogošće and through his mother\, he has links to Gradac and Majići (near Vrgorac).\nMichael will speak about his winemaking career.\nThis is a golden opportunity for anyone interested in wine and winemaking to hear from one of NZ’s best-qualified and experienced oenologists.
URL:https://www.dalmatian.org.nz/event/dam-meeting-michael-brajkovich/
LOCATION:Dalmatian Cultural Society\, 10 New North Rd. Eden Terrace\, Auckland\, New Zealand
ATTACH;FMTTYPE=image/png:https://www.dalmatian.org.nz/wp-content/uploads/2024/08/Michael-Brajkovich.png
END:VEVENT
END:VCALENDAR