BEGIN:VCALENDAR
VERSION:2.0
PRODID:-//Dalmatian Cultural Society - ECPv6.0.8//NONSGML v1.0//EN
CALSCALE:GREGORIAN
METHOD:PUBLISH
X-ORIGINAL-URL:https://www.dalmatian.org.nz
X-WR-CALDESC:Events for Dalmatian Cultural Society
REFRESH-INTERVAL;VALUE=DURATION:PT1H
X-Robots-Tag:noindex
X-PUBLISHED-TTL:PT1H
BEGIN:VTIMEZONE
TZID:UTC
BEGIN:STANDARD
TZOFFSETFROM:+0000
TZOFFSETTO:+0000
TZNAME:UTC
DTSTART:20240101T000000
END:STANDARD
END:VTIMEZONE
BEGIN:VEVENT
DTSTART;TZID=UTC:20240831T190000
DTEND;TZID=UTC:20240901T010000
DTSTAMP:20260424T105403
CREATED:20240626T041547Z
LAST-MODIFIED:20240718T053557Z
UID:3173-1725130800-1725152400@www.dalmatian.org.nz
SUMMARY:Mešallica LIVE
DESCRIPTION:We’re thrilled about Mešallica playing all your favorite tunes at the Club! Join us for an unforgettable night of live music. Our kitchen will be serving a selection of delicious Dalmatian cuisine\, and the bar will be fully stocked for your enjoyment.\nPurchase tickets $30 https://www.trybooking.com/nz/events/landing/12767
URL:https://www.dalmatian.org.nz/event/miesallica-live/
LOCATION:Dalmatian Cultural Society\, 10 New North Rd. Eden Terrace\, Auckland\, New Zealand
ATTACH;FMTTYPE=image/jpeg:https://www.dalmatian.org.nz/wp-content/uploads/2024/06/mesallica.jpg
END:VEVENT
END:VCALENDAR