BEGIN:VCALENDAR
VERSION:2.0
PRODID:-//Dalmatian Cultural Society - ECPv6.0.8//NONSGML v1.0//EN
CALSCALE:GREGORIAN
METHOD:PUBLISH
X-WR-CALNAME:Dalmatian Cultural Society
X-ORIGINAL-URL:https://www.dalmatian.org.nz
X-WR-CALDESC:Events for Dalmatian Cultural Society
REFRESH-INTERVAL;VALUE=DURATION:PT1H
X-Robots-Tag:noindex
X-PUBLISHED-TTL:PT1H
BEGIN:VTIMEZONE
TZID:UTC
BEGIN:STANDARD
TZOFFSETFROM:+0000
TZOFFSETTO:+0000
TZNAME:UTC
DTSTART:20230101T000000
END:STANDARD
END:VTIMEZONE
BEGIN:VEVENT
DTSTART;TZID=UTC:20231112T140000
DTEND;TZID=UTC:20231112T170000
DTSTAMP:20260425T013852
CREATED:20231030T193029Z
LAST-MODIFIED:20231030T193029Z
UID:3051-1699797600-1699808400@www.dalmatian.org.nz
SUMMARY:Finding Frank
DESCRIPTION:Dalmatian Archive and Museum Meeting \nSunday 12th November 2pm \n\nEnd of Year celebration  \n\nSpecial Guest Louise Maich  \n\nBook launch for  Finding Frank by Louise Maich. \n\nFrank Erceg (Louise’s uncle) was an amazing young man who achieved much in his short thirty years. He was a pioneer of helicopter deer shooting\, a mountaineer and photographer. \nThis hardback book is a fascinating and impressive tribute to a NZ hunting legend. It retails for $49.99. \nLouise will also cover the Erceg family history and Frank’s background and origins in her talk. \nYou are welcome to bring a plate to add to our End of Year celebration afternoon tea.
URL:https://www.dalmatian.org.nz/event/finding-frank/
LOCATION:Dalmatian Cultural Society\, 10 New North Rd. Eden Terrace\, Auckland\, New Zealand
ATTACH;FMTTYPE=image/png:https://www.dalmatian.org.nz/wp-content/uploads/2023/10/finding-frank.png
END:VEVENT
END:VCALENDAR