BEGIN:VCALENDAR
VERSION:2.0
PRODID:-//Dalmatian Cultural Society - ECPv6.0.8//NONSGML v1.0//EN
CALSCALE:GREGORIAN
METHOD:PUBLISH
X-ORIGINAL-URL:https://www.dalmatian.org.nz
X-WR-CALDESC:Events for Dalmatian Cultural Society
REFRESH-INTERVAL;VALUE=DURATION:PT1H
X-Robots-Tag:noindex
X-PUBLISHED-TTL:PT1H
BEGIN:VTIMEZONE
TZID:UTC
BEGIN:STANDARD
TZOFFSETFROM:+0000
TZOFFSETTO:+0000
TZNAME:UTC
DTSTART:20230101T000000
END:STANDARD
END:VTIMEZONE
BEGIN:VEVENT
DTSTART;TZID=UTC:20230514T100000
DTEND;TZID=UTC:20230514T123000
DTSTAMP:20260425T111638
CREATED:20230422T041955Z
LAST-MODIFIED:20230422T041955Z
UID:2904-1684058400-1684067400@www.dalmatian.org.nz
SUMMARY:Mothers Day Brunch
DESCRIPTION:Treat the mama in your family and enjoy a delicious Croatian-inspired brunch.\nEntertainment for the little ones\, so you can relax a bit as well.\n\nBookings are essential for this event as we book up easily.\nemail events.dallyclub@gmail.com\ntext 0274281922\nphone Vojna 09 818 5497\n$30 or children under 12- $10\n\nSend us a photo of your mama and we will include it in our slideshow.
URL:https://www.dalmatian.org.nz/event/mothers-day-brunch-6/
LOCATION:Dalmatian Cultural Society\, 10 New North Rd. Eden Terrace\, Auckland\, New Zealand
ATTACH;FMTTYPE=image/png:https://www.dalmatian.org.nz/wp-content/uploads/2023/04/Untitled-design-3.png
ORGANIZER;CN="Dalmatian%20Cultural%20Society":MAILTO:events.dallyclub@gmail.com
END:VEVENT
END:VCALENDAR