BEGIN:VCALENDAR
VERSION:2.0
PRODID:-//Dalmatian Cultural Society - ECPv6.0.8//NONSGML v1.0//EN
CALSCALE:GREGORIAN
METHOD:PUBLISH
X-ORIGINAL-URL:https://www.dalmatian.org.nz
X-WR-CALDESC:Events for Dalmatian Cultural Society
REFRESH-INTERVAL;VALUE=DURATION:PT1H
X-Robots-Tag:noindex
X-PUBLISHED-TTL:PT1H
BEGIN:VTIMEZONE
TZID:UTC
BEGIN:STANDARD
TZOFFSETFROM:+0000
TZOFFSETTO:+0000
TZNAME:UTC
DTSTART:20230101T000000
END:STANDARD
END:VTIMEZONE
BEGIN:VEVENT
DTSTART;TZID=UTC:20230423T140000
DTEND;TZID=UTC:20230423T170000
DTSTAMP:20260425T125529
CREATED:20230418T070039Z
LAST-MODIFIED:20230418T070039Z
UID:2902-1682258400-1682269200@www.dalmatian.org.nz
SUMMARY:Members Meeting
DESCRIPTION:Agenda \n\nMoments of Silence for deceased members\n         Apologies.\n         Minutes of the last Members’ Meeting: 25 September 2022\n         Correspondence\n           Treasurer’s Report.\nOverseer’s Report\nNelson Buildings Report\n            Dalmatian Archive and Museum Report.\n          Folklore and Language Report.\n          Events Report\n          Planning and Development Report.\nFacilities Report\n       Health and Safety Report\nYouth Report\nGeneral Business\n\n  \nPlease take the time to attend\, as your presence and input is important to the future of the Society. \nOnly full financial members of the Dalmatinsko Kulturno Društvo 2023-2024 may attend this meeting.   \nPlease bring your Membership card with you.
URL:https://www.dalmatian.org.nz/event/members-meeting-4/
LOCATION:Dalmatian Cultural Society\, 10 New North Rd. Eden Terrace\, Auckland\, New Zealand
ATTACH;FMTTYPE=image/jpeg:https://www.dalmatian.org.nz/wp-content/uploads/2019/05/meetings.jpg
END:VEVENT
END:VCALENDAR