BEGIN:VCALENDAR
VERSION:2.0
PRODID:-//Dalmatian Cultural Society - ECPv6.0.8//NONSGML v1.0//EN
CALSCALE:GREGORIAN
METHOD:PUBLISH
X-WR-CALNAME:Dalmatian Cultural Society
X-ORIGINAL-URL:https://www.dalmatian.org.nz
X-WR-CALDESC:Events for Dalmatian Cultural Society
REFRESH-INTERVAL;VALUE=DURATION:PT1H
X-Robots-Tag:noindex
X-PUBLISHED-TTL:PT1H
BEGIN:VTIMEZONE
TZID:UTC
BEGIN:STANDARD
TZOFFSETFROM:+0000
TZOFFSETTO:+0000
TZNAME:UTC
DTSTART:20230101T000000
END:STANDARD
END:VTIMEZONE
BEGIN:VEVENT
DTSTART;TZID=UTC:20230318T180000
DTEND;TZID=UTC:20230318T220000
DTSTAMP:20260425T143458
CREATED:20230111T004553Z
LAST-MODIFIED:20230208T235636Z
UID:2840-1679162400-1679176800@www.dalmatian.org.nz
SUMMARY:Quiz Night
DESCRIPTION:Get your team together and head along for dinner and a quiz. Max 8 people per team. If you don’t have a team we can add you to one. Please book or enquire to events.dallyclub@gmail.com .Doors open at 6pm\, quiz starts at 7pm.\n$40 per person\, includes dinner\n 
URL:https://www.dalmatian.org.nz/event/quizz-night/
LOCATION:Dalmatian Cultural Society\, 10 New North Rd. Eden Terrace\, Auckland\, New Zealand
CATEGORIES:Dinner
ATTACH;FMTTYPE=image/png:https://www.dalmatian.org.nz/wp-content/uploads/2023/01/Quiz-Night-18-March-.png
ORGANIZER;CN="Dalmatian%20Cultural%20Society":MAILTO:events.dallyclub@gmail.com
END:VEVENT
END:VCALENDAR