BEGIN:VCALENDAR
VERSION:2.0
PRODID:-//Dalmatian Cultural Society - ECPv6.0.8//NONSGML v1.0//EN
CALSCALE:GREGORIAN
METHOD:PUBLISH
X-ORIGINAL-URL:https://www.dalmatian.org.nz
X-WR-CALDESC:Events for Dalmatian Cultural Society
REFRESH-INTERVAL;VALUE=DURATION:PT1H
X-Robots-Tag:noindex
X-PUBLISHED-TTL:PT1H
BEGIN:VTIMEZONE
TZID:UTC
BEGIN:STANDARD
TZOFFSETFROM:+0000
TZOFFSETTO:+0000
TZNAME:UTC
DTSTART:20220101T000000
END:STANDARD
END:VTIMEZONE
BEGIN:VEVENT
DTSTART;TZID=UTC:20220508T100000
DTEND;TZID=UTC:20220508T120000
DTSTAMP:20260426T064308
CREATED:20220504T035749Z
LAST-MODIFIED:20220504T035959Z
UID:2631-1652004000-1652011200@www.dalmatian.org.nz
SUMMARY:Mothers Day Brunch
DESCRIPTION:Bookings are essential for this popular event. Bring all ages\, from littles to very old\, and celebrate the mamas in your life with a delicious breakfast.\nBook with Vojna 09 818 5497 or\nJulena 0274281922 julenaworld@me.com
URL:https://www.dalmatian.org.nz/event/mothers-day-brunch-5/
LOCATION:Dalmatian Cultural Society\, 10 New North Rd. Eden Terrace\, Auckland\, New Zealand
ATTACH;FMTTYPE=image/jpeg:https://www.dalmatian.org.nz/wp-content/uploads/2022/05/fall-flowers-1080x567.jpg
END:VEVENT
END:VCALENDAR