BEGIN:VCALENDAR
VERSION:2.0
PRODID:-//Dalmatian Cultural Society - ECPv6.0.8//NONSGML v1.0//EN
CALSCALE:GREGORIAN
METHOD:PUBLISH
X-ORIGINAL-URL:https://www.dalmatian.org.nz
X-WR-CALDESC:Events for Dalmatian Cultural Society
REFRESH-INTERVAL;VALUE=DURATION:PT1H
X-Robots-Tag:noindex
X-PUBLISHED-TTL:PT1H
BEGIN:VTIMEZONE
TZID:UTC
BEGIN:STANDARD
TZOFFSETFROM:+0000
TZOFFSETTO:+0000
TZNAME:UTC
DTSTART:20220101T000000
END:STANDARD
END:VTIMEZONE
BEGIN:VEVENT
DTSTART;TZID=UTC:20220327T110000
DTEND;TZID=UTC:20220327T140000
DTSTAMP:20260426T094416
CREATED:20220216T223900Z
LAST-MODIFIED:20220216T223900Z
UID:2590-1648378800-1648389600@www.dalmatian.org.nz
SUMMARY:Pršule and Kroštule Baking Class
DESCRIPTION:Ever wanted to learn how to make some of those delicious Croatian treats and cakes? Now you can come in and learn from the experts!\nTo kick off our series\, we will start with Prsule and Kroštule\, two of our most popular. Be prepared for getting your hands messy\, a lot of rolling\, and some arguing about the correct name and recipe.\nWe will start at 11am and then open up the clubrooms for afternoon tea for all at 2pm\nPrice $25 which gives you all the ingredients and tuition.\nPlease book your spot by emailing julenaworld@me.com or texting/calling Julena 0274281922\n\nPlease remember that in order to have these fun events at our club\, you must show your vaccine pass on entry.\nThan k You
URL:https://www.dalmatian.org.nz/event/prsule-and-krostule-baking-class/
LOCATION:Dalmatian Cultural Society\, 10 New North Rd. Eden Terrace\, Auckland\, New Zealand
CATEGORIES:Class
ATTACH;FMTTYPE=image/png:https://www.dalmatian.org.nz/wp-content/uploads/2022/02/Prsule-Krustule-Class-27th-March.png
ORGANIZER;CN="Dalmatian%20Cultural%20Society":MAILTO:events.dallyclub@gmail.com
END:VEVENT
END:VCALENDAR