BEGIN:VCALENDAR
VERSION:2.0
PRODID:-//Dalmatian Cultural Society - ECPv6.0.8//NONSGML v1.0//EN
CALSCALE:GREGORIAN
METHOD:PUBLISH
X-WR-CALNAME:Dalmatian Cultural Society
X-ORIGINAL-URL:https://www.dalmatian.org.nz
X-WR-CALDESC:Events for Dalmatian Cultural Society
REFRESH-INTERVAL;VALUE=DURATION:PT1H
X-Robots-Tag:noindex
X-PUBLISHED-TTL:PT1H
BEGIN:VTIMEZONE
TZID:UTC
BEGIN:STANDARD
TZOFFSETFROM:+0000
TZOFFSETTO:+0000
TZNAME:UTC
DTSTART:20220101T000000
END:STANDARD
END:VTIMEZONE
BEGIN:VEVENT
DTSTART;TZID=UTC:20220322T093000
DTEND;TZID=UTC:20220322T113000
DTSTAMP:20260426T094423
CREATED:20220216T224325Z
LAST-MODIFIED:20220313T235637Z
UID:2595-1647941400-1647948600@www.dalmatian.org.nz
SUMMARY:Family Morning Teas - POSTPONED
DESCRIPTION:POSTPONED DUE TO COVID. \n\nWe would like to open up the members’ lounge for an informal morning tea space where you can bring your toddlers\, your parents\, grandparents\, or just yourself. Tea\, Coffee\, and a little baking will be provided\, as well as toddler toys and art pens\, and paper. Please feel free to bring a plate to share or for your group\,\nParking is available in the spots marked Dalmatian Cultural Society.\n\nPlease call Julena 0274281922 or Veronica 021310044 if you have any questions or are keen to come along. If this proves popular\, we can do it more often
URL:https://www.dalmatian.org.nz/event/family-morning-teas/
LOCATION:Dalmatian Cultural Society\, 10 New North Rd. Eden Terrace\, Auckland\, New Zealand
ATTACH;FMTTYPE=image/jpeg:https://www.dalmatian.org.nz/wp-content/uploads/2022/02/Morning_Tea_04.jpg
ORGANIZER;CN="Dalmatian%20Cultural%20Society":MAILTO:events.dallyclub@gmail.com
END:VEVENT
END:VCALENDAR