BEGIN:VCALENDAR
VERSION:2.0
PRODID:-//Dalmatian Cultural Society - ECPv6.0.8//NONSGML v1.0//EN
CALSCALE:GREGORIAN
METHOD:PUBLISH
X-ORIGINAL-URL:https://www.dalmatian.org.nz
X-WR-CALDESC:Events for Dalmatian Cultural Society
REFRESH-INTERVAL;VALUE=DURATION:PT1H
X-Robots-Tag:noindex
X-PUBLISHED-TTL:PT1H
BEGIN:VTIMEZONE
TZID:UTC
BEGIN:STANDARD
TZOFFSETFROM:+0000
TZOFFSETTO:+0000
TZNAME:UTC
DTSTART:20220101T000000
END:STANDARD
END:VTIMEZONE
BEGIN:VEVENT
DTSTART;TZID=UTC:20220313T140000
DTEND;TZID=UTC:20220313T170000
DTSTAMP:20260426T095948
CREATED:20220216T224059Z
LAST-MODIFIED:20220228T005834Z
UID:2593-1647180000-1647190800@www.dalmatian.org.nz
SUMMARY:Welcome Back Afternoon Tea
DESCRIPTION:*****POSTPONED TILL ORANGE*****\nFingers crossed we will be able to host an afternoon tea for welcoming back everyone into our clubrooms after the Christmas Break.\nWhilst we are in red\, the limit is 100 so RSVP to secure your seat.\nFamily-friendly\, everyone welcome
URL:https://www.dalmatian.org.nz/event/welcome-back-afternoon-tea/
LOCATION:Dalmatian Cultural Society\, 10 New North Rd. Eden Terrace\, Auckland\, New Zealand
CATEGORIES:afternoon tea
ATTACH;FMTTYPE=image/jpeg:https://www.dalmatian.org.nz/wp-content/uploads/2021/06/183457476_10160523279800701_4752483664054654281_n.jpg
ORGANIZER;CN="Dalmatian%20Cultural%20Society":MAILTO:events.dallyclub@gmail.com
END:VEVENT
END:VCALENDAR